Workbook

Sheet Index_Brijesh
Q1: Current Version | R1: 3
Q2: Made On :- | R2: 45575
Q3: Update On :- | R3: 45940
A4: 1 | B4: આકષર્ક તમામ પ્રિન્ટ પેજ બોર્ડર સાથે સૌ પ્રથમ વાર Excel માં. | D4: 1.આ સોફ્ટવેરમાં ફોન્ટ SHREE_GUJ_OTF_0750 વાપરવામાં આવેલ છે. જેથી ફોન્ટ સૌ પ્રથમ ડાઉનલોડ કરી પછી જ ફાઈલ open કરવી.
Q5: આવી અલગ અલગ ફાઈલ તેમજ અપડેટ ફાઈલ મેળવવા નીચેની લિંક પર ક્લિક કરી વોટ્સ અપ ગ્રુપમાં જોઈન થઇ જાઓ.
A6: 2 | B6: જ્યાં માહિતી ભરવાની થાય છે ત્યાં પ્રત્યેક cell માં સમજૂતી આપેલ છે. | D6: 2. દરેક શીટ પર જવા માટે બાજુમાં આપેલ બટનનો ઉપયોગ કરવો.
Q7: https://chat.whatsapp.com/DNQ8guLr9uGFARwSJZrYMu
A8: 3 | B8: તમામ માહિતી માટે ખૂબ જ ચોક્કસાઈ રહે તે માટે યોગ્ય ડેટા એન્ટ્રી પરcell વાઈઝ પ્રોટેકશન રાખવામાં આવેલ છે. | D8: 3. સૌ પ્રથમ DataEntry શીટ પર જવું
A10: 4 | B10: રજીસ્ટર સંખ્યા મુજબ જ દરેક ધોરણ ની રો ખૂલશે. | D10: 4. ત્યારબાદ DataEntry શીટ પરની માહિતી ચોકસાઈ પૂર્વક ભરવી.
A12: 5 | B12: બાળકોની માર્કશીટમાં ધોરણ ૮ માટે પાસ/ નાપાસ તેમજ વિકલાંગ બાળકો માટે ૨૦% પાસની સગવડ | D12: 5. ત્યારબાદ તમામ વિષયનાં ગુણ અને પત્રક B ના ગુણની માહિતી ભરવી.
A14: 6 | B14: અન્ય ધોરણ માટે બે વિષયથી વધારે E ગ્રેડ હોય તો વર્ગ બઢતી ની માહિતી આપતું પરિણામ પત્રક | D14: 6. ત્યારબાદ જ માર્કશીટ ( પત્રક F ), ટાઈટલ પેજ, તેમજ અન્ય તમામ પત્રકો પ્રિન્ટ કરવા.
A16: 7 | B16: રજીસ્ટર સંખ્યા મુજબ જ દરેક ધોરણ ની રો ખૂલશે. | D16: 7. માહિતી કોપી પેસ્ટ કરવાની થાય ત્યારે Paste Special માં Paste Value કરવું.
A18: 8 | B18: પત્રક C બંને સત્ર માટે. પત્રક F એક પેજ માં બે પરિણામ | D18: 8. દરેક Cell પર આપવામાં આવેલ Comments અવશ્ય વાંચવી અને તેને અનુસરવું.
A20: 9 | B20: સત્ર વાઈઝ તમામ પરિણામ તેમજ તેનું વિશ્લેષણ | D20: 9. જો તારીખ લખવામાં એરર આવે તો તમારા કમ્પ્યુટરનું તારીખ ફોરમેટ DD-MM-YYYY કરી દો.
A22: 10 | B22: સત્ર વાઈઝ અને કેટેગરી ( જાતિ ) વાઈઝ ગ્રેડનું વિશ્લેષણ
A24: 11 | B24: સત્ર વાઈઝ અને વિષય વાઈઝ ગ્રેડનું વિશ્લેષણ
A26: 12 | B26: FLN માટે સત્ર વાઈઝ એક્શન પ્લાન પત્રક
A28: 13 | B28: પ્રથમ ત્રણ નંબરે આવતા બાળકોની ગુણ,ગ્રેડ,ટકા દશાવતું પત્રક - સત્ર ૧ અને સત્ર ૨
A30: 14 | B30: ધોરણ ૮ ના પરિણામની સાથે સાથે પત્રક G
A32: 15 | B32: એક પણ કોલમની માહિતી બાકી હશે તો પરિણામ બતાવશે નહી જેથી ચોક્કસાઈ વધુ રહે.

Sheet PROBLEMS
A2: સોફ્ટવેર વાપરતી વખતે આવતી સમસ્યાઓ અને તેની સામે નિવારણ
A4: સમસ્યા - જન્મ તારીખ DD MM YYYY પ્રમાણે લેતું નથી
A5: ઉકેલ - તમારા કોમ્પ્યુટરનું તારીખ નું ફોર્મેટ DD MM YYYY મુજબ કરો.
A7: સમસ્યા - પત્રક C મા ટકાવારી 100 કરતા વધારે બતાવે છે.
A8: ઉકેલ - નવી અદ્યતન ફાઈલ વાપરો.
A10: સમસ્યા - પત્રક F માં જિલ્લા શિક્ષણ સમિતિ ગાંધીનગર જ રહે છે
A11: ઉકેલ - નવી અદ્યતન ફાઈલ વાપરો.
A13: સમસ્યા - પત્રક C માં ટકાવારી અને પાસ નંબર પ્રિન્ટમાં આવતી નથી
A14: ઉકેલ - જીસીઇઆરટી ના નિયમ મુજબ તે પ્રિન્ટમાં લઈ શકાય નહીં.
A16: સમસ્યા - પત્રક C ના ફ્રન્ટ પેજમાં ગ્રેડ અલગ અલગ આવે છે.
A17: ઉકેલ - સત્ર 1 છે ત્યાં સત્ર 2 કરો.
A19: સમસ્યા - સત્ર 1 અને સત્ર 2 ના ગ્રેડ સરાસરી 0 કે ખોટી બતાવે છે.
... A53: By Brijesh Patel

Sheet Data Entry
A2: શાળા નું નામ :- | B2: કુવાદરા પ્રાથમિક શાળા | C2: ગામ/શહેર નું નામ :- | D2: કુવાદરા | E2: પે સેન્ટર નું નામ :- | F2: લોદરા | G2: સી.આર.સી. :- | H2: લોદરા | I2: ધોરણ :- | J2: 3 | K2: વર્ગ શિક્ષકશ્રીનું નામ :- | L2: પટેલ બ્રિજેશકુમાર કે. | O2: શાળા ઉઘડવાની તારીખ :- | Q2: 09-06-2025 | R2: શાળા ઉઘડવાનો સમય :- | T2: 07:00 AM | V2: =Q2&" "&T2 -> 09-06-2025 07:00 AM
A3: તાલુકો :- | B3: માણસા | C3: જિલ્લો :- | D3: ગાંધીનગર | E3: વર્ષ :- | F3: 2025 | G3: - | H3: 2026 | I3: વર્ગ :- | J3: અ
A4: પરિણામની તારીખ :- | B4: 45447 | C4: સમિતિ | D4: જીલ્લા શિક્ષણ સમિતિ | F4: શાળા ડાયસ કોડ :- | G4: 24060404501 | I4: વર્ગની રજીસ્ટર સંખ્યા :- | J4: 60
A5: માહિતી Copy-Paste ના કરશો. માહિતી Copy કરીને Paste Special પર જઈ Value and Value Formatrs કરવું.
A7: ક્રમ | B7: વિદ્યાર્થીનું નામ | C7: જી.આર.નંબર | D7: જન્મ તારીખ | E7: સરનામું | F7: પિતાનું નામ | G7: માતા નું નામ | H7: સંપર્ક નંબર | I7: યુનિક આઈડી નંબર (શરૂના ૧૧ અંક) | J7: યુનિક આઈડી નંબર (છેલ્લા ૭ અંક) | K7: જાતિ | L7: કુમાર/કન્યા
A8: =IF(J4>0,1,"") -> 1 | B8: પટેલ બ્રિજેશકુમાર કાળાભાઈ | C8: 10251 | D8: 40544 | E8: અંબિકાનગર | F8: કાળાભાઈ | G8: કોકિલાબેન | H8: 7778031603 | I8: 24060404501 | J8: 1510001 | K8: GEN | L8: Boy | M8: =I8&" "&J8 -> 24060404501 1510001
A9: =IF($J$4>A8,A8+1,"") -> 2 | M9: =I9&" "&J9
A10: =IF($J$4>A9,A9+1,"") -> 3 | M10: =I10&" "&J10
A11: =IF($J$4>A10,A10+1,"") -> 4 | M11: =I11&" "&J11
A12: =IF($J$4>A11,A11+1,"") -> 5 | M12: =I12&" "&J12
A13: =IF($J$4>A12,A12+1,"") -> 6 | M13: =I13&" "&J13
A14: =IF($J$4>A13,A13+1,"") -> 7 | M14: =I14&" "&J14
A15: =IF($J$4>A14,A14+1,"") -> 8 | M15: =I15&" "&J15
A16: =IF($J$4>A15,A15+1,"") -> 9 | M16: =I16&" "&J16
A17: =IF($J$4>A16,A16+1,"") -> 10 | M17: =I17&" "&J17
A18: =IF($J$4>A17,A17+1,"") -> 11 | M18: =I18&" "&J18
A19: =IF($J$4>A18,A18+1,"") -> 12 | M19: =I19&" "&J19
A20: =IF($J$4>A19,A19+1,"") -> 13 | M20: =I20&" "&J20
... A67: =IF($J$4>A66,A66+1,"") -> 60 | M67: =I67&" "&J67

Sheet Gujarati
A1: ગુજરાતી
D2: સત્ર - 1 | H2: સત્ર - 2
A3: ક્રમ | B3: વિદ્યાર્થીનું નામ | D3: ત્રિમાસિક કસોટી ( 40 ) | E3: સત્રાંત મૂલ્યાંકન ( 40 ) | F3: સ્વ-અધ્યયન કાર્ય ( 20 ) | H3: ત્રિમાસિક કસોટી ( 40 ) | I3: સત્રાંત મૂલ્યાંકન ( 40 ) | J3: સ્વ-અધ્યયન કાર્ય ( 20 )
A4: =IF('Data Entry'!A8="","",'Data Entry'!A8) -> 1 | B4: =IF('Data Entry'!B8="","",'Data Entry'!B8) -> પટેલ બ્રિજેશકુમાર કાળાભાઈ | D4: 32 | E4: 36 | F4: 18 | H4: 25 | I4: 32 | J4: 18
A5: =IF('Data Entry'!A9="","",'Data Entry'!A9) -> 2 | B5: =IF('Data Entry'!B9="","",'Data Entry'!B9)
A6: =IF('Data Entry'!A10="","",'Data Entry'!A10) -> 3 | B6: =IF('Data Entry'!B10="","",'Data Entry'!B10)
A7: =IF('Data Entry'!A11="","",'Data Entry'!A11) -> 4 | B7: =IF('Data Entry'!B11="","",'Data Entry'!B11)
A8: =IF('Data Entry'!A12="","",'Data Entry'!A12) -> 5 | B8: =IF('Data Entry'!B12="","",'Data Entry'!B12)
A9: =IF('Data Entry'!A13="","",'Data Entry'!A13) -> 6 | B9: =IF('Data Entry'!B13="","",'Data Entry'!B13)
A10: =IF('Data Entry'!A14="","",'Data Entry'!A14) -> 7 | B10: =IF('Data Entry'!B14="","",'Data Entry'!B14)
A11: =IF('Data Entry'!A15="","",'Data Entry'!A15) -> 8 | B11: =IF('Data Entry'!B15="","",'Data Entry'!B15)
A12: =IF('Data Entry'!A16="","",'Data Entry'!A16) -> 9 | B12: =IF('Data Entry'!B16="","",'Data Entry'!B16)
A13: =IF('Data Entry'!A17="","",'Data Entry'!A17) -> 10 | B13: =IF('Data Entry'!B17="","",'Data Entry'!B17)
A14: =IF('Data Entry'!A18="","",'Data Entry'!A18) -> 11 | B14: =IF('Data Entry'!B18="","",'Data Entry'!B18)
A15: =IF('Data Entry'!A19="","",'Data Entry'!A19) -> 12 | B15: =IF('Data Entry'!B19="","",'Data Entry'!B19)
A16: =IF('Data Entry'!A20="","",'Data Entry'!A20) -> 13 | B16: =IF('Data Entry'!B20="","",'Data Entry'!B20)
... A63: =IF('Data Entry'!A67="","",'Data Entry'!A67) -> 60 | B63: =IF('Data Entry'!B67="","",'Data Entry'!B67)

Sheet Maths
A1: ગણિત
D2: સત્ર - 1 | H2: સત્ર - 2
A3: ક્રમ | B3: વિદ્યાર્થીનું નામ | D3: ત્રિમાસિક કસોટી ( 40 ) | E3: સત્રાંત મૂલ્યાંકન ( 40 ) | F3: સ્વ-અધ્યયન કાર્ય ( 20 ) | H3: ત્રિમાસિક કસોટી ( 40 ) | I3: સત્રાંત મૂલ્યાંકન ( 40 ) | J3: સ્વ-અધ્યયન કાર્ય ( 20 )
A4: =IF('Data Entry'!A8="","",'Data Entry'!A8) -> 1 | B4: =IF('Data Entry'!B8="","",'Data Entry'!B8) -> પટેલ બ્રિજેશકુમાર કાળાભાઈ | D4: 40 | E4: 28 | F4: 12 | H4: 36 | I4: 37 | J4: 19
A5: =IF('Data Entry'!A9="","",'Data Entry'!A9) -> 2 | B5: =IF('Data Entry'!B9="","",'Data Entry'!B9)
A6: =IF('Data Entry'!A10="","",'Data Entry'!A10) -> 3 | B6: =IF('Data Entry'!B10="","",'Data Entry'!B10)
A7: =IF('Data Entry'!A11="","",'Data Entry'!A11) -> 4 | B7: =IF('Data Entry'!B11="","",'Data Entry'!B11)
A8: =IF('Data Entry'!A12="","",'Data Entry'!A12) -> 5 | B8: =IF('Data Entry'!B12="","",'Data Entry'!B12)
A9: =IF('Data Entry'!A13="","",'Data Entry'!A13) -> 6 | B9: =IF('Data Entry'!B13="","",'Data Entry'!B13)
A10: =IF('Data Entry'!A14="","",'Data Entry'!A14) -> 7 | B10: =IF('Data Entry'!B14="","",'Data Entry'!B14)
A11: =IF('Data Entry'!A15="","",'Data Entry'!A15) -> 8 | B11: =IF('Data Entry'!B15="","",'Data Entry'!B15)
A12: =IF('Data Entry'!A16="","",'Data Entry'!A16) -> 9 | B12: =IF('Data Entry'!B16="","",'Data Entry'!B16)
A13: =IF('Data Entry'!A17="","",'Data Entry'!A17) -> 10 | B13: =IF('Data Entry'!B17="","",'Data Entry'!B17)
A14: =IF('Data Entry'!A18="","",'Data Entry'!A18) -> 11 | B14: =IF('Data Entry'!B18="","",'Data Entry'!B18)
A15: =IF('Data Entry'!A19="","",'Data Entry'!A19) -> 12 | B15: =IF('Data Entry'!B19="","",'Data Entry'!B19)
A16: =IF('Data Entry'!A20="","",'Data Entry'!A20) -> 13 | B16: =IF('Data Entry'!B20="","",'Data Entry'!B20)
... A63: =IF('Data Entry'!A67="","",'Data Entry'!A67) -> 60 | B63: =IF('Data Entry'!B67="","",'Data Entry'!B67)

Sheet English
A1: અંગ્રેજી
D2: સત્ર - 1 | H2: સત્ર - 2
A3: ક્રમ | B3: વિદ્યાર્થીનું નામ | D3: ત્રિમાસિક કસોટી ( 40 ) | E3: સત્રાંત મૂલ્યાંકન ( 40 ) | F3: સ્વ-અધ્યયન કાર્ય ( 20 ) | H3: ત્રિમાસિક કસોટી ( 40 ) | I3: સત્રાંત મૂલ્યાંકન ( 40 ) | J3: સ્વ-અધ્યયન કાર્ય ( 20 )
A4: =IF('Data Entry'!A8="","",'Data Entry'!A8) -> 1 | B4: =IF('Data Entry'!B8="","",'Data Entry'!B8) -> પટેલ બ્રિજેશકુમાર કાળાભાઈ | D4: 35 | E4: 36 | F4: 18 | H4: 34 | I4: 32 | J4: 17
A5: =IF('Data Entry'!A9="","",'Data Entry'!A9) -> 2 | B5: =IF('Data Entry'!B9="","",'Data Entry'!B9)
A6: =IF('Data Entry'!A10="","",'Data Entry'!A10) -> 3 | B6: =IF('Data Entry'!B10="","",'Data Entry'!B10)
A7: =IF('Data Entry'!A11="","",'Data Entry'!A11) -> 4 | B7: =IF('Data Entry'!B11="","",'Data Entry'!B11)
A8: =IF('Data Entry'!A12="","",'Data Entry'!A12) -> 5 | B8: =IF('Data Entry'!B12="","",'Data Entry'!B12)
A9: =IF('Data Entry'!A13="","",'Data Entry'!A13) -> 6 | B9: =IF('Data Entry'!B13="","",'Data Entry'!B13)
A10: =IF('Data Entry'!A14="","",'Data Entry'!A14) -> 7 | B10: =IF('Data Entry'!B14="","",'Data Entry'!B14)
A11: =IF('Data Entry'!A15="","",'Data Entry'!A15) -> 8 | B11: =IF('Data Entry'!B15="","",'Data Entry'!B15)
A12: =IF('Data Entry'!A16="","",'Data Entry'!A16) -> 9 | B12: =IF('Data Entry'!B16="","",'Data Entry'!B16)
A13: =IF('Data Entry'!A17="","",'Data Entry'!A17) -> 10 | B13: =IF('Data Entry'!B17="","",'Data Entry'!B17)
A14: =IF('Data Entry'!A18="","",'Data Entry'!A18) -> 11 | B14: =IF('Data Entry'!B18="","",'Data Entry'!B18)
A15: =IF('Data Entry'!A19="","",'Data Entry'!A19) -> 12 | B15: =IF('Data Entry'!B19="","",'Data Entry'!B19)
A16: =IF('Data Entry'!A20="","",'Data Entry'!A20) -> 13 | B16: =IF('Data Entry'!B20="","",'Data Entry'!B20)
... A63: =IF('Data Entry'!A67="","",'Data Entry'!A67) -> 60 | B63: =IF('Data Entry'!B67="","",'Data Entry'!B67)

Sheet Evs
A1: સૌની આસપાસ (પર્યાવરણ)
D2: સત્ર - 1 | H2: સત્ર - 2
A3: ક્રમ | B3: વિદ્યાર્થીનું નામ | D3: ત્રિમાસિક કસોટી ( 40 ) | E3: સત્રાંત મૂલ્યાંકન ( 40 ) | F3: સ્વ-અધ્યયન કાર્ય ( 20 ) | H3: ત્રિમાસિક કસોટી ( 40 ) | I3: સત્રાંત મૂલ્યાંકન ( 40 ) | J3: સ્વ-અધ્યયન કાર્ય ( 20 )
A4: =IF('Data Entry'!A8="","",'Data Entry'!A8) -> 1 | B4: =IF('Data Entry'!B8="","",'Data Entry'!B8) -> પટેલ બ્રિજેશકુમાર કાળાભાઈ | D4: 34 | E4: 32 | F4: 18 | H4: 40 | I4: 39 | J4: 19
A5: =IF('Data Entry'!A9="","",'Data Entry'!A9) -> 2 | B5: =IF('Data Entry'!B9="","",'Data Entry'!B9)
A6: =IF('Data Entry'!A10="","",'Data Entry'!A10) -> 3 | B6: =IF('Data Entry'!B10="","",'Data Entry'!B10)
A7: =IF('Data Entry'!A11="","",'Data Entry'!A11) -> 4 | B7: =IF('Data Entry'!B11="","",'Data Entry'!B11)
A8: =IF('Data Entry'!A12="","",'Data Entry'!A12) -> 5 | B8: =IF('Data Entry'!B12="","",'Data Entry'!B12)
A9: =IF('Data Entry'!A13="","",'Data Entry'!A13) -> 6 | B9: =IF('Data Entry'!B13="","",'Data Entry'!B13)
A10: =IF('Data Entry'!A14="","",'Data Entry'!A14) -> 7 | B10: =IF('Data Entry'!B14="","",'Data Entry'!B14)
A11: =IF('Data Entry'!A15="","",'Data Entry'!A15) -> 8 | B11: =IF('Data Entry'!B15="","",'Data Entry'!B15)
A12: =IF('Data Entry'!A16="","",'Data Entry'!A16) -> 9 | B12: =IF('Data Entry'!B16="","",'Data Entry'!B16)
A13: =IF('Data Entry'!A17="","",'Data Entry'!A17) -> 10 | B13: =IF('Data Entry'!B17="","",'Data Entry'!B17)
A14: =IF('Data Entry'!A18="","",'Data Entry'!A18) -> 11 | B14: =IF('Data Entry'!B18="","",'Data Entry'!B18)
A15: =IF('Data Entry'!A19="","",'Data Entry'!A19) -> 12 | B15: =IF('Data Entry'!B19="","",'Data Entry'!B19)
A16: =IF('Data Entry'!A20="","",'Data Entry'!A20) -> 13 | B16: =IF('Data Entry'!B20="","",'Data Entry'!B20)
... A63: =IF('Data Entry'!A67="","",'Data Entry'!A67) -> 60 | B63: =IF('Data Entry'!B67="","",'Data Entry'!B67)

Sheet Mark Slip
A1: =IF('Data Entry'!B2="","",'Data Entry'!B2) -> કુવાદરા પ્રાથમિક શાળા
B3: ધોરણ :- | C3: =IF('Data Entry'!J2="","",'Data Entry'!J2) -> 3 | F3: વર્ગ :- | H3: =IF('Data Entry'!J3="","",'Data Entry'!J3) -> અ | K3: વિષય :- | M3: સૌની આસપાસ
A5: ગુણ પત્રક
A7: રોલ નંબર | B7: વિદ્યાર્થીનું નામ | C7: પ્રશ્ન -1 | D7: પ્રશ્ન -2 | E7: પ્રશ્ન -3 | F7: પ્રશ્ન -4 | G7: પ્રશ્ન -5 | H7: પ્રશ્ન -6 | I7: પ્રશ્ન -7 | J7: પ્રશ્ન -8 | K7: પ્રશ્ન -9 | L7: પ્રશ્ન -10 | M7: પ્રશ્ન -11 | N7: પ્રશ્ન -12 | O7: પ્રશ્ન -13 | P7: પ્રશ્ન -14 | Q7: કુલ માર્ક્સ
C8: 2 | D8: 2 | E8: 2 | F8: 3 | G8: 3 | H8: 3 | I8: 5 | J8: 5 | K8: 5 | L8: 2 | M8: 2 | N8: 2 | O8: 2 | P8: 2 | Q8: =SUM(C8:P8) -> 40
A9: =IF('Data Entry'!A8="","",'Data Entry'!A8) -> 1 | B9: =IF('Data Entry'!B8="","",'Data Entry'!B8) -> પટેલ બ્રિજેશકુમાર કાળાભાઈ | C9: 1 | D9: 1 | E9: 1 | F9: 1 | G9: 1 | H9: 2 | I9: 2 | J9: 3 | K9: 2 | L9: 2 | M9: 2 | N9: 2 | O9: 2 | P9: 2 | Q9: =IF(A9="","",SUM(C9:P9)) -> 24
A10: =IF('Data Entry'!A9="","",'Data Entry'!A9) -> 2 | B10: =IF('Data Entry'!B9="","",'Data Entry'!B9) | Q10: =IF(A10="","",SUM(C10:P10)) -> 0
A11: =IF('Data Entry'!A10="","",'Data Entry'!A10) -> 3 | B11: =IF('Data Entry'!B10="","",'Data Entry'!B10) | Q11: =IF(A11="","",SUM(C11:P11)) -> 0
A12: =IF('Data Entry'!A11="","",'Data Entry'!A11) -> 4 | B12: =IF('Data Entry'!B11="","",'Data Entry'!B11) | Q12: =IF(A12="","",SUM(C12:P12)) -> 0
A13: =IF('Data Entry'!A12="","",'Data Entry'!A12) -> 5 | B13: =IF('Data Entry'!B12="","",'Data Entry'!B12) | Q13: =IF(A13="","",SUM(C13:P13)) -> 0
A14: =IF('Data Entry'!A13="","",'Data Entry'!A13) -> 6 | B14: =IF('Data Entry'!B13="","",'Data Entry'!B13) | Q14: =IF(A14="","",SUM(C14:P14)) -> 0
A15: =IF('Data Entry'!A14="","",'Data Entry'!A14) -> 7 | B15: =IF('Data Entry'!B14="","",'Data Entry'!B14) | Q15: =IF(A15="","",SUM(C15:P15)) -> 0
A16: =IF('Data Entry'!A15="","",'Data Entry'!A15) -> 8 | B16: =IF('Data Entry'!B15="","",'Data Entry'!B15) | Q16: =IF(A16="","",SUM(C16:P16)) -> 0
A17: =IF('Data Entry'!A16="","",'Data Entry'!A16) -> 9 | B17: =IF('Data Entry'!B16="","",'Data Entry'!B16) | Q17: =IF(A17="","",SUM(C17:P17)) -> 0
A18: =IF('Data Entry'!A17="","",'Data Entry'!A17) -> 10 | B18: =IF('Data Entry'!B17="","",'Data Entry'!B17) | Q18: =IF(A18="","",SUM(C18:P18)) -> 0
A19: =IF('Data Entry'!A18="","",'Data Entry'!A18) -> 11 | B19: =IF('Data Entry'!B18="","",'Data Entry'!B18) | Q19: =IF(A19="","",SUM(C19:P19)) -> 0
A20: =IF('Data Entry'!A19="","",'Data Entry'!A19) -> 12 | B20: =IF('Data Entry'!B19="","",'Data Entry'!B19) | Q20: =IF(A20="","",SUM(C20:P20)) -> 0
A21: =IF('Data Entry'!A20="","",'Data Entry'!A20) -> 13 | B21: =IF('Data Entry'!B20="","",'Data Entry'!B20) | Q21: =IF(A21="","",SUM(C21:P21)) -> 0
... A68: =IF('Data Entry'!A67="","",'Data Entry'!A67) -> 60 | B68: =IF('Data Entry'!B67="","",'Data Entry'!B67) | Q68: =IF(A68="","",SUM(C68:P68)) -> 0

Sheet Attandance Day
A1: હાજરી ના કાર્ય દિવસ
B2: કુલ કાર્ય દિવસ | C2: 233
A3: ક્રમ | B3: વિદ્યાર્થીનું નામ | C3: કાર્ય દિવસ
A4: =IF('Data Entry'!A8="","",'Data Entry'!A8) -> 1 | B4: =IF('Data Entry'!B8="","",'Data Entry'!B8) -> પટેલ બ્રિજેશકુમાર કાળાભાઈ | C4: 200
A5: =IF('Data Entry'!A9="","",'Data Entry'!A9) -> 2 | B5: =IF('Data Entry'!B9="","",'Data Entry'!B9)
A6: =IF('Data Entry'!A10="","",'Data Entry'!A10) -> 3 | B6: =IF('Data Entry'!B10="","",'Data Entry'!B10)
A7: =IF('Data Entry'!A11="","",'Data Entry'!A11) -> 4 | B7: =IF('Data Entry'!B11="","",'Data Entry'!B11)
A8: =IF('Data Entry'!A12="","",'Data Entry'!A12) -> 5 | B8: =IF('Data Entry'!B12="","",'Data Entry'!B12)
A9: =IF('Data Entry'!A13="","",'Data Entry'!A13) -> 6 | B9: =IF('Data Entry'!B13="","",'Data Entry'!B13)
A10: =IF('Data Entry'!A14="","",'Data Entry'!A14) -> 7 | B10: =IF('Data Entry'!B14="","",'Data Entry'!B14)
A11: =IF('Data Entry'!A15="","",'Data Entry'!A15) -> 8 | B11: =IF('Data Entry'!B15="","",'Data Entry'!B15)
A12: =IF('Data Entry'!A16="","",'Data Entry'!A16) -> 9 | B12: =IF('Data Entry'!B16="","",'Data Entry'!B16)
A13: =IF('Data Entry'!A17="","",'Data Entry'!A17) -> 10 | B13: =IF('Data Entry'!B17="","",'Data Entry'!B17)
A14: =IF('Data Entry'!A18="","",'Data Entry'!A18) -> 11 | B14: =IF('Data Entry'!B18="","",'Data Entry'!B18)
A15: =IF('Data Entry'!A19="","",'Data Entry'!A19) -> 12 | B15: =IF('Data Entry'!B19="","",'Data Entry'!B19)
A16: =IF('Data Entry'!A20="","",'Data Entry'!A20) -> 13 | B16: =IF('Data Entry'!B20="","",'Data Entry'!B20)
... A63: =IF('Data Entry'!A67="","",'Data Entry'!A67) -> 60 | B63: =IF('Data Entry'!B67="","",'Data Entry'!B67)

Sheet UDISE PLUS
A1: Udise Plusની માહિતી
A2: ક્રમ | B2: વિદ્યાર્થીનું નામ | D2: કાર્ય દિવસ | E2: ટકાવારી | F2: પાસ નંબર | G2: હાજરી ની ટકાવારી
A3: =IF('Data Entry'!A8="","",'Data Entry'!A8) -> 1 | B3: =IF('Data Entry'!B8="","",'Data Entry'!B8) -> પટેલ બ્રિજેશકુમાર કાળાભાઈ | D3: =IF('Attandance Day'!C4="","",'Attandance Day'!C4) -> 200 | E3: =IF('PATRAK-C'!AP8="","",'PATRAK-C'!AP8) -> 0.852 | F3: =IF('PATRAK-C'!AQ8="","",'PATRAK-C'!AQ8) -> 1 | G3: =IFERROR(IF(A3="","",D3/'Attandance Day'!$C$2),"") -> 0.8583691
A4: =IF('Data Entry'!A9="","",'Data Entry'!A9) -> 2 | B4: =IF('Data Entry'!B9="","",'Data Entry'!B9) | D4: =IF('Attandance Day'!C5="","",'Attandance Day'!C5) | E4: =IF('PATRAK-C'!AP9="","",'PATRAK-C'!AP9) | F4: =IF('PATRAK-C'!AQ9="","",'PATRAK-C'!AQ9) | G4: =IFERROR(IF(A4="","",D4/'Attandance Day'!$C$2),"")
A5: =IF('Data Entry'!A10="","",'Data Entry'!A10) -> 3 | B5: =IF('Data Entry'!B10="","",'Data Entry'!B10) | D5: =IF('Attandance Day'!C6="","",'Attandance Day'!C6) | E5: =IF('PATRAK-C'!AP10="","",'PATRAK-C'!AP10) | F5: =IF('PATRAK-C'!AQ10="","",'PATRAK-C'!AQ10) | G5: =IFERROR(IF(A5="","",D5/'Attandance Day'!$C$2),"")
A6: =IF('Data Entry'!A11="","",'Data Entry'!A11) -> 4 | B6: =IF('Data Entry'!B11="","",'Data Entry'!B11) | D6: =IF('Attandance Day'!C7="","",'Attandance Day'!C7) | E6: =IF('PATRAK-C'!AP11="","",'PATRAK-C'!AP11) | F6: =IF('PATRAK-C'!AQ11="","",'PATRAK-C'!AQ11) | G6: =IFERROR(IF(A6="","",D6/'Attandance Day'!$C$2),"")
A7: =IF('Data Entry'!A12="","",'Data Entry'!A12) -> 5 | B7: =IF('Data Entry'!B12="","",'Data Entry'!B12) | D7: =IF('Attandance Day'!C8="","",'Attandance Day'!C8) | E7: =IF('PATRAK-C'!AP12="","",'PATRAK-C'!AP12) | F7: =IF('PATRAK-C'!AQ12="","",'PATRAK-C'!AQ12) | G7: =IFERROR(IF(A7="","",D7/'Attandance Day'!$C$2),"")
A8: =IF('Data Entry'!A13="","",'Data Entry'!A13) -> 6 | B8: =IF('Data Entry'!B13="","",'Data Entry'!B13) | D8: =IF('Attandance Day'!C9="","",'Attandance Day'!C9) | E8: =IF('PATRAK-C'!AP13="","",'PATRAK-C'!AP13) | F8: =IF('PATRAK-C'!AQ13="","",'PATRAK-C'!AQ13) | G8: =IFERROR(IF(A8="","",D8/'Attandance Day'!$C$2),"")
A9: =IF('Data Entry'!A14="","",'Data Entry'!A14) -> 7 | B9: =IF('Data Entry'!B14="","",'Data Entry'!B14) | D9: =IF('Attandance Day'!C10="","",'Attandance Day'!C10) | E9: =IF('PATRAK-C'!AP14="","",'PATRAK-C'!AP14) | F9: =IF('PATRAK-C'!AQ14="","",'PATRAK-C'!AQ14) | G9: =IFERROR(IF(A9="","",D9/'Attandance Day'!$C$2),"")
A10: =IF('Data Entry'!A15="","",'Data Entry'!A15) -> 8 | B10: =IF('Data Entry'!B15="","",'Data Entry'!B15) | D10: =IF('Attandance Day'!C11="","",'Attandance Day'!C11) | E10: =IF('PATRAK-C'!AP15="","",'PATRAK-C'!AP15) | F10: =IF('PATRAK-C'!AQ15="","",'PATRAK-C'!AQ15) | G10: =IFERROR(IF(A10="","",D10/'Attandance Day'!$C$2),"")
A11: =IF('Data Entry'!A16="","",'Data Entry'!A16) -> 9 | B11: =IF('Data Entry'!B16="","",'Data Entry'!B16) | D11: =IF('Attandance Day'!C12="","",'Attandance Day'!C12) | E11: =IF('PATRAK-C'!AP16="","",'PATRAK-C'!AP16) | F11: =IF('PATRAK-C'!AQ16="","",'PATRAK-C'!AQ16) | G11: =IFERROR(IF(A11="","",D11/'Attandance Day'!$C$2),"")
A12: =IF('Data Entry'!A17="","",'Data Entry'!A17) -> 10 | B12: =IF('Data Entry'!B17="","",'Data Entry'!B17) | D12: =IF('Attandance Day'!C13="","",'Attandance Day'!C13) | E12: =IF('PATRAK-C'!AP17="","",'PATRAK-C'!AP17) | F12: =IF('PATRAK-C'!AQ17="","",'PATRAK-C'!AQ17) | G12: =IFERROR(IF(A12="","",D12/'Attandance Day'!$C$2),"")
A13: =IF('Data Entry'!A18="","",'Data Entry'!A18) -> 11 | B13: =IF('Data Entry'!B18="","",'Data Entry'!B18) | D13: =IF('Attandance Day'!C14="","",'Attandance Day'!C14) | E13: =IF('PATRAK-C'!AP18="","",'PATRAK-C'!AP18) | F13: =IF('PATRAK-C'!AQ18="","",'PATRAK-C'!AQ18) | G13: =IFERROR(IF(A13="","",D13/'Attandance Day'!$C$2),"")
A14: =IF('Data Entry'!A19="","",'Data Entry'!A19) -> 12 | B14: =IF('Data Entry'!B19="","",'Data Entry'!B19) | D14: =IF('Attandance Day'!C15="","",'Attandance Day'!C15) | E14: =IF('PATRAK-C'!AP19="","",'PATRAK-C'!AP19) | F14: =IF('PATRAK-C'!AQ19="","",'PATRAK-C'!AQ19) | G14: =IFERROR(IF(A14="","",D14/'Attandance Day'!$C$2),"")
... A62: =IF('Data Entry'!A67="","",'Data Entry'!A67) -> 60 | B62: =IF('Data Entry'!B67="","",'Data Entry'!B67) | D62: =IF('Attandance Day'!C63="","",'Attandance Day'!C63) | E62: =IF('PATRAK-C'!AP67="","",'PATRAK-C'!AP67) | F62: =IF('PATRAK-C'!AQ67="","",'PATRAK-C'!AQ67) | G62: =IFERROR(IF(A62="","",D62/'Attandance Day'!$C$2),"")

Sheet Title-C
B3: શાળાકીય સર્વગ્રાહી મૂલ્યાંકન | X3: સત્ર:- | Y3: 1
B4: ( SCE )
B6: ધોરણ :- | C6: =IF('Data Entry'!J2="","",'Data Entry'!J2) -> 3 | F6: વર્ગ :- | H6: =IF('Data Entry'!J3="","",'Data Entry'!J3) -> અ | M6: વર્ષ :- | P6: =IF('Data Entry'!F3="","",'Data Entry'!F3) -> 2025 | R6: - | S6: =IF('Data Entry'!H3="","",'Data Entry'!H3) -> 2026
B9: શાળા નું નામ | D9: : | E9: =IF('Data Entry'!B2="","",'Data Entry'!B2) -> કુવાદરા પ્રાથમિક શાળા
B10: ગામ | D10: : | E10: =IF('Data Entry'!D2="","",'Data Entry'!D2) -> કુવાદરા
B11: તાલુકો | D11: : | E11: =IF('Data Entry'!B3="","",'Data Entry'!B3) -> માણસા
B12: જીલ્લો | D12: : | E12: =IF('Data Entry'!D3="","",'Data Entry'!D3) -> ગાંધીનગર
B13: પે. સેન્ટર | D13: : | E13: =IF('Data Entry'!F2="","",'Data Entry'!F2) -> લોદરા
B14: પરિણામ તારીખ | D14: : | E14: =IF('Data Entry'!B4="","",'Data Entry'!B4) -> 45447
B15: વર્ગ શિક્ષક નું નામ | D15: : | E15: =IF('Data Entry'!L2="","",'Data Entry'!L2) -> પટેલ બ્રિજેશકુમાર કે.
B16: સી.આર.સી. | D16: : | E16: =IF('Data Entry'!H2="","",'Data Entry'!H2) -> લોદરા
B18: જાતિ | C18: રજિ. સંખ્યા | F18: મેળવેલ એકંદર ગ્રેડ | U18: નોંધ
F19: A | I19: B | L19: C | O19: D | R19: E
C20: કુમાર | D20: કન્યા | E20: કુલ | F20: કુમાર | G20: કન્યા | H20: કુલ | I20: કુમાર | J20: કન્યા | K20: કુલ | L20: કુમાર | M20: કન્યા | N20: કુલ | O20: કુમાર | P20: કન્યા | Q20: કુલ | R20: કુમાર | S20: કન્યા | T20: કુલ
B21: અનુ. જાતિ | C21: =IF($Y$3="","",IF($Y$3=1,AJ35,AJ39)) -> 0 | D21: =IF($Y$3="","",IF($Y$3=1,AK35,AK39)) -> 0 | E21: =IF($Y$3="","",SUM(C21:D21)) -> 0 | F21: =IF($Y$3="","",IF($Y$3=1,AL35,AL39)) -> 0 | G21: =IF($Y$3="","",IF($Y$3=1,AM35,AM39)) -> 0 | H21: =IF($Y$3="","",SUM(F21:G21)) -> 0 | I21: =IF($Y$3="","",IF($Y$3=1,AN35,AN39)) -> 0 | J21: =IF($Y$3="","",IF($Y$3=1,AO35,AO39)) -> 0 | K21: =IF($Y$3="","",SUM(I21:J21)) -> 0 | L21: =IF($Y$3="","",IF($Y$3=1,AP35,AP39)) -> 0 | M21: =IF($Y$3="","",IF($Y$3=1,AQ35,AQ39)) -> 0 | N21: =IF($Y$3="","",SUM(L21:M21)) -> 0 | O21: =IF($Y$3="","",IF($Y$3=1,AR35,AR39)) -> 0 | P21: =IF($Y$3="","",IF($Y$3=1,AS35,AS39)) -> 0 | Q21: =IF($Y$3="","",SUM(O21:P21)) -> 0 | R21: =IF($Y$3="","",IF($Y$3=1,AT35,AT39)) -> 0 | S21: =IF($Y$3="","",IF($Y$3=1,AU35,AU39)) -> 0 | T21: =IF($Y$3="","",SUM(R21:S21)) -> 0
B22: અનુ. જન. જાતિ | C22: =IF($Y$3="","",IF($Y$3=1,AJ36,AJ40)) -> 0 | D22: =IF($Y$3="","",IF($Y$3=1,AK36,AK40)) -> 0 | E22: =IF($Y$3="","",SUM(C22:D22)) -> 0 | F22: =IF($Y$3="","",IF($Y$3=1,AL36,AL40)) -> 0 | G22: =IF($Y$3="","",IF($Y$3=1,AM36,AM40)) -> 0 | H22: =IF($Y$3="","",SUM(F22:G22)) -> 0 | I22: =IF($Y$3="","",IF($Y$3=1,AN36,AN40)) -> 0 | J22: =IF($Y$3="","",IF($Y$3=1,AO36,AO40)) -> 0 | K22: =IF($Y$3="","",SUM(I22:J22)) -> 0 | L22: =IF($Y$3="","",IF($Y$3=1,AP36,AP40)) -> 0 | M22: =IF($Y$3="","",IF($Y$3=1,AQ36,AQ40)) -> 0 | N22: =IF($Y$3="","",SUM(L22:M22)) -> 0 | O22: =IF($Y$3="","",IF($Y$3=1,AR36,AR40)) -> 0 | P22: =IF($Y$3="","",IF($Y$3=1,AS36,AS40)) -> 0 | Q22: =IF($Y$3="","",SUM(O22:P22)) -> 0 | R22: =IF($Y$3="","",IF($Y$3=1,AT36,AT40)) -> 0 | S22: =IF($Y$3="","",IF($Y$3=1,AU36,AU40)) -> 0 | T22: =IF($Y$3="","",SUM(R22:S22)) -> 0
B23: સામાજિક અને શૈક્ષણિક પછાત | C23: =IF($Y$3="","",IF($Y$3=1,AJ37,AJ41)) -> 0 | D23: =IF($Y$3="","",IF($Y$3=1,AK37,AK41)) -> 0 | E23: =IF($Y$3="","",SUM(C23:D23)) -> 0 | F23: =IF($Y$3="","",IF($Y$3=1,AL37,AL41)) -> 0 | G23: =IF($Y$3="","",IF($Y$3=1,AM37,AM41)) -> 0 | H23: =IF($Y$3="","",SUM(F23:G23)) -> 0 | I23: =IF($Y$3="","",IF($Y$3=1,AN37,AN41)) -> 0 | J23: =IF($Y$3="","",IF($Y$3=1,AO37,AO41)) -> 0 | K23: =IF($Y$3="","",SUM(I23:J23)) -> 0 | L23: =IF($Y$3="","",IF($Y$3=1,AP37,AP41)) -> 0 | M23: =IF($Y$3="","",IF($Y$3=1,AQ37,AQ41)) -> 0 | N23: =IF($Y$3="","",SUM(L23:M23)) -> 0 | O23: =IF($Y$3="","",IF($Y$3=1,AR37,AR41)) -> 0 | P23: =IF($Y$3="","",IF($Y$3=1,AS37,AS41)) -> 0 | Q23: =IF($Y$3="","",SUM(O23:P23)) -> 0 | R23: =IF($Y$3="","",IF($Y$3=1,AT37,AT41)) -> 0 | S23: =IF($Y$3="","",IF($Y$3=1,AU37,AU41)) -> 0 | T23: =IF($Y$3="","",SUM(R23:S23)) -> 0
B24: અન્ય | C24: =IF($Y$3="","",IF($Y$3=1,AJ38,AJ42)) -> 1 | D24: =IF($Y$3="","",IF($Y$3=1,AK38,AK42)) -> 0 | E24: =IF($Y$3="","",SUM(C24:D24)) -> 1 | F24: =IF($Y$3="","",IF($Y$3=1,AL38,AL42)) -> 1 | G24: =IF($Y$3="","",IF($Y$3=1,AM38,AM42)) -> 0 | H24: =IF($Y$3="","",SUM(F24:G24)) -> 1 | I24: =IF($Y$3="","",IF($Y$3=1,AN38,AN42)) -> 0 | J24: =IF($Y$3="","",IF($Y$3=1,AO38,AO42)) -> 0 | K24: =IF($Y$3="","",SUM(I24:J24)) -> 0 | L24: =IF($Y$3="","",IF($Y$3=1,AP38,AP42)) -> 0 | M24: =IF($Y$3="","",IF($Y$3=1,AQ38,AQ42)) -> 0 | N24: =IF($Y$3="","",SUM(L24:M24)) -> 0 | O24: =IF($Y$3="","",IF($Y$3=1,AR38,AR42)) -> 0 | P24: =IF($Y$3="","",IF($Y$3=1,AS38,AS42)) -> 0 | Q24: =IF($Y$3="","",SUM(O24:P24)) -> 0 | R24: =IF($Y$3="","",IF($Y$3=1,AT38,AT42)) -> 0 | S24: =IF($Y$3="","",IF($Y$3=1,AU38,AU42)) -> 0 | T24: =IF($Y$3="","",SUM(R24:S24)) -> 0
B25: કુલ | C25: =IF($Y$3="","",SUM(C21:C24)) -> 1 | D25: =IF($Y$3="","",SUM(D21:D24)) -> 0 | E25: =IF($Y$3="","",SUM(E21:E24)) -> 1 | F25: =IF($Y$3="","",SUM(F21:F24)) -> 1 | G25: =IF($Y$3="","",SUM(G21:G24)) -> 0 | H25: =IF($Y$3="","",SUM(H21:H24)) -> 1 | I25: =IF($Y$3="","",SUM(I21:I24)) -> 0 | J25: =IF($Y$3="","",SUM(J21:J24)) -> 0 | ... T25: =IF($Y$3="","",SUM(T21:T24)) -> 0
AI33: જાતિ | AJ33: રજીસ્ટર સખ્યા | AL33: A | AN33: B | AP33: C | AR33: D | AT33: E
AJ34: કુમાર | AK34: કન્યા | AL34: કુમાર | AM34: કન્યા | AN34: કુમાર | AO34: કન્યા | AP34: કુમાર | AQ34: કન્યા | AR34: કુમાર | AS34: કન્યા | AT34: કુમાર | AU34: કન્યા
AI35: SC | AJ35: =COUNTIFS('Data Entry'!$K$8:$K$67,'Title-C'!AI35,'Data Entry'!$L$8:$L$67,"Boy") -> 0 | AK35: =COUNTIFS('Data Entry'!$K$8:$K$67,'Title-C'!AI35,'Data Entry'!$L$8:$L$67,"Girl") -> 0 | AL35: =COUNTIFS('Data Entry'!$L$8:$L$67,"Boy",'Data Entry'!$K$8:$K$67,"SC",'SEM1 PATRAK-C'!$AB$8:$AB$67,"A") -> 0 | AM35: =COUNTIFS('Data Entry'!$L$8:$L$67,"Girl",'Data Entry'!$K$8:$K$67,"SC",'SEM1 PATRAK-C'!$AB$8:$AB$67,"A") -> 0 | AN35: =COUNTIFS('Data Entry'!$L$8:$L$67,"Boy",'Data Entry'!$K$8:$K$67,"SC",'SEM1 PATRAK-C'!$AB$8:$AB$67,"B") -> 0 | AO35: =COUNTIFS('Data Entry'!$L$8:$L$67,"Girl",'Data Entry'!$K$8:$K$67,"SC",'SEM1 PATRAK-C'!$AB$8:$AB$67,"B") -> 0 | AP35: =COUNTIFS('Data Entry'!$L$8:$L$67,"Boy",'Data Entry'!$K$8:$K$67,"SC",'SEM1 PATRAK-C'!$AB$8:$AB$67,"C") -> 0 | AQ35: =COUNTIFS('Data Entry'!$L$8:$L$67,"Girl",'Data Entry'!$K$8:$K$67,"SC",'SEM1 PATRAK-C'!$AB$8:$AB$67,"C") -> 0 | AR35: =COUNTIFS('Data Entry'!$L$8:$L$67,"Boy",'Data Entry'!$K$8:$K$67,"SC",'SEM1 PATRAK-C'!$AB$8:$AB$67,"D") -> 0 | AS35: =COUNTIFS('Data Entry'!$L$8:$L$67,"Girl",'Data Entry'!$K$8:$K$67,"SC",'SEM1 PATRAK-C'!$AB$8:$AB$67,"D") -> 0 | AT35: =COUNTIFS('Data Entry'!$L$8:$L$67,"Boy",'Data Entry'!$K$8:$K$67,"SC",'SEM1 PATRAK-C'!$AB$8:$AB$67,"E") -> 0 | AU35: =COUNTIFS('Data Entry'!$L$8:$L$67,"Girl",'Data Entry'!$K$8:$K$67,"SC",'SEM1 PATRAK-C'!$AB$8:$AB$67,"E") -> 0
AI36: ST | AJ36: =COUNTIFS('Data Entry'!$K$8:$K$67,'Title-C'!AI36,'Data Entry'!$L$8:$L$67,"Boy") -> 0 | AK36: =COUNTIFS('Data Entry'!$K$8:$K$67,'Title-C'!AI36,'Data Entry'!$L$8:$L$67,"Girl") -> 0 | AL36: =COUNTIFS('Data Entry'!$L$8:$L$67,"Boy",'Data Entry'!$K$8:$K$67,"ST",'SEM1 PATRAK-C'!$AB$8:$AB$67,"A") -> 0 | AM36: =COUNTIFS('Data Entry'!$L$8:$L$67,"Girl",'Data Entry'!$K$8:$K$67,"ST",'SEM1 PATRAK-C'!$AB$8:$AB$67,"A") -> 0 | AN36: =COUNTIFS('Data Entry'!$L$8:$L$67,"Boy",'Data Entry'!$K$8:$K$67,"ST",'SEM1 PATRAK-C'!$AB$8:$AB$67,"B") -> 0 | AO36: =COUNTIFS('Data Entry'!$L$8:$L$67,"Girl",'Data Entry'!$K$8:$K$67,"ST",'SEM1 PATRAK-C'!$AB$8:$AB$67,"B") -> 0 | AP36: =COUNTIFS('Data Entry'!$L$8:$L$67,"Boy",'Data Entry'!$K$8:$K$67,"ST",'SEM1 PATRAK-C'!$AB$8:$AB$67,"C") -> 0 | AQ36: =COUNTIFS('Data Entry'!$L$8:$L$67,"Girl",'Data Entry'!$K$8:$K$67,"ST",'SEM1 PATRAK-C'!$AB$8:$AB$67,"C") -> 0 | AR36: =COUNTIFS('Data Entry'!$L$8:$L$67,"Boy",'Data Entry'!$K$8:$K$67,"ST",'SEM1 PATRAK-C'!$AB$8:$AB$67,"D") -> 0 | AS36: =COUNTIFS('Data Entry'!$L$8:$L$67,"Girl",'Data Entry'!$K$8:$K$67,"ST",'SEM1 PATRAK-C'!$AB$8:$AB$67,"D") -> 0 | AT36: =COUNTIFS('Data Entry'!$L$8:$L$67,"Boy",'Data Entry'!$K$8:$K$67,"ST",'SEM1 PATRAK-C'!$AB$8:$AB$67,"E") -> 0 | AU36: =COUNTIFS('Data Entry'!$L$8:$L$67,"Girl",'Data Entry'!$K$8:$K$67,"ST",'SEM1 PATRAK-C'!$AB$8:$AB$67,"E") -> 0
AI37: OBC | AJ37: =COUNTIFS('Data Entry'!$K$8:$K$67,'Title-C'!AI37,'Data Entry'!$L$8:$L$67,"Boy") -> 0 | AK37: =COUNTIFS('Data Entry'!$K$8:$K$67,'Title-C'!AI37,'Data Entry'!$L$8:$L$67,"Girl") -> 0 | AL37: =COUNTIFS('Data Entry'!$L$8:$L$67,"Boy",'Data Entry'!$K$8:$K$67,"OBC",'SEM1 PATRAK-C'!$AB$8:$AB$67,"A") -> 0 | AM37: =COUNTIFS('Data Entry'!$L$8:$L$67,"Girl",'Data Entry'!$K$8:$K$67,"OBC",'SEM1 PATRAK-C'!$AB$8:$AB$67,"A") -> 0 | AN37: =COUNTIFS('Data Entry'!$L$8:$L$67,"Boy",'Data Entry'!$K$8:$K$67,"OBC",'SEM1 PATRAK-C'!$AB$8:$AB$67,"B") -> 0 | AO37: =COUNTIFS('Data Entry'!$L$8:$L$67,"Girl",'Data Entry'!$K$8:$K$67,"OBC",'SEM1 PATRAK-C'!$AB$8:$AB$67,"B") -> 0 | AP37: =COUNTIFS('Data Entry'!$L$8:$L$67,"Boy",'Data Entry'!$K$8:$K$67,"OBC",'SEM1 PATRAK-C'!$AB$8:$AB$67,"C") -> 0 | AQ37: =COUNTIFS('Data Entry'!$L$8:$L$67,"Girl",'Data Entry'!$K$8:$K$67,"OBC",'SEM1 PATRAK-C'!$AB$8:$AB$67,"C") -> 0 | AR37: =COUNTIFS('Data Entry'!$L$8:$L$67,"Boy",'Data Entry'!$K$8:$K$67,"OBC",'SEM1 PATRAK-C'!$AB$8:$AB$67,"D") -> 0 | AS37: =COUNTIFS('Data Entry'!$L$8:$L$67,"Girl",'Data Entry'!$K$8:$K$67,"OBC",'SEM1 PATRAK-C'!$AB$8:$AB$67,"D") -> 0 | AT37: =COUNTIFS('Data Entry'!$L$8:$L$67,"Boy",'Data Entry'!$K$8:$K$67,"OBC",'SEM1 PATRAK-C'!$AB$8:$AB$67,"E") -> 0 | AU37: =COUNTIFS('Data Entry'!$L$8:$L$67,"Girl",'Data Entry'!$K$8:$K$67,"OBC",'SEM1 PATRAK-C'!$AB$8:$AB$67,"E") -> 0
AI38: GEN | AJ38: =COUNTIFS('Data Entry'!$K$8:$K$67,'Title-C'!AI38,'Data Entry'!$L$8:$L$67,"Boy") -> 1 | AK38: =COUNTIFS('Data Entry'!$K$8:$K$67,'Title-C'!AI38,'Data Entry'!$L$8:$L$67,"Girl") -> 0 | AL38: =COUNTIFS('Data Entry'!$L$8:$L$67,"Boy",'Data Entry'!$K$8:$K$67,"GEN",'SEM1 PATRAK-C'!$AB$8:$AB$67,"A") -> 1 | AM38: =COUNTIFS('Data Entry'!$L$8:$L$67,"Girl",'Data Entry'!$K$8:$K$67,"GEN",'SEM1 PATRAK-C'!$AB$8:$AB$67,"A") -> 0 | AN38: =COUNTIFS('Data Entry'!$L$8:$L$67,"Boy",'Data Entry'!$K$8:$K$67,"GEN",'SEM1 PATRAK-C'!$AB$8:$AB$67,"B") -> 0 | AO38: =COUNTIFS('Data Entry'!$L$8:$L$67,"Girl",'Data Entry'!$K$8:$K$67,"GEN",'SEM1 PATRAK-C'!$AB$8:$AB$67,"B") -> 0 | AP38: =COUNTIFS('Data Entry'!$L$8:$L$67,"Boy",'Data Entry'!$K$8:$K$67,"GEN",'SEM1 PATRAK-C'!$AB$8:$AB$67,"C") -> 0 | AQ38: =COUNTIFS('Data Entry'!$L$8:$L$67,"Girl",'Data Entry'!$K$8:$K$67,"GEN",'SEM1 PATRAK-C'!$AB$8:$AB$67,"C") -> 0 | AR38: =COUNTIFS('Data Entry'!$L$8:$L$67,"Boy",'Data Entry'!$K$8:$K$67,"GEN",'SEM1 PATRAK-C'!$AB$8:$AB$67,"D") -> 0 | AS38: =COUNTIFS('Data Entry'!$L$8:$L$67,"Girl",'Data Entry'!$K$8:$K$67,"GEN",'SEM1 PATRAK-C'!$AB$8:$AB$67,"D") -> 0 | AT38: =COUNTIFS('Data Entry'!$L$8:$L$67,"Boy",'Data Entry'!$K$8:$K$67,"GEN",'SEM1 PATRAK-C'!$AB$8:$AB$67,"E") -> 0 | AU38: =COUNTIFS('Data Entry'!$L$8:$L$67,"Girl",'Data Entry'!$K$8:$K$67,"GEN",'SEM1 PATRAK-C'!$AB$8:$AB$67,"E") -> 0
AI39: SC | AJ39: =COUNTIFS('Data Entry'!$K$8:$K$67,'Title-C'!AI39,'Data Entry'!$L$8:$L$67,"Boy") -> 0 | AK39: =COUNTIFS('Data Entry'!$K$8:$K$67,'Title-C'!AI39,'Data Entry'!$L$8:$L$67,"Girl") -> 0 | AL39: =COUNTIFS('Data Entry'!$L$8:$L$67,"Boy",'Data Entry'!$K$8:$K$67,"SC",'PATRAK-C'!$AN$8:$AN$67,"A") -> 0 | AM39: =COUNTIFS('Data Entry'!$L$8:$L$67,"Girl",'Data Entry'!$K$8:$K$67,"SC",'PATRAK-C'!$AN$8:$AN$67,"A") -> 0 | AN39: =COUNTIFS('Data Entry'!$L$8:$L$67,"Boy",'Data Entry'!$K$8:$K$67,"SC",'PATRAK-C'!$AN$8:$AN$67,"B") -> 0 | AO39: =COUNTIFS('Data Entry'!$L$8:$L$67,"Girl",'Data Entry'!$K$8:$K$67,"SC",'PATRAK-C'!$AN$8:$AN$67,"B") -> 0 | AP39: =COUNTIFS('Data Entry'!$L$8:$L$67,"Boy",'Data Entry'!$K$8:$K$67,"SC",'PATRAK-C'!$AN$8:$AN$67,"C") -> 0 | AQ39: =COUNTIFS('Data Entry'!$L$8:$L$67,"Girl",'Data Entry'!$K$8:$K$67,"SC",'PATRAK-C'!$AN$8:$AN$67,"C") -> 0 | AR39: =COUNTIFS('Data Entry'!$L$8:$L$67,"Boy",'Data Entry'!$K$8:$K$67,"SC",'PATRAK-C'!$AN$8:$AN$67,"D") -> 0 | AS39: =COUNTIFS('Data Entry'!$L$8:$L$67,"Girl",'Data Entry'!$K$8:$K$67,"SC",'PATRAK-C'!$AN$8:$AN$67,"D") -> 0 | AT39: =COUNTIFS('Data Entry'!$L$8:$L$67,"Boy",'Data Entry'!$K$8:$K$67,"SC",'PATRAK-C'!$AN$8:$AN$67,"E") -> 0 | AU39: =COUNTIFS('Data Entry'!$L$8:$L$67,"Girl",'Data Entry'!$K$8:$K$67,"SC",'PATRAK-C'!$AN$8:$AN$67,"E") -> 0
AI40: ST | AJ40: =COUNTIFS('Data Entry'!$K$8:$K$67,'Title-C'!AI40,'Data Entry'!$L$8:$L$67,"Boy") -> 0 | AK40: =COUNTIFS('Data Entry'!$K$8:$K$67,'Title-C'!AI40,'Data Entry'!$L$8:$L$67,"Girl") -> 0 | AL40: =COUNTIFS('Data Entry'!$L$8:$L$67,"Boy",'Data Entry'!$K$8:$K$67,"ST",'PATRAK-C'!$AN$8:$AN$67,"A") -> 0 | AM40: =COUNTIFS('Data Entry'!$L$8:$L$67,"Girl",'Data Entry'!$K$8:$K$67,"ST",'PATRAK-C'!$AN$8:$AN$67,"A") -> 0 | AN40: =COUNTIFS('Data Entry'!$L$8:$L$67,"Boy",'Data Entry'!$K$8:$K$67,"ST",'PATRAK-C'!$AN$8:$AN$67,"B") -> 0 | AO40: =COUNTIFS('Data Entry'!$L$8:$L$67,"Girl",'Data Entry'!$K$8:$K$67,"ST",'PATRAK-C'!$AN$8:$AN$67,"B") -> 0 | AP40: =COUNTIFS('Data Entry'!$L$8:$L$67,"Boy",'Data Entry'!$K$8:$K$67,"ST",'PATRAK-C'!$AN$8:$AN$67,"C") -> 0 | AQ40: =COUNTIFS('Data Entry'!$L$8:$L$67,"Girl",'Data Entry'!$K$8:$K$67,"ST",'PATRAK-C'!$AN$8:$AN$67,"C") -> 0 | AR40: =COUNTIFS('Data Entry'!$L$8:$L$67,"Boy",'Data Entry'!$K$8:$K$67,"ST",'PATRAK-C'!$AN$8:$AN$67,"D") -> 0 | AS40: =COUNTIFS('Data Entry'!$L$8:$L$67,"Girl",'Data Entry'!$K$8:$K$67,"ST",'PATRAK-C'!$AN$8:$AN$67,"D") -> 0 | AT40: =COUNTIFS('Data Entry'!$L$8:$L$67,"Boy",'Data Entry'!$K$8:$K$67,"ST",'PATRAK-C'!$AN$8:$AN$67,"E") -> 0 | AU40: =COUNTIFS('Data Entry'!$L$8:$L$67,"Girl",'Data Entry'!$K$8:$K$67,"ST",'PATRAK-C'!$AN$8:$AN$67,"E") -> 0
AI41: OBC | AJ41: =COUNTIFS('Data Entry'!$K$8:$K$67,'Title-C'!AI41,'Data Entry'!$L$8:$L$67,"Boy") -> 0 | AK41: =COUNTIFS('Data Entry'!$K$8:$K$67,'Title-C'!AI41,'Data Entry'!$L$8:$L$67,"Girl") -> 0 | AL41: =COUNTIFS('Data Entry'!$L$8:$L$67,"Boy",'Data Entry'!$K$8:$K$67,"OBC",'PATRAK-C'!$AN$8:$AN$67,"A") -> 0 | AM41: =COUNTIFS('Data Entry'!$L$8:$L$67,"Girl",'Data Entry'!$K$8:$K$67,"OBC",'PATRAK-C'!$AN$8:$AN$67,"A") -> 0 | AN41: =COUNTIFS('Data Entry'!$L$8:$L$67,"Boy",'Data Entry'!$K$8:$K$67,"OBC",'PATRAK-C'!$AN$8:$AN$67,"B") -> 0 | AO41: =COUNTIFS('Data Entry'!$L$8:$L$67,"Girl",'Data Entry'!$K$8:$K$67,"OBC",'PATRAK-C'!$AN$8:$AN$67,"B") -> 0 | AP41: =COUNTIFS('Data Entry'!$L$8:$L$67,"Boy",'Data Entry'!$K$8:$K$67,"OBC",'PATRAK-C'!$AN$8:$AN$67,"C") -> 0 | AQ41: =COUNTIFS('Data Entry'!$L$8:$L$67,"Girl",'Data Entry'!$K$8:$K$67,"OBC",'PATRAK-C'!$AN$8:$AN$67,"C") -> 0 | AR41: =COUNTIFS('Data Entry'!$L$8:$L$67,"Boy",'Data Entry'!$K$8:$K$67,"OBC",'PATRAK-C'!$AN$8:$AN$67,"D") -> 0 | AS41: =COUNTIFS('Data Entry'!$L$8:$L$67,"Girl",'Data Entry'!$K$8:$K$67,"OBC",'PATRAK-C'!$AN$8:$AN$67,"D") -> 0 | AT41: =COUNTIFS('Data Entry'!$L$8:$L$67,"Boy",'Data Entry'!$K$8:$K$67,"OBC",'PATRAK-C'!$AN$8:$AN$67,"E") -> 0 | AU41: =COUNTIFS('Data Entry'!$L$8:$L$67,"Girl",'Data Entry'!$K$8:$K$67,"OBC",'PATRAK-C'!$AN$8:$AN$67,"E") -> 0
AI42: GEN | AJ42: =COUNTIFS('Data Entry'!$K$8:$K$67,'Title-C'!AI42,'Data Entry'!$L$8:$L$67,"Boy") -> 1 | AK42: =COUNTIFS('Data Entry'!$K$8:$K$67,'Title-C'!AI42,'Data Entry'!$L$8:$L$67,"Girl") -> 0 | AL42: =COUNTIFS('Data Entry'!$L$8:$L$67,"Boy",'Data Entry'!$K$8:$K$67,"GEN",'PATRAK-C'!$AN$8:$AN$67,"A") -> 1 | AM42: =COUNTIFS('Data Entry'!$L$8:$L$67,"Girl",'Data Entry'!$K$8:$K$67,"GEN",'PATRAK-C'!$AN$8:$AN$67,"A") -> 0 | AN42: =COUNTIFS('Data Entry'!$L$8:$L$67,"Boy",'Data Entry'!$K$8:$K$67,"GEN",'PATRAK-C'!$AN$8:$AN$67,"B") -> 0 | AO42: =COUNTIFS('Data Entry'!$L$8:$L$67,"Girl",'Data Entry'!$K$8:$K$67,"GEN",'PATRAK-C'!$AN$8:$AN$67,"B") -> 0 | AP42: =COUNTIFS('Data Entry'!$L$8:$L$67,"Boy",'Data Entry'!$K$8:$K$67,"GEN",'PATRAK-C'!$AN$8:$AN$67,"C") -> 0 | AQ42: =COUNTIFS('Data Entry'!$L$8:$L$67,"Girl",'Data Entry'!$K$8:$K$67,"GEN",'PATRAK-C'!$AN$8:$AN$67,"C") -> 0 | AR42: =COUNTIFS('Data Entry'!$L$8:$L$67,"Boy",'Data Entry'!$K$8:$K$67,"GEN",'PATRAK-C'!$AN$8:$AN$67,"D") -> 0 | AS42: =COUNTIFS('Data Entry'!$L$8:$L$67,"Girl",'Data Entry'!$K$8:$K$67,"GEN",'PATRAK-C'!$AN$8:$AN$67,"D") -> 0 | AT42: =COUNTIFS('Data Entry'!$L$8:$L$67,"Boy",'Data Entry'!$K$8:$K$67,"GEN",'PATRAK-C'!$AN$8:$AN$67,"E") -> 0 | AU42: =COUNTIFS('Data Entry'!$L$8:$L$67,"Girl",'Data Entry'!$K$8:$K$67,"GEN",'PATRAK-C'!$AN$8:$AN$67,"E") -> 0

Sheet SEM1 PATRAK-C
B1: ="પત્રક - C : ધોરણ "&'Data Entry'!J2 -> પત્રક - C : ધોરણ 3 | O1: ="પત્રક - C : ધોરણ "&'Data Entry'!J2 -> પત્રક - C : ધોરણ 3
A2: ક્રમ | B2: વિદ્યાર્થીનું નામ | C2: જનરલ રજી. નંબર | D2: જન્મ તારીખ | E2: વિષય : ગુજરાતી | J2: વિષય : ગણિત | O2: વિષય : અંગ્રેજી | T2: વિષય : સૌની આસપાસ | Y2: પત્રક - B વ્યક્તિત્વ વિકાસ પત્રક | Z2: ગ્રેડ | AA2: તમામ વિષયોના + પત્રક B નાં કુલ | AB2: સરેરાશ ગ્રેડ | AC2: વર્ષના કુલ કાર્ય દિવસ | AD2: ટકાવારી | AE2: પાસ નંબર
E3: પ્રથમ સત્ર | H3: ગુણમાંથી મેળવેલ ગુણ | I3: ગ્રેડ | J3: પ્રથમ સત્ર | M3: ગુણમાંથી મેળવેલ ગુણ | N3: ગ્રેડ | O3: પ્રથમ સત્ર | R3: ગુણમાંથી મેળવેલ ગુણ | S3: ગ્રેડ | T3: પ્રથમ સત્ર | W3: ગુણમાંથી મેળવેલ ગુણ | X3: ગ્રેડ
E4: ત્રિમાસિક કસોટી | F4: સત્રાંત મૂલ્યાંકન | G4: સ્વ-અધ્યયન કાર્યના આધારે મૂલ્યાંકન | J4: ત્રિમાસિક કસોટી | K4: સત્રાંત મૂલ્યાંકન | L4: સ્વ-અધ્યયન કાર્યના આધારે મૂલ્યાંકન | O4: ત્રિમાસિક કસોટી | P4: સત્રાંત મૂલ્યાંકન | Q4: સ્વ-અધ્યયન કાર્યના આધારે મૂલ્યાંકન | T4: ત્રિમાસિક કસોટી | U4: સત્રાંત મૂલ્યાંકન | V4: સ્વ-અધ્યયન કાર્યના આધારે મૂલ્યાંકન
E5: ગુણ | F5: ગુણ | G5: ગુણ | J5: ગુણ | K5: ગુણ | L5: ગુણ | O5: ગુણ | P5: ગુણ | Q5: ગુણ | T5: ગુણ | U5: ગુણ | V5: ગુણ | Y5: ગુણ | AA5: ગુણ
E6: 40 | F6: 40 | G6: 20 | H6: =SUM(E6:G6) -> 100 | J6: 40 | K6: 40 | L6: 20 | M6: =SUM(J6:L6) -> 100 | O6: 40 | P6: 40 | Q6: 20 | R6: =SUM(O6:Q6) -> 100 | T6: 40 | U6: 40 | V6: 20 | W6: =SUM(T6:V6) -> 100 | Y6: 200 | AA6: =H6+M6+R6+W6+Y6 -> 600
A7: 1 | B7: 2 | C7: 3 | D7: 4 | E7: 5 | F7: 6 | G7: 7 | H7: 8 | I7: 9 | J7: 10 | K7: 11 | L7: 12 | M7: 13 | N7: 14 | O7: 15 | P7: 16 | Q7: 17 | R7: 18 | S7: 19 | T7: 20 | U7: 21 | V7: 22 | W7: 23 | X7: 24 | Y7: 25 | Z7: 26 | AA7: 27 | AB7: 28 | AC7: 29 | AD7: 30 | AE7: 31
A8: =IF('Data Entry'!A8="","",'Data Entry'!A8) -> 1 | B8: =IF('Data Entry'!B8="","",'Data Entry'!B8) -> પટેલ બ્રિજેશકુમાર કાળાભાઈ | C8: =IF('Data Entry'!C8="","",'Data Entry'!C8) -> 10251 | D8: =IF('Data Entry'!D8="","",'Data Entry'!D8) -> 40544 | E8: =IF(Gujarati!D4="","",Gujarati!D4) -> 32 | F8: =IF(Gujarati!E4="","",Gujarati!E4) -> 36 | G8: =IF(Gujarati!F4="","",Gujarati!F4) -> 18 | H8: =IF($A8="","",ROUND(SUM(E8:G8),0)) -> 86 | I8: =IF(H8="","",IF(H8>=80,"A",IF(H8>=65,"B",IF(H8>=50,"C",IF(H8>=35,"D",IF(H8<=34,"E")))))) -> A | J8: =IF(Maths!D4="","",Maths!D4) -> 40 | K8: =IF(Maths!E4="","",Maths!E4) -> 28 | L8: =IF(Maths!F4="","",Maths!F4) -> 12 | M8: =IF($A8="","",ROUND(SUM(J8:L8),0)) -> 80 | N8: =IF(M8="","",IF(M8>=80,"A",IF(M8>=65,"B",IF(M8>=50,"C",IF(M8>=35,"D",IF(M8<=34,"E")))))) -> A | O8: =IF(English!D4="","",English!D4) -> 35 | P8: =IF(English!E4="","",English!E4) -> 36 | Q8: =IF(English!F4="","",English!F4) -> 18 | R8: =IF($A8="","",ROUND(SUM(O8:Q8),0)) -> 89 | S8: =IF(R8="","",IF(R8>=80,"A",IF(R8>=65,"B",IF(R8>=50,"C",IF(R8>=35,"D",IF(R8<=34,"E")))))) -> A | T8: =IF(Evs!D4="","",Evs!D4) -> 34 | U8: =IF(Evs!E4="","",Evs!E4) -> 32 | V8: =IF(Evs!F4="","",Evs!F4) -> 18 | W8: =IF($A8="","",ROUND(SUM(T8:V8),0)) -> 84 | X8: =IF(W8="","",IF(W8>=80,"A",IF(W8>=65,"B",IF(W8>=50,"C",IF(W8>=35,"D",IF(W8<=34,"E")))))) -> A | Y8: =IF('SEM1 PATRAK-B'!AQ6="","",'SEM1 PATRAK-B'!AQ6) -> 172 | Z8: =IF(Y8="","",IF(Y8>=160,"A",IF(Y8>=130,"B",IF(Y8>=100,"C",IF(Y8>=70,"D",IF(Y8<=69,"E")))))) -> A | AA8: =IF(OR(H8="",M8="",R8="",W8="",Y8=""),"",H8+M8+R8+W8+Y8) -> 511 | AB8: =IF(AA8="","",IF(AA8>=480,"A",IF(AA8>=390,"B",IF(AA8>=300,"C",IF(AA8>=210,"D",IF(AA8<=209,"E")))))) -> A | AC8: =IF('Attandance Day'!C4="","",'Attandance Day'!C4) -> 200 | AD8: =IFERROR(AA8/$AA$6,"") -> 0.85166667 | AE8: =IF(AA8="","",RANK(AA8,AA$8:AA$67)) -> 1
A9: =IF('Data Entry'!A9="","",'Data Entry'!A9) -> 2 | B9: =IF('Data Entry'!B9="","",'Data Entry'!B9) | C9: =IF('Data Entry'!C9="","",'Data Entry'!C9) | D9: =IF('Data Entry'!D9="","",'Data Entry'!D9) | E9: =IF(Gujarati!D5="","",Gujarati!D5) | F9: =IF(Gujarati!E5="","",Gujarati!E5) | G9: =IF(Gujarati!F5="","",Gujarati!F5) | H9: =IF($A9="","",ROUND(SUM(E9:G9),0)) -> 0 | I9: =IF(H9="","",IF(H9>=80,"A",IF(H9>=65,"B",IF(H9>=50,"C",IF(H9>=35,"D",IF(H9<=34,"E")))))) -> E | J9: =IF(Maths!D5="","",Maths!D5) | K9: =IF(Maths!E5="","",Maths!E5) | L9: =IF(Maths!F5="","",Maths!F5) | M9: =IF($A9="","",ROUND(SUM(J9:L9),0)) -> 0 | N9: =IF(M9="","",IF(M9>=80,"A",IF(M9>=65,"B",IF(M9>=50,"C",IF(M9>=35,"D",IF(M9<=34,"E")))))) -> E | O9: =IF(English!D5="","",English!D5) | P9: =IF(English!E5="","",English!E5) | Q9: =IF(English!F5="","",English!F5) | R9: =IF($A9="","",ROUND(SUM(O9:Q9),0)) -> 0 | S9: =IF(R9="","",IF(R9>=80,"A",IF(R9>=65,"B",IF(R9>=50,"C",IF(R9>=35,"D",IF(R9<=34,"E")))))) -> E | T9: =IF(Evs!D5="","",Evs!D5) | U9: =IF(Evs!E5="","",Evs!E5) | V9: =IF(Evs!F5="","",Evs!F5) | W9: =IF($A9="","",ROUND(SUM(T9:V9),0)) -> 0 | X9: =IF(W9="","",IF(W9>=80,"A",IF(W9>=65,"B",IF(W9>=50,"C",IF(W9>=35,"D",IF(W9<=34,"E")))))) -> E | Y9: =IF('SEM1 PATRAK-B'!AQ7="","",'SEM1 PATRAK-B'!AQ7) | Z9: =IF(Y9="","",IF(Y9>=160,"A",IF(Y9>=130,"B",IF(Y9>=100,"C",IF(Y9>=70,"D",IF(Y9<=69,"E")))))) | AA9: =IF(OR(H9="",M9="",R9="",W9="",Y9=""),"",H9+M9+R9+W9+Y9) | AB9: =IF(AA9="","",IF(AA9>=480,"A",IF(AA9>=390,"B",IF(AA9>=300,"C",IF(AA9>=210,"D",IF(AA9<=209,"E")))))) | AC9: =IF('Attandance Day'!C5="","",'Attandance Day'!C5) | AD9: =IFERROR(AA9/$AA$6,"") | AE9: =IF(AA9="","",RANK(AA9,AA$8:AA$67))
A10: =IF('Data Entry'!A10="","",'Data Entry'!A10) -> 3 | B10: =IF('Data Entry'!B10="","",'Data Entry'!B10) | C10: =IF('Data Entry'!C10="","",'Data Entry'!C10) | D10: =IF('Data Entry'!D10="","",'Data Entry'!D10) | E10: =IF(Gujarati!D6="","",Gujarati!D6) | F10: =IF(Gujarati!E6="","",Gujarati!E6) | G10: =IF(Gujarati!F6="","",Gujarati!F6) | H10: =IF($A10="","",ROUND(SUM(E10:G10),0)) -> 0 | I10: =IF(H10="","",IF(H10>=80,"A",IF(H10>=65,"B",IF(H10>=50,"C",IF(H10>=35,"D",IF(H10<=34,"E")))))) -> E | J10: =IF(Maths!D6="","",Maths!D6) | K10: =IF(Maths!E6="","",Maths!E6) | L10: =IF(Maths!F6="","",Maths!F6) | M10: =IF($A10="","",ROUND(SUM(J10:L10),0)) -> 0 | N10: =IF(M10="","",IF(M10>=80,"A",IF(M10>=65,"B",IF(M10>=50,"C",IF(M10>=35,"D",IF(M10<=34,"E")))))) -> E | O10: =IF(English!D6="","",English!D6) | P10: =IF(English!E6="","",English!E6) | Q10: =IF(English!F6="","",English!F6) | R10: =IF($A10="","",ROUND(SUM(O10:Q10),0)) -> 0 | S10: =IF(R10="","",IF(R10>=80,"A",IF(R10>=65,"B",IF(R10>=50,"C",IF(R10>=35,"D",IF(R10<=34,"E")))))) -> E | T10: =IF(Evs!D6="","",Evs!D6) | U10: =IF(Evs!E6="","",Evs!E6) | V10: =IF(Evs!F6="","",Evs!F6) | W10: =IF($A10="","",ROUND(SUM(T10:V10),0)) -> 0 | X10: =IF(W10="","",IF(W10>=80,"A",IF(W10>=65,"B",IF(W10>=50,"C",IF(W10>=35,"D",IF(W10<=34,"E")))))) -> E | Y10: =IF('SEM1 PATRAK-B'!AQ8="","",'SEM1 PATRAK-B'!AQ8) | Z10: =IF(Y10="","",IF(Y10>=160,"A",IF(Y10>=130,"B",IF(Y10>=100,"C",IF(Y10>=70,"D",IF(Y10<=69,"E")))))) | AA10: =IF(OR(H10="",M10="",R10="",W10="",Y10=""),"",H10+M10+R10+W10+Y10) | AB10: =IF(AA10="","",IF(AA10>=480,"A",IF(AA10>=390,"B",IF(AA10>=300,"C",IF(AA10>=210,"D",IF(AA10<=209,"E")))))) | AC10: =IF('Attandance Day'!C6="","",'Attandance Day'!C6) | AD10: =IFERROR(AA10/$AA$6,"") | AE10: =IF(AA10="","",RANK(AA10,AA$8:AA$67))
A11: =IF('Data Entry'!A11="","",'Data Entry'!A11) -> 4 | B11: =IF('Data Entry'!B11="","",'Data Entry'!B11) | C11: =IF('Data Entry'!C11="","",'Data Entry'!C11) | D11: =IF('Data Entry'!D11="","",'Data Entry'!D11) | E11: =IF(Gujarati!D7="","",Gujarati!D7) | F11: =IF(Gujarati!E7="","",Gujarati!E7) | G11: =IF(Gujarati!F7="","",Gujarati!F7) | H11: =IF($A11="","",ROUND(SUM(E11:G11),0)) -> 0 | I11: =IF(H11="","",IF(H11>=80,"A",IF(H11>=65,"B",IF(H11>=50,"C",IF(H11>=35,"D",IF(H11<=34,"E")))))) -> E | J11: =IF(Maths!D7="","",Maths!D7) | K11: =IF(Maths!E7="","",Maths!E7) | L11: =IF(Maths!F7="","",Maths!F7) | M11: =IF($A11="","",ROUND(SUM(J11:L11),0)) -> 0 | N11: =IF(M11="","",IF(M11>=80,"A",IF(M11>=65,"B",IF(M11>=50,"C",IF(M11>=35,"D",IF(M11<=34,"E")))))) -> E | O11: =IF(English!D7="","",English!D7) | P11: =IF(English!E7="","",English!E7) | Q11: =IF(English!F7="","",English!F7) | R11: =IF($A11="","",ROUND(SUM(O11:Q11),0)) -> 0 | S11: =IF(R11="","",IF(R11>=80,"A",IF(R11>=65,"B",IF(R11>=50,"C",IF(R11>=35,"D",IF(R11<=34,"E")))))) -> E | T11: =IF(Evs!D7="","",Evs!D7) | U11: =IF(Evs!E7="","",Evs!E7) | V11: =IF(Evs!F7="","",Evs!F7) | W11: =IF($A11="","",ROUND(SUM(T11:V11),0)) -> 0 | X11: =IF(W11="","",IF(W11>=80,"A",IF(W11>=65,"B",IF(W11>=50,"C",IF(W11>=35,"D",IF(W11<=34,"E")))))) -> E | Y11: =IF('SEM1 PATRAK-B'!AQ9="","",'SEM1 PATRAK-B'!AQ9) | Z11: =IF(Y11="","",IF(Y11>=160,"A",IF(Y11>=130,"B",IF(Y11>=100,"C",IF(Y11>=70,"D",IF(Y11<=69,"E")))))) | AA11: =IF(OR(H11="",M11="",R11="",W11="",Y11=""),"",H11+M11+R11+W11+Y11) | AB11: =IF(AA11="","",IF(AA11>=480,"A",IF(AA11>=390,"B",IF(AA11>=300,"C",IF(AA11>=210,"D",IF(AA11<=209,"E")))))) | AC11: =IF('Attandance Day'!C7="","",'Attandance Day'!C7) | AD11: =IFERROR(AA11/$AA$6,"") | AE11: =IF(AA11="","",RANK(AA11,AA$8:AA$67))
A12: =IF('Data Entry'!A12="","",'Data Entry'!A12) -> 5 | B12: =IF('Data Entry'!B12="","",'Data Entry'!B12) | C12: =IF('Data Entry'!C12="","",'Data Entry'!C12) | D12: =IF('Data Entry'!D12="","",'Data Entry'!D12) | E12: =IF(Gujarati!D8="","",Gujarati!D8) | F12: =IF(Gujarati!E8="","",Gujarati!E8) | G12: =IF(Gujarati!F8="","",Gujarati!F8) | H12: =IF($A12="","",ROUND(SUM(E12:G12),0)) -> 0 | I12: =IF(H12="","",IF(H12>=80,"A",IF(H12>=65,"B",IF(H12>=50,"C",IF(H12>=35,"D",IF(H12<=34,"E")))))) -> E | J12: =IF(Maths!D8="","",Maths!D8) | K12: =IF(Maths!E8="","",Maths!E8) | L12: =IF(Maths!F8="","",Maths!F8) | M12: =IF($A12="","",ROUND(SUM(J12:L12),0)) -> 0 | N12: =IF(M12="","",IF(M12>=80,"A",IF(M12>=65,"B",IF(M12>=50,"C",IF(M12>=35,"D",IF(M12<=34,"E")))))) -> E | O12: =IF(English!D8="","",English!D8) | P12: =IF(English!E8="","",English!E8) | Q12: =IF(English!F8="","",English!F8) | R12: =IF($A12="","",ROUND(SUM(O12:Q12),0)) -> 0 | S12: =IF(R12="","",IF(R12>=80,"A",IF(R12>=65,"B",IF(R12>=50,"C",IF(R12>=35,"D",IF(R12<=34,"E")))))) -> E | T12: =IF(Evs!D8="","",Evs!D8) | U12: =IF(Evs!E8="","",Evs!E8) | V12: =IF(Evs!F8="","",Evs!F8) | W12: =IF($A12="","",ROUND(SUM(T12:V12),0)) -> 0 | X12: =IF(W12="","",IF(W12>=80,"A",IF(W12>=65,"B",IF(W12>=50,"C",IF(W12>=35,"D",IF(W12<=34,"E")))))) -> E | Y12: =IF('SEM1 PATRAK-B'!AQ10="","",'SEM1 PATRAK-B'!AQ10) | Z12: =IF(Y12="","",IF(Y12>=160,"A",IF(Y12>=130,"B",IF(Y12>=100,"C",IF(Y12>=70,"D",IF(Y12<=69,"E")))))) | AA12: =IF(OR(H12="",M12="",R12="",W12="",Y12=""),"",H12+M12+R12+W12+Y12) | AB12: =IF(AA12="","",IF(AA12>=480,"A",IF(AA12>=390,"B",IF(AA12>=300,"C",IF(AA12>=210,"D",IF(AA12<=209,"E")))))) | AC12: =IF('Attandance Day'!C8="","",'Attandance Day'!C8) | AD12: =IFERROR(AA12/$AA$6,"") | AE12: =IF(AA12="","",RANK(AA12,AA$8:AA$67))
A13: =IF('Data Entry'!A13="","",'Data Entry'!A13) -> 6 | B13: =IF('Data Entry'!B13="","",'Data Entry'!B13) | C13: =IF('Data Entry'!C13="","",'Data Entry'!C13) | D13: =IF('Data Entry'!D13="","",'Data Entry'!D13) | E13: =IF(Gujarati!D9="","",Gujarati!D9) | F13: =IF(Gujarati!E9="","",Gujarati!E9) | G13: =IF(Gujarati!F9="","",Gujarati!F9) | H13: =IF($A13="","",ROUND(SUM(E13:G13),0)) -> 0 | I13: =IF(H13="","",IF(H13>=80,"A",IF(H13>=65,"B",IF(H13>=50,"C",IF(H13>=35,"D",IF(H13<=34,"E")))))) -> E | J13: =IF(Maths!D9="","",Maths!D9) | K13: =IF(Maths!E9="","",Maths!E9) | L13: =IF(Maths!F9="","",Maths!F9) | M13: =IF($A13="","",ROUND(SUM(J13:L13),0)) -> 0 | N13: =IF(M13="","",IF(M13>=80,"A",IF(M13>=65,"B",IF(M13>=50,"C",IF(M13>=35,"D",IF(M13<=34,"E")))))) -> E | O13: =IF(English!D9="","",English!D9) | P13: =IF(English!E9="","",English!E9) | Q13: =IF(English!F9="","",English!F9) | R13: =IF($A13="","",ROUND(SUM(O13:Q13),0)) -> 0 | S13: =IF(R13="","",IF(R13>=80,"A",IF(R13>=65,"B",IF(R13>=50,"C",IF(R13>=35,"D",IF(R13<=34,"E")))))) -> E | T13: =IF(Evs!D9="","",Evs!D9) | U13: =IF(Evs!E9="","",Evs!E9) | V13: =IF(Evs!F9="","",Evs!F9) | W13: =IF($A13="","",ROUND(SUM(T13:V13),0)) -> 0 | X13: =IF(W13="","",IF(W13>=80,"A",IF(W13>=65,"B",IF(W13>=50,"C",IF(W13>=35,"D",IF(W13<=34,"E")))))) -> E | Y13: =IF('SEM1 PATRAK-B'!AQ11="","",'SEM1 PATRAK-B'!AQ11) | Z13: =IF(Y13="","",IF(Y13>=160,"A",IF(Y13>=130,"B",IF(Y13>=100,"C",IF(Y13>=70,"D",IF(Y13<=69,"E")))))) | AA13: =IF(OR(H13="",M13="",R13="",W13="",Y13=""),"",H13+M13+R13+W13+Y13) | AB13: =IF(AA13="","",IF(AA13>=480,"A",IF(AA13>=390,"B",IF(AA13>=300,"C",IF(AA13>=210,"D",IF(AA13<=209,"E")))))) | AC13: =IF('Attandance Day'!C9="","",'Attandance Day'!C9) | AD13: =IFERROR(AA13/$AA$6,"") | AE13: =IF(AA13="","",RANK(AA13,AA$8:AA$67))
A14: =IF('Data Entry'!A14="","",'Data Entry'!A14) -> 7 | B14: =IF('Data Entry'!B14="","",'Data Entry'!B14) | C14: =IF('Data Entry'!C14="","",'Data Entry'!C14) | D14: =IF('Data Entry'!D14="","",'Data Entry'!D14) | E14: =IF(Gujarati!D10="","",Gujarati!D10) | F14: =IF(Gujarati!E10="","",Gujarati!E10) | G14: =IF(Gujarati!F10="","",Gujarati!F10) | H14: =IF($A14="","",ROUND(SUM(E14:G14),0)) -> 0 | I14: =IF(H14="","",IF(H14>=80,"A",IF(H14>=65,"B",IF(H14>=50,"C",IF(H14>=35,"D",IF(H14<=34,"E")))))) -> E | J14: =IF(Maths!D10="","",Maths!D10) | K14: =IF(Maths!E10="","",Maths!E10) | L14: =IF(Maths!F10="","",Maths!F10) | M14: =IF($A14="","",ROUND(SUM(J14:L14),0)) -> 0 | N14: =IF(M14="","",IF(M14>=80,"A",IF(M14>=65,"B",IF(M14>=50,"C",IF(M14>=35,"D",IF(M14<=34,"E")))))) -> E | O14: =IF(English!D10="","",English!D10) | P14: =IF(English!E10="","",English!E10) | Q14: =IF(English!F10="","",English!F10) | R14: =IF($A14="","",ROUND(SUM(O14:Q14),0)) -> 0 | S14: =IF(R14="","",IF(R14>=80,"A",IF(R14>=65,"B",IF(R14>=50,"C",IF(R14>=35,"D",IF(R14<=34,"E")))))) -> E | T14: =IF(Evs!D10="","",Evs!D10) | U14: =IF(Evs!E10="","",Evs!E10) | V14: =IF(Evs!F10="","",Evs!F10) | W14: =IF($A14="","",ROUND(SUM(T14:V14),0)) -> 0 | X14: =IF(W14="","",IF(W14>=80,"A",IF(W14>=65,"B",IF(W14>=50,"C",IF(W14>=35,"D",IF(W14<=34,"E")))))) -> E | Y14: =IF('SEM1 PATRAK-B'!AQ12="","",'SEM1 PATRAK-B'!AQ12) | Z14: =IF(Y14="","",IF(Y14>=160,"A",IF(Y14>=130,"B",IF(Y14>=100,"C",IF(Y14>=70,"D",IF(Y14<=69,"E")))))) | AA14: =IF(OR(H14="",M14="",R14="",W14="",Y14=""),"",H14+M14+R14+W14+Y14) | AB14: =IF(AA14="","",IF(AA14>=480,"A",IF(AA14>=390,"B",IF(AA14>=300,"C",IF(AA14>=210,"D",IF(AA14<=209,"E")))))) | AC14: =IF('Attandance Day'!C10="","",'Attandance Day'!C10) | AD14: =IFERROR(AA14/$AA$6,"") | AE14: =IF(AA14="","",RANK(AA14,AA$8:AA$67))
A15: =IF('Data Entry'!A15="","",'Data Entry'!A15) -> 8 | B15: =IF('Data Entry'!B15="","",'Data Entry'!B15) | C15: =IF('Data Entry'!C15="","",'Data Entry'!C15) | D15: =IF('Data Entry'!D15="","",'Data Entry'!D15) | E15: =IF(Gujarati!D11="","",Gujarati!D11) | F15: =IF(Gujarati!E11="","",Gujarati!E11) | G15: =IF(Gujarati!F11="","",Gujarati!F11) | H15: =IF($A15="","",ROUND(SUM(E15:G15),0)) -> 0 | I15: =IF(H15="","",IF(H15>=80,"A",IF(H15>=65,"B",IF(H15>=50,"C",IF(H15>=35,"D",IF(H15<=34,"E")))))) -> E | J15: =IF(Maths!D11="","",Maths!D11) | K15: =IF(Maths!E11="","",Maths!E11) | L15: =IF(Maths!F11="","",Maths!F11) | M15: =IF($A15="","",ROUND(SUM(J15:L15),0)) -> 0 | N15: =IF(M15="","",IF(M15>=80,"A",IF(M15>=65,"B",IF(M15>=50,"C",IF(M15>=35,"D",IF(M15<=34,"E")))))) -> E | O15: =IF(English!D11="","",English!D11) | P15: =IF(English!E11="","",English!E11) | Q15: =IF(English!F11="","",English!F11) | R15: =IF($A15="","",ROUND(SUM(O15:Q15),0)) -> 0 | S15: =IF(R15="","",IF(R15>=80,"A",IF(R15>=65,"B",IF(R15>=50,"C",IF(R15>=35,"D",IF(R15<=34,"E")))))) -> E | T15: =IF(Evs!D11="","",Evs!D11) | U15: =IF(Evs!E11="","",Evs!E11) | V15: =IF(Evs!F11="","",Evs!F11) | W15: =IF($A15="","",ROUND(SUM(T15:V15),0)) -> 0 | X15: =IF(W15="","",IF(W15>=80,"A",IF(W15>=65,"B",IF(W15>=50,"C",IF(W15>=35,"D",IF(W15<=34,"E")))))) -> E | Y15: =IF('SEM1 PATRAK-B'!AQ13="","",'SEM1 PATRAK-B'!AQ13) | Z15: =IF(Y15="","",IF(Y15>=160,"A",IF(Y15>=130,"B",IF(Y15>=100,"C",IF(Y15>=70,"D",IF(Y15<=69,"E")))))) | AA15: =IF(OR(H15="",M15="",R15="",W15="",Y15=""),"",H15+M15+R15+W15+Y15) | AB15: =IF(AA15="","",IF(AA15>=480,"A",IF(AA15>=390,"B",IF(AA15>=300,"C",IF(AA15>=210,"D",IF(AA15<=209,"E")))))) | AC15: =IF('Attandance Day'!C11="","",'Attandance Day'!C11) | AD15: =IFERROR(AA15/$AA$6,"") | AE15: =IF(AA15="","",RANK(AA15,AA$8:AA$67))
A16: =IF('Data Entry'!A16="","",'Data Entry'!A16) -> 9 | B16: =IF('Data Entry'!B16="","",'Data Entry'!B16) | C16: =IF('Data Entry'!C16="","",'Data Entry'!C16) | D16: =IF('Data Entry'!D16="","",'Data Entry'!D16) | E16: =IF(Gujarati!D12="","",Gujarati!D12) | F16: =IF(Gujarati!E12="","",Gujarati!E12) | G16: =IF(Gujarati!F12="","",Gujarati!F12) | H16: =IF($A16="","",ROUND(SUM(E16:G16),0)) -> 0 | I16: =IF(H16="","",IF(H16>=80,"A",IF(H16>=65,"B",IF(H16>=50,"C",IF(H16>=35,"D",IF(H16<=34,"E")))))) -> E | J16: =IF(Maths!D12="","",Maths!D12) | K16: =IF(Maths!E12="","",Maths!E12) | L16: =IF(Maths!F12="","",Maths!F12) | M16: =IF($A16="","",ROUND(SUM(J16:L16),0)) -> 0 | N16: =IF(M16="","",IF(M16>=80,"A",IF(M16>=65,"B",IF(M16>=50,"C",IF(M16>=35,"D",IF(M16<=34,"E")))))) -> E | O16: =IF(English!D12="","",English!D12) | P16: =IF(English!E12="","",English!E12) | Q16: =IF(English!F12="","",English!F12) | R16: =IF($A16="","",ROUND(SUM(O16:Q16),0)) -> 0 | S16: =IF(R16="","",IF(R16>=80,"A",IF(R16>=65,"B",IF(R16>=50,"C",IF(R16>=35,"D",IF(R16<=34,"E")))))) -> E | T16: =IF(Evs!D12="","",Evs!D12) | U16: =IF(Evs!E12="","",Evs!E12) | V16: =IF(Evs!F12="","",Evs!F12) | W16: =IF($A16="","",ROUND(SUM(T16:V16),0)) -> 0 | X16: =IF(W16="","",IF(W16>=80,"A",IF(W16>=65,"B",IF(W16>=50,"C",IF(W16>=35,"D",IF(W16<=34,"E")))))) -> E | Y16: =IF('SEM1 PATRAK-B'!AQ14="","",'SEM1 PATRAK-B'!AQ14) | Z16: =IF(Y16="","",IF(Y16>=160,"A",IF(Y16>=130,"B",IF(Y16>=100,"C",IF(Y16>=70,"D",IF(Y16<=69,"E")))))) | AA16: =IF(OR(H16="",M16="",R16="",W16="",Y16=""),"",H16+M16+R16+W16+Y16) | AB16: =IF(AA16="","",IF(AA16>=480,"A",IF(AA16>=390,"B",IF(AA16>=300,"C",IF(AA16>=210,"D",IF(AA16<=209,"E")))))) | AC16: =IF('Attandance Day'!C12="","",'Attandance Day'!C12) | AD16: =IFERROR(AA16/$AA$6,"") | AE16: =IF(AA16="","",RANK(AA16,AA$8:AA$67))
A17: =IF('Data Entry'!A17="","",'Data Entry'!A17) -> 10 | B17: =IF('Data Entry'!B17="","",'Data Entry'!B17) | C17: =IF('Data Entry'!C17="","",'Data Entry'!C17) | D17: =IF('Data Entry'!D17="","",'Data Entry'!D17) | E17: =IF(Gujarati!D13="","",Gujarati!D13) | F17: =IF(Gujarati!E13="","",Gujarati!E13) | G17: =IF(Gujarati!F13="","",Gujarati!F13) | H17: =IF($A17="","",ROUND(SUM(E17:G17),0)) -> 0 | I17: =IF(H17="","",IF(H17>=80,"A",IF(H17>=65,"B",IF(H17>=50,"C",IF(H17>=35,"D",IF(H17<=34,"E")))))) -> E | J17: =IF(Maths!D13="","",Maths!D13) | K17: =IF(Maths!E13="","",Maths!E13) | L17: =IF(Maths!F13="","",Maths!F13) | M17: =IF($A17="","",ROUND(SUM(J17:L17),0)) -> 0 | N17: =IF(M17="","",IF(M17>=80,"A",IF(M17>=65,"B",IF(M17>=50,"C",IF(M17>=35,"D",IF(M17<=34,"E")))))) -> E | O17: =IF(English!D13="","",English!D13) | P17: =IF(English!E13="","",English!E13) | Q17: =IF(English!F13="","",English!F13) | R17: =IF($A17="","",ROUND(SUM(O17:Q17),0)) -> 0 | S17: =IF(R17="","",IF(R17>=80,"A",IF(R17>=65,"B",IF(R17>=50,"C",IF(R17>=35,"D",IF(R17<=34,"E")))))) -> E | T17: =IF(Evs!D13="","",Evs!D13) | U17: =IF(Evs!E13="","",Evs!E13) | V17: =IF(Evs!F13="","",Evs!F13) | W17: =IF($A17="","",ROUND(SUM(T17:V17),0)) -> 0 | X17: =IF(W17="","",IF(W17>=80,"A",IF(W17>=65,"B",IF(W17>=50,"C",IF(W17>=35,"D",IF(W17<=34,"E")))))) -> E | Y17: =IF('SEM1 PATRAK-B'!AQ15="","",'SEM1 PATRAK-B'!AQ15) | Z17: =IF(Y17="","",IF(Y17>=160,"A",IF(Y17>=130,"B",IF(Y17>=100,"C",IF(Y17>=70,"D",IF(Y17<=69,"E")))))) | AA17: =IF(OR(H17="",M17="",R17="",W17="",Y17=""),"",H17+M17+R17+W17+Y17) | AB17: =IF(AA17="","",IF(AA17>=480,"A",IF(AA17>=390,"B",IF(AA17>=300,"C",IF(AA17>=210,"D",IF(AA17<=209,"E")))))) | AC17: =IF('Attandance Day'!C13="","",'Attandance Day'!C13) | AD17: =IFERROR(AA17/$AA$6,"") | AE17: =IF(AA17="","",RANK(AA17,AA$8:AA$67))
A18: =IF('Data Entry'!A18="","",'Data Entry'!A18) -> 11 | B18: =IF('Data Entry'!B18="","",'Data Entry'!B18) | C18: =IF('Data Entry'!C18="","",'Data Entry'!C18) | D18: =IF('Data Entry'!D18="","",'Data Entry'!D18) | E18: =IF(Gujarati!D14="","",Gujarati!D14) | F18: =IF(Gujarati!E14="","",Gujarati!E14) | G18: =IF(Gujarati!F14="","",Gujarati!F14) | H18: =IF($A18="","",ROUND(SUM(E18:G18),0)) -> 0 | I18: =IF(H18="","",IF(H18>=80,"A",IF(H18>=65,"B",IF(H18>=50,"C",IF(H18>=35,"D",IF(H18<=34,"E")))))) -> E | J18: =IF(Maths!D14="","",Maths!D14) | K18: =IF(Maths!E14="","",Maths!E14) | L18: =IF(Maths!F14="","",Maths!F14) | M18: =IF($A18="","",ROUND(SUM(J18:L18),0)) -> 0 | N18: =IF(M18="","",IF(M18>=80,"A",IF(M18>=65,"B",IF(M18>=50,"C",IF(M18>=35,"D",IF(M18<=34,"E")))))) -> E | O18: =IF(English!D14="","",English!D14) | P18: =IF(English!E14="","",English!E14) | Q18: =IF(English!F14="","",English!F14) | R18: =IF($A18="","",ROUND(SUM(O18:Q18),0)) -> 0 | S18: =IF(R18="","",IF(R18>=80,"A",IF(R18>=65,"B",IF(R18>=50,"C",IF(R18>=35,"D",IF(R18<=34,"E")))))) -> E | T18: =IF(Evs!D14="","",Evs!D14) | U18: =IF(Evs!E14="","",Evs!E14) | V18: =IF(Evs!F14="","",Evs!F14) | W18: =IF($A18="","",ROUND(SUM(T18:V18),0)) -> 0 | X18: =IF(W18="","",IF(W18>=80,"A",IF(W18>=65,"B",IF(W18>=50,"C",IF(W18>=35,"D",IF(W18<=34,"E")))))) -> E | Y18: =IF('SEM1 PATRAK-B'!AQ16="","",'SEM1 PATRAK-B'!AQ16) | Z18: =IF(Y18="","",IF(Y18>=160,"A",IF(Y18>=130,"B",IF(Y18>=100,"C",IF(Y18>=70,"D",IF(Y18<=69,"E")))))) | AA18: =IF(OR(H18="",M18="",R18="",W18="",Y18=""),"",H18+M18+R18+W18+Y18) | AB18: =IF(AA18="","",IF(AA18>=480,"A",IF(AA18>=390,"B",IF(AA18>=300,"C",IF(AA18>=210,"D",IF(AA18<=209,"E")))))) | AC18: =IF('Attandance Day'!C14="","",'Attandance Day'!C14) | AD18: =IFERROR(AA18/$AA$6,"") | AE18: =IF(AA18="","",RANK(AA18,AA$8:AA$67))
