Workbook

Sheet Index_Brijesh
Q1: Current Version | R1: 3
Q2: Made On :- | R2: 45575
Q3: Update On :- | R3: 45940
A4: 1 | B4: આકષર્ક તમામ પ્રિન્ટ પેજ બોર્ડર સાથે સૌ પ્રથમ વાર Excel માં. | D4: 1.આ સોફ્ટવેરમાં ફોન્ટ SHREE_GUJ_OTF_0750 વાપરવામાં આવેલ છે. જેથી ફોન્ટ સૌ પ્રથમ ડાઉનલોડ કરી પછી જ ફાઈલ open કરવી.
Q5: આવી અલગ અલગ ફાઈલ તેમજ અપડેટ ફાઈલ મેળવવા નીચેની લિંક પર ક્લિક કરી વોટ્સ અપ ગ્રુપમાં જોઈન થઇ જાઓ.
A6: 2 | B6: જ્યાં માહિતી ભરવાની થાય છે ત્યાં પ્રત્યેક cell માં સમજૂતી આપેલ છે. | D6: 2. દરેક શીટ પર જવા માટે બાજુમાં આપેલ બટનનો ઉપયોગ કરવો.
Q7: https://chat.whatsapp.com/DNQ8guLr9uGFARwSJZrYMu
A8: 3 | B8: તમામ માહિતી માટે ખૂબ જ ચોક્કસાઈ રહે તે માટે યોગ્ય ડેટા એન્ટ્રી પરcell વાઈઝ પ્રોટેકશન રાખવામાં આવેલ છે. | D8: 3. સૌ પ્રથમ DataEntry શીટ પર જવું
A10: 4 | B10: રજીસ્ટર સંખ્યા મુજબ જ દરેક ધોરણ ની રો ખૂલશે. | D10: 4. ત્યારબાદ DataEntry શીટ પરની માહિતી ચોકસાઈ પૂર્વક ભરવી.
A12: 5 | B12: બાળકોની માર્કશીટમાં ધોરણ ૮ માટે પાસ/ નાપાસ તેમજ વિકલાંગ બાળકો માટે ૨૦% પાસની સગવડ | D12: 5. ત્યારબાદ તમામ વિષયનાં ગુણ અને પત્રક B ના ગુણની માહિતી ભરવી.
A14: 6 | B14: અન્ય ધોરણ માટે બે વિષયથી વધારે E ગ્રેડ હોય તો વર્ગ બઢતી ની માહિતી આપતું પરિણામ પત્રક | D14: 6. ત્યારબાદ જ માર્કશીટ ( પત્રક F ), ટાઈટલ પેજ, તેમજ અન્ય તમામ પત્રકો પ્રિન્ટ કરવા.
A16: 7 | B16: રજીસ્ટર સંખ્યા મુજબ જ દરેક ધોરણ ની રો ખૂલશે. | D16: 7. માહિતી કોપી પેસ્ટ કરવાની થાય ત્યારે Paste Special માં Paste Value કરવું.
A18: 8 | B18: પત્રક C બંને સત્ર માટે. પત્રક F એક પેજ માં બે પરિણામ | D18: 8. દરેક Cell પર આપવામાં આવેલ Comments અવશ્ય વાંચવી અને તેને અનુસરવું.
A20: 9 | B20: સત્ર વાઈઝ તમામ પરિણામ તેમજ તેનું વિશ્લેષણ | D20: 9. જો તારીખ લખવામાં એરર આવે તો તમારા કમ્પ્યુટરનું તારીખ ફોરમેટ DD-MM-YYYY કરી દો.
A22: 10 | B22: સત્ર વાઈઝ અને કેટેગરી ( જાતિ ) વાઈઝ ગ્રેડનું વિશ્લેષણ
A24: 11 | B24: સત્ર વાઈઝ અને વિષય વાઈઝ ગ્રેડનું વિશ્લેષણ
A26: 12 | B26: FLN માટે સત્ર વાઈઝ એક્શન પ્લાન પત્રક
A28: 13 | B28: પ્રથમ ત્રણ નંબરે આવતા બાળકોની ગુણ,ગ્રેડ,ટકા દશાવતું પત્રક - સત્ર ૧ અને સત્ર ૨
A30: 14 | B30: ધોરણ ૮ ના પરિણામની સાથે સાથે પત્રક G
A32: 15 | B32: એક પણ કોલમની માહિતી બાકી હશે તો પરિણામ બતાવશે નહી જેથી ચોક્કસાઈ વધુ રહે.

Sheet PROBLEMS
A2: સોફ્ટવેર વાપરતી વખતે આવતી સમસ્યાઓ અને તેની સામે નિવારણ
A4: સમસ્યા - જન્મ તારીખ DD MM YYYY પ્રમાણે લેતું નથી
A5: ઉકેલ - તમારા કોમ્પ્યુટરનું તારીખ નું ફોર્મેટ DD MM YYYY મુજબ કરો.
A7: સમસ્યા - પત્રક C મા ટકાવારી 100 કરતા વધારે બતાવે છે.
A8: ઉકેલ - નવી અદ્યતન ફાઈલ વાપરો.
A10: સમસ્યા - પત્રક F માં જિલ્લા શિક્ષણ સમિતિ ગાંધીનગર જ રહે છે
A11: ઉકેલ - નવી અદ્યતન ફાઈલ વાપરો.
A13: સમસ્યા - પત્રક C માં ટકાવારી અને પાસ નંબર પ્રિન્ટમાં આવતી નથી
A14: ઉકેલ - જીસીઇઆરટી ના નિયમ મુજબ તે પ્રિન્ટમાં લઈ શકાય નહીં.
A16: સમસ્યા - પત્રક C ના ફ્રન્ટ પેજમાં ગ્રેડ અલગ અલગ આવે છે.
A17: ઉકેલ - સત્ર 1 છે ત્યાં સત્ર 2 કરો.
A19: સમસ્યા - સત્ર 1 અને સત્ર 2 ના ગ્રેડ સરાસરી 0 કે ખોટી બતાવે છે.
... A53: By Brijesh Patel

Sheet Data Entry
A2: શાળા નું નામ :- | B2: કુવાદરા પ્રાથમિક શાળા | C2: ગામ/શહેર નું નામ :- | D2: કુવાદરા | E2: પે સેન્ટર નું નામ :- | F2: લોદરા | G2: સી.આર.સી. :- | H2: લોદરા | I2: ધોરણ :- | J2: 3 | K2: વર્ગ શિક્ષકશ્રીનું નામ :- | L2: પટેલ બ્રિજેશકુમાર કે. | O2: શાળા ઉઘડવાની તારીખ :- | Q2: 09-06-2025 | R2: શાળા ઉઘડવાનો સમય :- | T2: 07:00 AM | V2: =Q2&" "&T2 -> 09-06-2025 07:00 AM
A3: તાલુકો :- | B3: માણસા | C3: જિલ્લો :- | D3: ગાંધીનગર | E3: વર્ષ :- | F3: 2025 | G3: - | H3: 2026 | I3: વર્ગ :- | J3: અ
A4: પરિણામની તારીખ :- | B4: 45447 | C4: સમિતિ | D4: જીલ્લા શિક્ષણ સમિતિ | F4: શાળા ડાયસ કોડ :- | G4: 24060404501 | I4: વર્ગની રજીસ્ટર સંખ્યા :- | J4: 60
A5: માહિતી Copy-Paste ના કરશો. માહિતી Copy કરીને Paste Special પર જઈ Value and Value Formatrs કરવું.
A7: ક્રમ | B7: વિદ્યાર્થીનું નામ | C7: જી.આર.નંબર | D7: જન્મ તારીખ | E7: સરનામું | F7: પિતાનું નામ | G7: માતા નું નામ | H7: સંપર્ક નંબર | I7: યુનિક આઈડી નંબર (શરૂના ૧૧ અંક) | J7: યુનિક આઈડી નંબર (છેલ્લા ૭ અંક) | K7: જાતિ | L7: કુમાર/કન્યા
A8: =IF(J4>0,1,"") -> 1 | B8: પટેલ બ્રિજેશકુમાર કાળાભાઈ | C8: 10251 | D8: 40544 | E8: અંબિકાનગર | F8: કાળાભાઈ | G8: કોકિલાબેન | H8: 7778031603 | I8: 24060404501 | J8: 1510001 | K8: GEN | L8: Boy | M8: =I8&" "&J8 -> 24060404501 1510001
A9: =IF($J$4>A8,A8+1,"") -> 2 | M9: =I9&" "&J9
A10: =IF($J$4>A9,A9+1,"") -> 3 | M10: =I10&" "&J10
A11: =IF($J$4>A10,A10+1,"") -> 4 | M11: =I11&" "&J11
A12: =IF($J$4>A11,A11+1,"") -> 5 | M12: =I12&" "&J12
A13: =IF($J$4>A12,A12+1,"") -> 6 | M13: =I13&" "&J13
A14: =IF($J$4>A13,A13+1,"") -> 7 | M14: =I14&" "&J14
A15: =IF($J$4>A14,A14+1,"") -> 8 | M15: =I15&" "&J15
A16: =IF($J$4>A15,A15+1,"") -> 9 | M16: =I16&" "&J16
A17: =IF($J$4>A16,A16+1,"") -> 10 | M17: =I17&" "&J17
A18: =IF($J$4>A17,A17+1,"") -> 11 | M18: =I18&" "&J18
A19: =IF($J$4>A18,A18+1,"") -> 12 | M19: =I19&" "&J19
A20: =IF($J$4>A19,A19+1,"") -> 13 | M20: =I20&" "&J20
... A67: =IF($J$4>A66,A66+1,"") -> 60 | M67: =I67&" "&J67

Sheet Gujarati
A1: ગુજરાતી
D2: સત્ર - 1 | H2: સત્ર - 2
A3: ક્રમ | B3: વિદ્યાર્થીનું નામ | D3: ત્રિમાસિક કસોટી ( 40 ) | E3: સત્રાંત મૂલ્યાંકન ( 40 ) | F3: સ્વ-અધ્યયન કાર્ય ( 20 ) | H3: ત્રિમાસિક કસોટી ( 40 ) | I3: સત્રાંત મૂલ્યાંકન ( 40 ) | J3: સ્વ-અધ્યયન કાર્ય ( 20 )
A4: =IF('Data Entry'!A8="","",'Data Entry'!A8) -> 1 | B4: =IF('Data Entry'!B8="","",'Data Entry'!B8) -> પટેલ બ્રિજેશકુમાર કાળાભાઈ | D4: 32 | E4: 36 | F4: 18 | H4: 25 | I4: 32 | J4: 18
A5: =IF('Data Entry'!A9="","",'Data Entry'!A9) -> 2 | B5: =IF('Data Entry'!B9="","",'Data Entry'!B9)
A6: =IF('Data Entry'!A10="","",'Data Entry'!A10) -> 3 | B6: =IF('Data Entry'!B10="","",'Data Entry'!B10)
A7: =IF('Data Entry'!A11="","",'Data Entry'!A11) -> 4 | B7: =IF('Data Entry'!B11="","",'Data Entry'!B11)
A8: =IF('Data Entry'!A12="","",'Data Entry'!A12) -> 5 | B8: =IF('Data Entry'!B12="","",'Data Entry'!B12)
A9: =IF('Data Entry'!A13="","",'Data Entry'!A13) -> 6 | B9: =IF('Data Entry'!B13="","",'Data Entry'!B13)
A10: =IF('Data Entry'!A14="","",'Data Entry'!A14) -> 7 | B10: =IF('Data Entry'!B14="","",'Data Entry'!B14)
A11: =IF('Data Entry'!A15="","",'Data Entry'!A15) -> 8 | B11: =IF('Data Entry'!B15="","",'Data Entry'!B15)
A12: =IF('Data Entry'!A16="","",'Data Entry'!A16) -> 9 | B12: =IF('Data Entry'!B16="","",'Data Entry'!B16)
A13: =IF('Data Entry'!A17="","",'Data Entry'!A17) -> 10 | B13: =IF('Data Entry'!B17="","",'Data Entry'!B17)
A14: =IF('Data Entry'!A18="","",'Data Entry'!A18) -> 11 | B14: =IF('Data Entry'!B18="","",'Data Entry'!B18)
A15: =IF('Data Entry'!A19="","",'Data Entry'!A19) -> 12 | B15: =IF('Data Entry'!B19="","",'Data Entry'!B19)
A16: =IF('Data Entry'!A20="","",'Data Entry'!A20) -> 13 | B16: =IF('Data Entry'!B20="","",'Data Entry'!B20)
... A63: =IF('Data Entry'!A67="","",'Data Entry'!A67) -> 60 | B63: =IF('Data Entry'!B67="","",'Data Entry'!B67)

Sheet Maths
A1: ગણિત
D2: સત્ર - 1 | H2: સત્ર - 2
A3: ક્રમ | B3: વિદ્યાર્થીનું નામ | D3: ત્રિમાસિક કસોટી ( 40 ) | E3: સત્રાંત મૂલ્યાંકન ( 40 ) | F3: સ્વ-અધ્યયન કાર્ય ( 20 ) | H3: ત્રિમાસિક કસોટી ( 40 ) | I3: સત્રાંત મૂલ્યાંકન ( 40 ) | J3: સ્વ-અધ્યયન કાર્ય ( 20 )
A4: =IF('Data Entry'!A8="","",'Data Entry'!A8) -> 1 | B4: =IF('Data Entry'!B8="","",'Data Entry'!B8) -> પટેલ બ્રિજેશકુમાર કાળાભાઈ | D4: 40 | E4: 28 | F4: 12 | H4: 36 | I4: 37 | J4: 19
A5: =IF('Data Entry'!A9="","",'Data Entry'!A9) -> 2 | B5: =IF('Data Entry'!B9="","",'Data Entry'!B9)
A6: =IF('Data Entry'!A10="","",'Data Entry'!A10) -> 3 | B6: =IF('Data Entry'!B10="","",'Data Entry'!B10)
A7: =IF('Data Entry'!A11="","",'Data Entry'!A11) -> 4 | B7: =IF('Data Entry'!B11="","",'Data Entry'!B11)
A8: =IF('Data Entry'!A12="","",'Data Entry'!A12) -> 5 | B8: =IF('Data Entry'!B12="","",'Data Entry'!B12)
A9: =IF('Data Entry'!A13="","",'Data Entry'!A13) -> 6 | B9: =IF('Data Entry'!B13="","",'Data Entry'!B13)
A10: =IF('Data Entry'!A14="","",'Data Entry'!A14) -> 7 | B10: =IF('Data Entry'!B14="","",'Data Entry'!B14)
A11: =IF('Data Entry'!A15="","",'Data Entry'!A15) -> 8 | B11: =IF('Data Entry'!B15="","",'Data Entry'!B15)
A12: =IF('Data Entry'!A16="","",'Data Entry'!A16) -> 9 | B12: =IF('Data Entry'!B16="","",'Data Entry'!B16)
A13: =IF('Data Entry'!A17="","",'Data Entry'!A17) -> 10 | B13: =IF('Data Entry'!B17="","",'Data Entry'!B17)
A14: =IF('Data Entry'!A18="","",'Data Entry'!A18) -> 11 | B14: =IF('Data Entry'!B18="","",'Data Entry'!B18)
A15: =IF('Data Entry'!A19="","",'Data Entry'!A19) -> 12 | B15: =IF('Data Entry'!B19="","",'Data Entry'!B19)
A16: =IF('Data Entry'!A20="","",'Data Entry'!A20) -> 13 | B16: =IF('Data Entry'!B20="","",'Data Entry'!B20)
... A63: =IF('Data Entry'!A67="","",'Data Entry'!A67) -> 60 | B63: =IF('Data Entry'!B67="","",'Data Entry'!B67)

Sheet English
A1: અંગ્રેજી
D2: સત્ર - 1 | H2: સત્ર - 2
A3: ક્રમ | B3: વિદ્યાર્થીનું નામ | D3: ત્રિમાસિક કસોટી ( 40 ) | E3: સત્રાંત મૂલ્યાંકન ( 40 ) | F3: સ્વ-અધ્યયન કાર્ય ( 20 ) | H3: ત્રિમાસિક કસોટી ( 40 ) | I3: સત્રાંત મૂલ્યાંકન ( 40 ) | J3: સ્વ-અધ્યયન કાર્ય ( 20 )
A4: =IF('Data Entry'!A8="","",'Data Entry'!A8) -> 1 | B4: =IF('Data Entry'!B8="","",'Data Entry'!B8) -> પટેલ બ્રિજેશકુમાર કાળાભાઈ | D4: 35 | E4: 36 | F4: 18 | H4: 34 | I4: 32 | J4: 17
A5: =IF('Data Entry'!A9="","",'Data Entry'!A9) -> 2 | B5: =IF('Data Entry'!B9="","",'Data Entry'!B9)
A6: =IF('Data Entry'!A10="","",'Data Entry'!A10) -> 3 | B6: =IF('Data Entry'!B10="","",'Data Entry'!B10)
A7: =IF('Data Entry'!A11="","",'Data Entry'!A11) -> 4 | B7: =IF('Data Entry'!B11="","",'Data Entry'!B11)
A8: =IF('Data Entry'!A12="","",'Data Entry'!A12) -> 5 | B8: =IF('Data Entry'!B12="","",'Data Entry'!B12)
A9: =IF('Data Entry'!A13="","",'Data Entry'!A13) -> 6 | B9: =IF('Data Entry'!B13="","",'Data Entry'!B13)
A10: =IF('Data Entry'!A14="","",'Data Entry'!A14) -> 7 | B10: =IF('Data Entry'!B14="","",'Data Entry'!B14)
A11: =IF('Data Entry'!A15="","",'Data Entry'!A15) -> 8 | B11: =IF('Data Entry'!B15="","",'Data Entry'!B15)
A12: =IF('Data Entry'!A16="","",'Data Entry'!A16) -> 9 | B12: =IF('Data Entry'!B16="","",'Data Entry'!B16)
A13: =IF('Data Entry'!A17="","",'Data Entry'!A17) -> 10 | B13: =IF('Data Entry'!B17="","",'Data Entry'!B17)
A14: =IF('Data Entry'!A18="","",'Data Entry'!A18) -> 11 | B14: =IF('Data Entry'!B18="","",'Data Entry'!B18)
A15: =IF('Data Entry'!A19="","",'Data Entry'!A19) -> 12 | B15: =IF('Data Entry'!B19="","",'Data Entry'!B19)
A16: =IF('Data Entry'!A20="","",'Data Entry'!A20) -> 13 | B16: =IF('Data Entry'!B20="","",'Data Entry'!B20)
... A63: =IF('Data Entry'!A67="","",'Data Entry'!A67) -> 60 | B63: =IF('Data Entry'!B67="","",'Data Entry'!B67)

Sheet Evs
A1: સૌની આસપાસ (પર્યાવરણ)
D2: સત્ર - 1 | H2: સત્ર - 2
A3: ક્રમ | B3: વિદ્યાર્થીનું નામ | D3: ત્રિમાસિક કસોટી ( 40 ) | E3: સત્રાંત મૂલ્યાંકન ( 40 ) | F3: સ્વ-અધ્યયન કાર્ય ( 20 ) | H3: ત્રિમાસિક કસોટી ( 40 ) | I3: સત્રાંત મૂલ્યાંકન ( 40 ) | J3: સ્વ-અધ્યયન કાર્ય ( 20 )
A4: =IF('Data Entry'!A8="","",'Data Entry'!A8) -> 1 | B4: =IF('Data Entry'!B8="","",'Data Entry'!B8) -> પટેલ બ્રિજેશકુમાર કાળાભાઈ | D4: 34 | E4: 32 | F4: 18 | H4: 40 | I4: 39 | J4: 19
A5: =IF('Data Entry'!A9="","",'Data Entry'!A9) -> 2 | B5: =IF('Data Entry'!B9="","",'Data Entry'!B9)
A6: =IF('Data Entry'!A10="","",'Data Entry'!A10) -> 3 | B6: =IF('Data Entry'!B10="","",'Data Entry'!B10)
A7: =IF('Data Entry'!A11="","",'Data Entry'!A11) -> 4 | B7: =IF('Data Entry'!B11="","",'Data Entry'!B11)
A8: =IF('Data Entry'!A12="","",'Data Entry'!A12) -> 5 | B8: =IF('Data Entry'!B12="","",'Data Entry'!B12)
A9: =IF('Data Entry'!A13="","",'Data Entry'!A13) -> 6 | B9: =IF('Data Entry'!B13="","",'Data Entry'!B13)
A10: =IF('Data Entry'!A14="","",'Data Entry'!A14) -> 7 | B10: =IF('Data Entry'!B14="","",'Data Entry'!B14)
A11: =IF('Data Entry'!A15="","",'Data Entry'!A15) -> 8 | B11: =IF('Data Entry'!B15="","",'Data Entry'!B15)
A12: =IF('Data Entry'!A16="","",'Data Entry'!A16) -> 9 | B12: =IF('Data Entry'!B16="","",'Data Entry'!B16)
A13: =IF('Data Entry'!A17="","",'Data Entry'!A17) -> 10 | B13: =IF('Data Entry'!B17="","",'Data Entry'!B17)
A14: =IF('Data Entry'!A18="","",'Data Entry'!A18) -> 11 | B14: =IF('Data Entry'!B18="","",'Data Entry'!B18)
A15: =IF('Data Entry'!A19="","",'Data Entry'!A19) -> 12 | B15: =IF('Data Entry'!B19="","",'Data Entry'!B19)
A16: =IF('Data Entry'!A20="","",'Data Entry'!A20) -> 13 | B16: =IF('Data Entry'!B20="","",'Data Entry'!B20)
... A63: =IF('Data Entry'!A67="","",'Data Entry'!A67) -> 60 | B63: =IF('Data Entry'!B67="","",'Data Entry'!B67)

Sheet Mark Slip
A1: =IF('Data Entry'!B2="","",'Data Entry'!B2) -> કુવાદરા પ્રાથમિક શાળા
B3: ધોરણ :- | C3: =IF('Data Entry'!J2="","",'Data Entry'!J2) -> 3 | F3: વર્ગ :- | H3: =IF('Data Entry'!J3="","",'Data Entry'!J3) -> અ | K3: વિષય :- | M3: સૌની આસપાસ
A5: ગુણ પત્રક
A7: રોલ નંબર | B7: વિદ્યાર્થીનું નામ | C7: પ્રશ્ન -1 | D7: પ્રશ્ન -2 | E7: પ્રશ્ન -3 | F7: પ્રશ્ન -4 | G7: પ્રશ્ન -5 | H7: પ્રશ્ન -6 | I7: પ્રશ્ન -7 | J7: પ્રશ્ન -8 | K7: પ્રશ્ન -9 | L7: પ્રશ્ન -10 | M7: પ્રશ્ન -11 | N7: પ્રશ્ન -12 | O7: પ્રશ્ન -13 | P7: પ્રશ્ન -14 | Q7: કુલ માર્ક્સ
C8: 2 | D8: 2 | E8: 2 | F8: 3 | G8: 3 | H8: 3 | I8: 5 | J8: 5 | K8: 5 | L8: 2 | M8: 2 | N8: 2 | O8: 2 | P8: 2 | Q8: =SUM(C8:P8) -> 40
A9: =IF('Data Entry'!A8="","",'Data Entry'!A8) -> 1 | B9: =IF('Data Entry'!B8="","",'Data Entry'!B8) -> પટેલ બ્રિજેશકુમાર કાળાભાઈ | C9: 1 | D9: 1 | E9: 1 | F9: 1 | G9: 1 | H9: 2 | I9: 2 | J9: 3 | K9: 2 | L9: 2 | M9: 2 | N9: 2 | O9: 2 | P9: 2 | Q9: =IF(A9="","",SUM(C9:P9)) -> 24
A10: =IF('Data Entry'!A9="","",'Data Entry'!A9) -> 2 | B10: =IF('Data Entry'!B9="","",'Data Entry'!B9) | Q10: =IF(A10="","",SUM(C10:P10)) -> 0
A11: =IF('Data Entry'!A10="","",'Data Entry'!A10) -> 3 | B11: =IF('Data Entry'!B10="","",'Data Entry'!B10) | Q11: =IF(A11="","",SUM(C11:P11)) -> 0
A12: =IF('Data Entry'!A11="","",'Data Entry'!A11) -> 4 | B12: =IF('Data Entry'!B11="","",'Data Entry'!B11) | Q12: =IF(A12="","",SUM(C12:P12)) -> 0
A13: =IF('Data Entry'!A12="","",'Data Entry'!A12) -> 5 | B13: =IF('Data Entry'!B12="","",'Data Entry'!B12) | Q13: =IF(A13="","",SUM(C13:P13)) -> 0
A14: =IF('Data Entry'!A13="","",'Data Entry'!A13) -> 6 | B14: =IF('Data Entry'!B13="","",'Data Entry'!B13) | Q14: =IF(A14="","",SUM(C14:P14)) -> 0
A15: =IF('Data Entry'!A14="","",'Data Entry'!A14) -> 7 | B15: =IF('Data Entry'!B14="","",'Data Entry'!B14) | Q15: =IF(A15="","",SUM(C15:P15)) -> 0
A16: =IF('Data Entry'!A15="","",'Data Entry'!A15) -> 8 | B16: =IF('Data Entry'!B15="","",'Data Entry'!B15) | Q16: =IF(A16="","",SUM(C16:P16)) -> 0
A17: =IF('Data Entry'!A16="","",'Data Entry'!A16) -> 9 | B17: =IF('Data Entry'!B16="","",'Data Entry'!B16) | Q17: =IF(A17="","",SUM(C17:P17)) -> 0
A18: =IF('Data Entry'!A17="","",'Data Entry'!A17) -> 10 | B18: =IF('Data Entry'!B17="","",'Data Entry'!B17) | Q18: =IF(A18="","",SUM(C18:P18)) -> 0
A19: =IF('Data Entry'!A18="","",'Data Entry'!A18) -> 11 | B19: =IF('Data Entry'!B18="","",'Data Entry'!B18) | Q19: =IF(A19="","",SUM(C19:P19)) -> 0
A20: =IF('Data Entry'!A19="","",'Data Entry'!A19) -> 12 | B20: =IF('Data Entry'!B19="","",'Data Entry'!B19) | Q20: =IF(A20="","",SUM(C20:P20)) -> 0
A21: =IF('Data Entry'!A20="","",'Data Entry'!A20) -> 13 | B21: =IF('Data Entry'!B20="","",'Data Entry'!B20) | Q21: =IF(A21="","",SUM(C21:P21)) -> 0
... A68: =IF('Data Entry'!A67="","",'Data Entry'!A67) -> 60 | B68: =IF('Data Entry'!B67="","",'Data Entry'!B67) | Q68: =IF(A68="","",SUM(C68:P68)) -> 0

Sheet Attandance Day
A1: હાજરી ના કાર્ય દિવસ
B2: કુલ કાર્ય દિવસ | C2: 233
A3: ક્રમ | B3: વિદ્યાર્થીનું નામ | C3: કાર્ય દિવસ
A4: =IF('Data Entry'!A8="","",'Data Entry'!A8) -> 1 | B4: =IF('Data Entry'!B8="","",'Data Entry'!B8) -> પટેલ બ્રિજેશકુમાર કાળાભાઈ | C4: 200
A5: =IF('Data Entry'!A9="","",'Data Entry'!A9) -> 2 | B5: =IF('Data Entry'!B9="","",'Data Entry'!B9)
A6: =IF('Data Entry'!A10="","",'Data Entry'!A10) -> 3 | B6: =IF('Data Entry'!B10="","",'Data Entry'!B10)
A7: =IF('Data Entry'!A11="","",'Data Entry'!A11) -> 4 | B7: =IF('Data Entry'!B11="","",'Data Entry'!B11)
A8: =IF('Data Entry'!A12="","",'Data Entry'!A12) -> 5 | B8: =IF('Data Entry'!B12="","",'Data Entry'!B12)
A9: =IF('Data Entry'!A13="","",'Data Entry'!A13) -> 6 | B9: =IF('Data Entry'!B13="","",'Data Entry'!B13)
A10: =IF('Data Entry'!A14="","",'Data Entry'!A14) -> 7 | B10: =IF('Data Entry'!B14="","",'Data Entry'!B14)
A11: =IF('Data Entry'!A15="","",'Data Entry'!A15) -> 8 | B11: =IF('Data Entry'!B15="","",'Data Entry'!B15)
A12: =IF('Data Entry'!A16="","",'Data Entry'!A16) -> 9 | B12: =IF('Data Entry'!B16="","",'Data Entry'!B16)
A13: =IF('Data Entry'!A17="","",'Data Entry'!A17) -> 10 | B13: =IF('Data Entry'!B17="","",'Data Entry'!B17)
A14: =IF('Data Entry'!A18="","",'Data Entry'!A18) -> 11 | B14: =IF('Data Entry'!B18="","",'Data Entry'!B18)
A15: =IF('Data Entry'!A19="","",'Data Entry'!A19) -> 12 | B15: =IF('Data Entry'!B19="","",'Data Entry'!B19)
A16: =IF('Data Entry'!A20="","",'Data Entry'!A20) -> 13 | B16: =IF('Data Entry'!B20="","",'Data Entry'!B20)
... A63: =IF('Data Entry'!A67="","",'Data Entry'!A67) -> 60 | B63: =IF('Data Entry'!B67="","",'Data Entry'!B67)

Sheet UDISE PLUS
A1: Udise Plusની માહિતી
A2: ક્રમ | B2: વિદ્યાર્થીનું નામ | D2: કાર્ય દિવસ | E2: ટકાવારી | F2: પાસ નંબર | G2: હાજરી ની ટકાવારી
A3: =IF('Data Entry'!A8="","",'Data Entry'!A8) -> 1 | B3: =IF('Data Entry'!B8="","",'Data Entry'!B8) -> પટેલ બ્રિજેશકુમાર કાળાભાઈ | D3: =IF('Attandance Day'!C4="","",'Attandance Day'!C4) -> 200 | E3: =IF('PATRAK-C'!AP8="","",'PATRAK-C'!AP8) -> 0.852 | F3: =IF('PATRAK-C'!AQ8="","",'PATRAK-C'!AQ8) -> 1 | G3: =IFERROR(IF(A3="","",D3/'Attandance Day'!$C$2),"") -> 0.8583691
A4: =IF('Data Entry'!A9="","",'Data Entry'!A9) -> 2 | B4: =IF('Data Entry'!B9="","",'Data Entry'!B9) | D4: =IF('Attandance Day'!C5="","",'Attandance Day'!C5) | E4: =IF('PATRAK-C'!AP9="","",'PATRAK-C'!AP9) | F4: =IF('PATRAK-C'!AQ9="","",'PATRAK-C'!AQ9) | G4: =IFERROR(IF(A4="","",D4/'Attandance Day'!$C$2),"")
A5: =IF('Data Entry'!A10="","",'Data Entry'!A10) -> 3 | B5: =IF('Data Entry'!B10="","",'Data Entry'!B10) | D5: =IF('Attandance Day'!C6="","",'Attandance Day'!C6) | E5: =IF('PATRAK-C'!AP10="","",'PATRAK-C'!AP10) | F5: =IF('PATRAK-C'!AQ10="","",'PATRAK-C'!AQ10) | G5: =IFERROR(IF(A5="","",D5/'Attandance Day'!$C$2),"")
A6: =IF('Data Entry'!A11="","",'Data Entry'!A11) -> 4 | B6: =IF('Data Entry'!B11="","",'Data Entry'!B11) | D6: =IF('Attandance Day'!C7="","",'Attandance Day'!C7) | E6: =IF('PATRAK-C'!AP11="","",'PATRAK-C'!AP11) | F6: =IF('PATRAK-C'!AQ11="","",'PATRAK-C'!AQ11) | G6: =IFERROR(IF(A6="","",D6/'Attandance Day'!$C$2),"")
A7: =IF('Data Entry'!A12="","",'Data Entry'!A12) -> 5 | B7: =IF('Data Entry'!B12="","",'Data Entry'!B12) | D7: =IF('Attandance Day'!C8="","",'Attandance Day'!C8) | E7: =IF('PATRAK-C'!AP12="","",'PATRAK-C'!AP12) | F7: =IF('PATRAK-C'!AQ12="","",'PATRAK-C'!AQ12) | G7: =IFERROR(IF(A7="","",D7/'Attandance Day'!$C$2),"")
A8: =IF('Data Entry'!A13="","",'Data Entry'!A13) -> 6 | B8: =IF('Data Entry'!B13="","",'Data Entry'!B13) | D8: =IF('Attandance Day'!C9="","",'Attandance Day'!C9) | E8: =IF('PATRAK-C'!AP13="","",'PATRAK-C'!AP13) | F8: =IF('PATRAK-C'!AQ13="","",'PATRAK-C'!AQ13) | G8: =IFERROR(IF(A8="","",D8/'Attandance Day'!$C$2),"")
A9: =IF('Data Entry'!A14="","",'Data Entry'!A14) -> 7 | B9: =IF('Data Entry'!B14="","",'Data Entry'!B14) | D9: =IF('Attandance Day'!C10="","",'Attandance Day'!C10) | E9: =IF('PATRAK-C'!AP14="","",'PATRAK-C'!AP14) | F9: =IF('PATRAK-C'!AQ14="","",'PATRAK-C'!AQ14) | G9: =IFERROR(IF(A9="","",D9/'Attandance Day'!$C$2),"")
A10: =IF('Data Entry'!A15="","",'Data Entry'!A15) -> 8 | B10: =IF('Data Entry'!B15="","",'Data Entry'!B15) | D10: =IF('Attandance Day'!C11="","",'Attandance Day'!C11) | E10: =IF('PATRAK-C'!AP15="","",'PATRAK-C'!AP15) | F10: =IF('PATRAK-C'!AQ15="","",'PATRAK-C'!AQ15) | G10: =IFERROR(IF(A10="","",D10/'Attandance Day'!$C$2),"")
A11: =IF('Data Entry'!A16="","",'Data Entry'!A16) -> 9 | B11: =IF('Data Entry'!B16="","",'Data Entry'!B16) | D11: =IF('Attandance Day'!C12="","",'Attandance Day'!C12) | E11: =IF('PATRAK-C'!AP16="","",'PATRAK-C'!AP16) | F11: =IF('PATRAK-C'!AQ16="","",'PATRAK-C'!AQ16) | G11: =IFERROR(IF(A11="","",D11/'Attandance Day'!$C$2),"")
A12: =IF('Data Entry'!A17="","",'Data Entry'!A17) -> 10 | B12: =IF('Data Entry'!B17="","",'Data Entry'!B17) | D12: =IF('Attandance Day'!C13="","",'Attandance Day'!C13) | E12: =IF('PATRAK-C'!AP17="","",'PATRAK-C'!AP17) | F12: =IF('PATRAK-C'!AQ17="","",'PATRAK-C'!AQ17) | G12: =IFERROR(IF(A12="","",D12/'Attandance Day'!$C$2),"")
A13: =IF('Data Entry'!A18="","",'Data Entry'!A18) -> 11 | B13: =IF('Data Entry'!B18="","",'Data Entry'!B18) | D13: =IF('Attandance Day'!C14="","",'Attandance Day'!C14) | E13: =IF('PATRAK-C'!AP18="","",'PATRAK-C'!AP18) | F13: =IF('PATRAK-C'!AQ18="","",'PATRAK-C'!AQ18) | G13: =IFERROR(IF(A13="","",D13/'Attandance Day'!$C$2),"")
A14: =IF('Data Entry'!A19="","",'Data Entry'!A19) -> 12 | B14: =IF('Data Entry'!B19="","",'Data Entry'!B19) | D14: =IF('Attandance Day'!C15="","",'Attandance Day'!C15) | E14: =IF('PATRAK-C'!AP19="","",'PATRAK-C'!AP19) | F14: =IF('PATRAK-C'!AQ19="","",'PATRAK-C'!AQ19) | G14: =IFERROR(IF(A14="","",D14/'Attandance Day'!$C$2),"")
... A62: =IF('Data Entry'!A67="","",'Data Entry'!A67) -> 60 | B62: =IF('Data Entry'!B67="","",'Data Entry'!B67) | D62: =IF('Attandance Day'!C63="","",'Attandance Day'!C63) | E62: =IF('PATRAK-C'!AP67="","",'PATRAK-C'!AP67) | F62: =IF('PATRAK-C'!AQ67="","",'PATRAK-C'!AQ67) | G62: =IFERROR(IF(A62="","",D62/'Attandance Day'!$C$2),"")

Sheet Title-C
B3: શાળાકીય સર્વગ્રાહી મૂલ્યાંકન | X3: સત્ર:- | Y3: 1
B4: ( SCE )
B6: ધોરણ :- | C6: =IF('Data Entry'!J2="","",'Data Entry'!J2) -> 3 | F6: વર્ગ :- | H6: =IF('Data Entry'!J3="","",'Data Entry'!J3) -> અ | M6: વર્ષ :- | P6: =IF('Data Entry'!F3="","",'Data Entry'!F3) -> 2025 | R6: - | S6: =IF('Data Entry'!H3="","",'Data Entry'!H3) -> 2026
B9: શાળા નું નામ | D9: : | E9: =IF('Data Entry'!B2="","",'Data Entry'!B2) -> કુવાદરા પ્રાથમિક શાળા
B10: ગામ | D10: : | E10: =IF('Data Entry'!D2="","",'Data Entry'!D2) -> કુવાદરા
B11: તાલુકો | D11: : | E11: =IF('Data Entry'!B3="","",'Data Entry'!B3) -> માણસા
B12: જીલ્લો | D12: : | E12: =IF('Data Entry'!D3="","",'Data Entry'!D3) -> ગાંધીનગર
B13: પે. સેન્ટર | D13: : | E13: =IF('Data Entry'!F2="","",'Data Entry'!F2) -> લોદરા
B14: પરિણામ તારીખ | D14: : | E14: =IF('Data Entry'!B4="","",'Data Entry'!B4) -> 45447
B15: વર્ગ શિક્ષક નું નામ | D15: : | E15: =IF('Data Entry'!L2="","",'Data Entry'!L2) -> પટેલ બ્રિજેશકુમાર કે.
B16: સી.આર.સી. | D16: : | E16: =IF('Data Entry'!H2="","",'Data Entry'!H2) -> લોદરા
B18: જાતિ | C18: રજિ. સંખ્યા | F18: મેળવેલ એકંદર ગ્રેડ | U18: નોંધ
F19: A | I19: B | L19: C | O19: D | R19: E
C20: કુમાર | D20: કન્યા | E20: કુલ | F20: કુમાર | G20: કન્યા | H20: કુલ | I20: કુમાર | J20: કન્યા | K20: કુલ | L20: કુમાર | M20: કન્યા | N20: કુલ | O20: કુમાર | P20: કન્યા | Q20: કુલ | R20: કુમાર | S20: કન્યા | T20: કુલ
B21: અનુ. જાતિ | C21: =IF($Y$3="","",IF($Y$3=1,AJ35,AJ39)) -> 0 | D21: =IF($Y$3="","",IF($Y$3=1,AK35,AK39)) -> 0 | E21: =IF($Y$3="","",SUM(C21:D21)) -> 0 | F21: =IF($Y$3="","",IF($Y$3=1,AL35,AL39)) -> 0 | G21: =IF($Y$3="","",IF($Y$3=1,AM35,AM39)) -> 0 | H21: =IF($Y$3="","",SUM(F21:G21)) -> 0 | I21: =IF($Y$3="","",IF($Y$3=1,AN35,AN39)) -> 0 | J21: =IF($Y$3="","",IF($Y$3=1,AO35,AO39)) -> 0 | K21: =IF($Y$3="","",SUM(I21:J21)) -> 0 | L21: =IF($Y$3="","",IF($Y$3=1,AP35,AP39)) -> 0 | M21: =IF($Y$3="","",IF($Y$3=1,AQ35,AQ39)) -> 0 | N21: =IF($Y$3="","",SUM(L21:M21)) -> 0 | O21: =IF($Y$3="","",IF($Y$3=1,AR35,AR39)) -> 0 | P21: =IF($Y$3="","",IF($Y$3=1,AS35,AS39)) -> 0 | Q21: =IF($Y$3="","",SUM(O21:P21)) -> 0 | R21: =IF($Y$3="","",IF($Y$3=1,AT35,AT39)) -> 0 | S21: =IF($Y$3="","",IF($Y$3=1,AU35,AU39)) -> 0 | T21: =IF($Y$3="","",SUM(R21:S21)) -> 0
B22: અનુ. જન. જાતિ | C22: =IF($Y$3="","",IF($Y$3=1,AJ36,AJ40)) -> 0 | D22: =IF($Y$3="","",IF($Y$3=1,AK36,AK40)) -> 0 | E22: =IF($Y$3="","",SUM(C22:D22)) -> 0 | F22: =IF($Y$3="","",IF($Y$3=1,AL36,AL40)) -> 0 | G22: =IF($Y$3="","",IF($Y$3=1,AM36,AM40)) -> 0 | H22: =IF($Y$3="","",SUM(F22:G22)) -> 0 | I22: =IF($Y$3="","",IF($Y$3=1,AN36,AN40)) -> 0 | J22: =IF($Y$3="","",IF($Y$3=1,AO36,AO40)) -> 0 | K22: =IF($Y$3="","",SUM(I22:J22)) -> 0 | L22: =IF($Y$3="","",IF($Y$3=1,AP36,AP40)) -> 0 | M22: =IF($Y$3="","",IF($Y$3=1,AQ36,AQ40)) -> 0 | N22: =IF($Y$3="","",SUM(L22:M22)) -> 0 | O22: =IF($Y$3="","",IF($Y$3=1,AR36,AR40)) -> 0 | P22: =IF($Y$3="","",IF($Y$3=1,AS36,AS40)) -> 0 | Q22: =IF($Y$3="","",SUM(O22:P22)) -> 0 | R22: =IF($Y$3="","",IF($Y$3=1,AT36,AT40)) -> 0 | S22: =IF($Y$3="","",IF($Y$3=1,AU36,AU40)) -> 0 | T22: =IF($Y$3="","",SUM(R22:S22)) -> 0
B23: સામાજિક અને શૈક્ષણિક પછાત | C23: =IF($Y$3="","",IF($Y$3=1,AJ37,AJ41)) -> 0 | D23: =IF($Y$3="","",IF($Y$3=1,AK37,AK41)) -> 0 | E23: =IF($Y$3="","",SUM(C23:D23)) -> 0 | F23: =IF($Y$3="","",IF($Y$3=1,AL37,AL41)) -> 0 | G23: =IF($Y$3="","",IF($Y$3=1,AM37,AM41)) -> 0 | H23: =IF($Y$3="","",SUM(F23:G23)) -> 0 | I23: =IF($Y$3="","",IF($Y$3=1,AN37,AN41)) -> 0 | J23: =IF($Y$3="","",IF($Y$3=1,AO37,AO41)) -> 0 | K23: =IF($Y$3="","",SUM(I23:J23)) -> 0 | L23: =IF($Y$3="","",IF($Y$3=1,AP37,AP41)) -> 0 | M23: =IF($Y$3="","",IF($Y$3=1,AQ37,AQ41)) -> 0 | N23: =IF($Y$3="","",SUM(L23:M23)) -> 0 | O23: =IF($Y$3="","",IF($Y$3=1,AR37,AR41)) -> 0 | P23: =IF($Y$3="","",IF($Y$3=1,AS37,AS41)) -> 0 | Q23: =IF($Y$3="","",SUM(O23:P23)) -> 0 | R23: =IF($Y$3="","",IF($Y$3=1,AT37,AT41)) -> 0 | S23: =IF($Y$3="","",IF($Y$3=1,AU37,AU41)) -> 0 | T23: =IF($Y$3="","",SUM(R23:S23)) -> 0
B24: અન્ય | C24: =IF($Y$3="","",IF($Y$3=1,AJ38,AJ42)) -> 1 | D24: =IF($Y$3="","",IF($Y$3=1,AK38,AK42)) -> 0 | E24: =IF($Y$3="","",SUM(C24:D24)) -> 1 | F24: =IF($Y$3="","",IF($Y$3=1,AL38,AL42)) -> 1 | G24: =IF($Y$3="","",IF($Y$3=1,AM38,AM42)) -> 0 | H24: =IF($Y$3="","",SUM(F24:G24)) -> 1 | I24: =IF($Y$3="","",IF($Y$3=1,AN38,AN42)) -> 0 | J24: =IF($Y$3="","",IF($Y$3=1,AO38,AO42)) -> 0 | K24: =IF($Y$3="","",SUM(I24:J24)) -> 0 | L24: =IF($Y$3="","",IF($Y$3=1,AP38,AP42)) -> 0 | M24: =IF($Y$3="","",IF($Y$3=1,AQ38,AQ42)) -> 0 | N24: =IF($Y$3="","",SUM(L24:M24)) -> 0 | O24: =IF($Y$3="","",IF($Y$3=1,AR38,AR42)) -> 0 | P24: =IF($Y$3="","",IF($Y$3=1,AS38,AS42)) -> 0 | Q24: =IF($Y$3="","",SUM(O24:P24)) -> 0 | R24: =IF($Y$3="","",IF($Y$3=1,AT38,AT42)) -> 0 | S24: =IF($Y$3="","",IF($Y$3=1,AU38,AU42)) -> 0 | T24: =IF($Y$3="","",SUM(R24:S24)) -> 0
B25: કુલ | C25: =IF($Y$3="","",SUM(C21:C24)) -> 1 | D25: =IF($Y$3="","",SUM(D21:D24)) -> 0 | E25: =IF($Y$3="","",SUM(E21:E24)) -> 1 | F25: =IF($Y$3="","",SUM(F21:F24)) -> 1 | G25: =IF($Y$3="","",SUM(G21:G24)) -> 0 | H25: =IF($Y$3="","",SUM(H21:H24)) -> 1 | I25: =IF($Y$3="","",SUM(I21:I24)) -> 0 | J25: =IF($Y$3="","",SUM(J21:J24)) -> 0 | ... T25: =IF($Y$3="","",SUM(T21:T24)) -> 0
AI33: જાતિ | AJ33: રજીસ્ટર સખ્યા | AL33: A | AN33: B | AP33: C | AR33: D | AT33: E
AJ34: કુમાર | AK34: કન્યા | AL34: કુમાર | AM34: કન્યા | AN34: કુમાર | AO34: કન્યા | AP34: કુમાર | AQ34: કન્યા | AR34: કુમાર | AS34: કન્યા | AT34: કુમાર | AU34: કન્યા
AI35: SC | AJ35: =COUNTIFS('Data Entry'!$K$8:$K$67,'Title-C'!AI35,'Data Entry'!$L$8:$L$67,"Boy") -> 0 | AK35: =COUNTIFS('Data Entry'!$K$8:$K$67,'Title-C'!AI35,'Data Entry'!$L$8:$L$67,"Girl") -> 0 | AL35: =COUNTIFS('Data Entry'!$L$8:$L$67,"Boy",'Data Entry'!$K$8:$K$67,"SC",'SEM1 PATRAK-C'!$AB$8:$AB$67,"A") -> 0 | AM35: =COUNTIFS('Data Entry'!$L$8:$L$67,"Girl",'Data Entry'!$K$8:$K$67,"SC",'SEM1 PATRAK-C'!$AB$8:$AB$67,"A") -> 0 | AN35: =COUNTIFS('Data Entry'!$L$8:$L$67,"Boy",'Data Entry'!$K$8:$K$67,"SC",'SEM1 PATRAK-C'!$AB$8:$AB$67,"B") -> 0 | AO35: =COUNTIFS('Data Entry'!$L$8:$L$67,"Girl",'Data Entry'!$K$8:$K$67,"SC",'SEM1 PATRAK-C'!$AB$8:$AB$67,"B") -> 0 | AP35: =COUNTIFS('Data Entry'!$L$8:$L$67,"Boy",'Data Entry'!$K$8:$K$67,"SC",'SEM1 PATRAK-C'!$AB$8:$AB$67,"C") -> 0 | AQ35: =COUNTIFS('Data Entry'!$L$8:$L$67,"Girl",'Data Entry'!$K$8:$K$67,"SC",'SEM1 PATRAK-C'!$AB$8:$AB$67,"C") -> 0 | AR35: =COUNTIFS('Data Entry'!$L$8:$L$67,"Boy",'Data Entry'!$K$8:$K$67,"SC",'SEM1 PATRAK-C'!$AB$8:$AB$67,"D") -> 0 | AS35: =COUNTIFS('Data Entry'!$L$8:$L$67,"Girl",'Data Entry'!$K$8:$K$67,"SC",'SEM1 PATRAK-C'!$AB$8:$AB$67,"D") -> 0 | AT35: =COUNTIFS('Data Entry'!$L$8:$L$67,"Boy",'Data Entry'!$K$8:$K$67,"SC",'SEM1 PATRAK-C'!$AB$8:$AB$67,"E") -> 0 | AU35: =COUNTIFS('Data Entry'!$L$8:$L$67,"Girl",'Data Entry'!$K$8:$K$67,"SC",'SEM1 PATRAK-C'!$AB$8:$AB$67,"E") -> 0
AI36: ST | AJ36: =COUNTIFS('Data Entry'!$K$8:$K$67,'Title-C'!AI36,'Data Entry'!$L$8:$L$67,"Boy") -> 0 | AK36: =COUNTIFS('Data Entry'!$K$8:$K$67,'Title-C'!AI36,'Data Entry'!$L$8:$L$67,"Girl") -> 0 | AL36: =COUNTIFS('Data Entry'!$L$8:$L$67,"Boy",'Data Entry'!$K$8:$K$67,"ST",'SEM1 PATRAK-C'!$AB$8:$AB$67,"A") -> 0 | AM36: =COUNTIFS('Data Entry'!$L$8:$L$67,"Girl",'Data Entry'!$K$8:$K$67,"ST",'SEM1 PATRAK-C'!$AB$8:$AB$67,"A") -> 0 | AN36: =COUNTIFS('Data Entry'!$L$8:$L$67,"Boy",'Data Entry'!$K$8:$K$67,"ST",'SEM1 PATRAK-C'!$AB$8:$AB$67,"B") -> 0 | AO36: =COUNTIFS('Data Entry'!$L$8:$L$67,"Girl",'Data Entry'!$K$8:$K$67,"ST",'SEM1 PATRAK-C'!$AB$8:$AB$67,"B") -> 0 | AP36: =COUNTIFS('Data Entry'!$L$8:$L$67,"Boy",'Data Entry'!$K$8:$K$67,"ST",'SEM1 PATRAK-C'!$AB$8:$AB$67,"C") -> 0 | AQ36: =COUNTIFS('Data Entry'!$L$8:$L$67,"Girl",'Data Entry'!$K$8:$K$67,"ST",'SEM1 PATRAK-C'!$AB$8:$AB$67,"C") -> 0 | AR36: =COUNTIFS('Data Entry'!$L$8:$L$67,"Boy",'Data Entry'!$K$8:$K$67,"ST",'SEM1 PATRAK-C'!$AB$8:$AB$67,"D") -> 0 | AS36: =COUNTIFS('Data Entry'!$L$8:$L$67,"Girl",'Data Entry'!$K$8:$K$67,"ST",'SEM1 PATRAK-C'!$AB$8:$AB$67,"D") -> 0 | AT36: =COUNTIFS('Data Entry'!$L$8:$L$67,"Boy",'Data Entry'!$K$8:$K$67,"ST",'SEM1 PATRAK-C'!$AB$8:$AB$67,"E") -> 0 | AU36: =COUNTIFS('Data Entry'!$L$8:$L$67,"Girl",'Data Entry'!$K$8:$K$67,"ST",'SEM1 PATRAK-C'!$AB$8:$AB$67,"E") -> 0
AI37: OBC | AJ37: =COUNTIFS('Data Entry'!$K$8:$K$67,'Title-C'!AI37,'Data Entry'!$L$8:$L$67,"Boy") -> 0 | AK37: =COUNTIFS('Data Entry'!$K$8:$K$67,'Title-C'!AI37,'Data Entry'!$L$8:$L$67,"Girl") -> 0 | AL37: =COUNTIFS('Data Entry'!$L$8:$L$67,"Boy",'Data Entry'!$K$8:$K$67,"OBC",'SEM1 PATRAK-C'!$AB$8:$AB$67,"A") -> 0 | AM37: =COUNTIFS('Data Entry'!$L$8:$L$67,"Girl",'Data Entry'!$K$8:$K$67,"OBC",'SEM1 PATRAK-C'!$AB$8:$AB$67,"A") -> 0 | AN37: =COUNTIFS('Data Entry'!$L$8:$L$67,"Boy",'Data Entry'!$K$8:$K$67,"OBC",'SEM1 PATRAK-C'!$AB$8:$AB$67,"B") -> 0 | AO37: =COUNTIFS('Data Entry'!$L$8:$L$67,"Girl",'Data Entry'!$K$8:$K$67,"OBC",'SEM1 PATRAK-C'!$AB$8:$AB$67,"B") -> 0 | AP37: =COUNTIFS('Data Entry'!$L$8:$L$67,"Boy",'Data Entry'!$K$8:$K$67,"OBC",'SEM1 PATRAK-C'!$AB$8:$AB$67,"C") -> 0 | AQ37: =COUNTIFS('Data Entry'!$L$8:$L$67,"Girl",'Data Entry'!$K$8:$K$67,"OBC",'SEM1 PATRAK-C'!$AB$8:$AB$67,"C") -> 0 | AR37: =COUNTIFS('Data Entry'!$L$8:$L$67,"Boy",'Data Entry'!$K$8:$K$67,"OBC",'SEM1 PATRAK-C'!$AB$8:$AB$67,"D") -> 0 | AS37: =COUNTIFS('Data Entry'!$L$8:$L$67,"Girl",'Data Entry'!$K$8:$K$67,"OBC",'SEM1 PATRAK-C'!$AB$8:$AB$67,"D") -> 0 | AT37: =COUNTIFS('Data Entry'!$L$8:$L$67,"Boy",'Data Entry'!$K$8:$K$67,"OBC",'SEM1 PATRAK-C'!$AB$8:$AB$67,"E") -> 0 | AU37: =COUNTIFS('Data Entry'!$L$8:$L$67,"Girl",'Data Entry'!$K$8:$K$67,"OBC",'SEM1 PATRAK-C'!$AB$8:$AB$67,"E") -> 0
AI38: GEN | AJ38: =COUNTIFS('Data Entry'!$K$8:$K$67,'Title-C'!AI38,'Data Entry'!$L$8:$L$67,"Boy") -> 1 | AK38: =COUNTIFS('Data Entry'!$K$8:$K$67,'Title-C'!AI38,'Data Entry'!$L$8:$L$67,"Girl") -> 0 | AL38: =COUNTIFS('Data Entry'!$L$8:$L$67,"Boy",'Data Entry'!$K$8:$K$67,"GEN",'SEM1 PATRAK-C'!$AB$8:$AB$67,"A") -> 1 | AM38: =COUNTIFS('Data Entry'!$L$8:$L$67,"Girl",'Data Entry'!$K$8:$K$67,"GEN",'SEM1 PATRAK-C'!$AB$8:$AB$67,"A") -> 0 | AN38: =COUNTIFS('Data Entry'!$L$8:$L$67,"Boy",'Data Entry'!$K$8:$K$67,"GEN",'SEM1 PATRAK-C'!$AB$8:$AB$67,"B") -> 0 | AO38: =COUNTIFS('Data Entry'!$L$8:$L$67,"Girl",'Data Entry'!$K$8:$K$67,"GEN",'SEM1 PATRAK-C'!$AB$8:$AB$67,"B") -> 0 | AP38: =COUNTIFS('Data Entry'!$L$8:$L$67,"Boy",'Data Entry'!$K$8:$K$67,"GEN",'SEM1 PATRAK-C'!$AB$8:$AB$67,"C") -> 0 | AQ38: =COUNTIFS('Data Entry'!$L$8:$L$67,"Girl",'Data Entry'!$K$8:$K$67,"GEN",'SEM1 PATRAK-C'!$AB$8:$AB$67,"C") -> 0 | AR38: =COUNTIFS('Data Entry'!$L$8:$L$67,"Boy",'Data Entry'!$K$8:$K$67,"GEN",'SEM1 PATRAK-C'!$AB$8:$AB$67,"D") -> 0 | AS38: =COUNTIFS('Data Entry'!$L$8:$L$67,"Girl",'Data Entry'!$K$8:$K$67,"GEN",'SEM1 PATRAK-C'!$AB$8:$AB$67,"D") -> 0 | AT38: =COUNTIFS('Data Entry'!$L$8:$L$67,"Boy",'Data Entry'!$K$8:$K$67,"GEN",'SEM1 PATRAK-C'!$AB$8:$AB$67,"E") -> 0 | AU38: =COUNTIFS('Data Entry'!$L$8:$L$67,"Girl",'Data Entry'!$K$8:$K$67,"GEN",'SEM1 PATRAK-C'!$AB$8:$AB$67,"E") -> 0
AI39: SC | AJ39: =COUNTIFS('Data Entry'!$K$8:$K$67,'Title-C'!AI39,'Data Entry'!$L$8:$L$67,"Boy") -> 0 | AK39: =COUNTIFS('Data Entry'!$K$8:$K$67,'Title-C'!AI39,'Data Entry'!$L$8:$L$67,"Girl") -> 0 | AL39: =COUNTIFS('Data Entry'!$L$8:$L$67,"Boy",'Data Entry'!$K$8:$K$67,"SC",'PATRAK-C'!$AN$8:$AN$67,"A") -> 0 | AM39: =COUNTIFS('Data Entry'!$L$8:$L$67,"Girl",'Data Entry'!$K$8:$K$67,"SC",'PATRAK-C'!$AN$8:$AN$67,"A") -> 0 | AN39: =COUNTIFS('Data Entry'!$L$8:$L$67,"Boy",'Data Entry'!$K$8:$K$67,"SC",'PATRAK-C'!$AN$8:$AN$67,"B") -> 0 | AO39: =COUNTIFS('Data Entry'!$L$8:$L$67,"Girl",'Data Entry'!$K$8:$K$67,"SC",'PATRAK-C'!$AN$8:$AN$67,"B") -> 0 | AP39: =COUNTIFS('Data Entry'!$L$8:$L$67,"Boy",'Data Entry'!$K$8:$K$67,"SC",'PATRAK-C'!$AN$8:$AN$67,"C") -> 0 | AQ39: =COUNTIFS('Data Entry'!$L$8:$L$67,"Girl",'Data Entry'!$K$8:$K$67,"SC",'PATRAK-C'!$AN$8:$AN$67,"C") -> 0 | AR39: =COUNTIFS('Data Entry'!$L$8:$L$67,"Boy",'Data Entry'!$K$8:$K$67,"SC",'PATRAK-C'!$AN$8:$AN$67,"D") -> 0 | AS39: =COUNTIFS('Data Entry'!$L$8:$L$67,"Girl",'Data Entry'!$K$8:$K$67,"SC",'PATRAK-C'!$AN$8:$AN$67,"D") -> 0 | AT39: =COUNTIFS('Data Entry'!$L$8:$L$67,"Boy",'Data Entry'!$K$8:$K$67,"SC",'PATRAK-C'!$AN$8:$AN$67,"E") -> 0 | AU39: =COUNTIFS('Data Entry'!$L$8:$L$67,"Girl",'Data Entry'!$K$8:$K$67,"SC",'PATRAK-C'!$AN$8:$AN$67,"E") -> 0
AI40: ST | AJ40: =COUNTIFS('Data Entry'!$K$8:$K$67,'Title-C'!AI40,'Data Entry'!$L$8:$L$67,"Boy") -> 0 | AK40: =COUNTIFS('Data Entry'!$K$8:$K$67,'Title-C'!AI40,'Data Entry'!$L$8:$L$67,"Girl") -> 0 | AL40: =COUNTIFS('Data Entry'!$L$8:$L$67,"Boy",'Data Entry'!$K$8:$K$67,"ST",'PATRAK-C'!$AN$8:$AN$67,"A") -> 0 | AM40: =COUNTIFS('Data Entry'!$L$8:$L$67,"Girl",'Data Entry'!$K$8:$K$67,"ST",'PATRAK-C'!$AN$8:$AN$67,"A") -> 0 | AN40: =COUNTIFS('Data Entry'!$L$8:$L$67,"Boy",'Data Entry'!$K$8:$K$67,"ST",'PATRAK-C'!$AN$8:$AN$67,"B") -> 0 | AO40: =COUNTIFS('Data Entry'!$L$8:$L$67,"Girl",'Data Entry'!$K$8:$K$67,"ST",'PATRAK-C'!$AN$8:$AN$67,"B") -> 0 | AP40: =COUNTIFS('Data Entry'!$L$8:$L$67,"Boy",'Data Entry'!$K$8:$K$67,"ST",'PATRAK-C'!$AN$8:$AN$67,"C") -> 0 | AQ40: =COUNTIFS('Data Entry'!$L$8:$L$67,"Girl",'Data Entry'!$K$8:$K$67,"ST",'PATRAK-C'!$AN$8:$AN$67,"C") -> 0 | AR40: =COUNTIFS('Data Entry'!$L$8:$L$67,"Boy",'Data Entry'!$K$8:$K$67,"ST",'PATRAK-C'!$AN$8:$AN$67,"D") -> 0 | AS40: =COUNTIFS('Data Entry'!$L$8:$L$67,"Girl",'Data Entry'!$K$8:$K$67,"ST",'PATRAK-C'!$AN$8:$AN$67,"D") -> 0 | AT40: =COUNTIFS('Data Entry'!$L$8:$L$67,"Boy",'Data Entry'!$K$8:$K$67,"ST",'PATRAK-C'!$AN$8:$AN$67,"E") -> 0 | AU40: =COUNTIFS('Data Entry'!$L$8:$L$67,"Girl",'Data Entry'!$K$8:$K$67,"ST",'PATRAK-C'!$AN$8:$AN$67,"E") -> 0
AI41: OBC | AJ41: =COUNTIFS('Data Entry'!$K$8:$K$67,'Title-C'!AI41,'Data Entry'!$L$8:$L$67,"Boy") -> 0 | AK41: =COUNTIFS('Data Entry'!$K$8:$K$67,'Title-C'!AI41,'Data Entry'!$L$8:$L$67,"Girl") -> 0 | AL41: =COUNTIFS('Data Entry'!$L$8:$L$67,"Boy",'Data Entry'!$K$8:$K$67,"OBC",'PATRAK-C'!$AN$8:$AN$67,"A") -> 0 | AM41: =COUNTIFS('Data Entry'!$L$8:$L$67,"Girl",'Data Entry'!$K$8:$K$67,"OBC",'PATRAK-C'!$AN$8:$AN$67,"A") -> 0 | AN41: =COUNTIFS('Data Entry'!$L$8:$L$67,"Boy",'Data Entry'!$K$8:$K$67,"OBC",'PATRAK-C'!$AN$8:$AN$67,"B") -> 0 | AO41: =COUNTIFS('Data Entry'!$L$8:$L$67,"Girl",'Data Entry'!$K$8:$K$67,"OBC",'PATRAK-C'!$AN$8:$AN$67,"B") -> 0 | AP41: =COUNTIFS('Data Entry'!$L$8:$L$67,"Boy",'Data Entry'!$K$8:$K$67,"OBC",'PATRAK-C'!$AN$8:$AN$67,"C") -> 0 | AQ41: =COUNTIFS('Data Entry'!$L$8:$L$67,"Girl",'Data Entry'!$K$8:$K$67,"OBC",'PATRAK-C'!$AN$8:$AN$67,"C") -> 0 | AR41: =COUNTIFS('Data Entry'!$L$8:$L$67,"Boy",'Data Entry'!$K$8:$K$67,"OBC",'PATRAK-C'!$AN$8:$AN$67,"D") -> 0 | AS41: =COUNTIFS('Data Entry'!$L$8:$L$67,"Girl",'Data Entry'!$K$8:$K$67,"OBC",'PATRAK-C'!$AN$8:$AN$67,"D") -> 0 | AT41: =COUNTIFS('Data Entry'!$L$8:$L$67,"Boy",'Data Entry'!$K$8:$K$67,"OBC",'PATRAK-C'!$AN$8:$AN$67,"E") -> 0 | AU41: =COUNTIFS('Data Entry'!$L$8:$L$67,"Girl",'Data Entry'!$K$8:$K$67,"OBC",'PATRAK-C'!$AN$8:$AN$67,"E") -> 0
AI42: GEN | AJ42: =COUNTIFS('Data Entry'!$K$8:$K$67,'Title-C'!AI42,'Data Entry'!$L$8:$L$67,"Boy") -> 1 | AK42: =COUNTIFS('Data Entry'!$K$8:$K$67,'Title-C'!AI42,'Data Entry'!$L$8:$L$67,"Girl") -> 0 | AL42: =COUNTIFS('Data Entry'!$L$8:$L$67,"Boy",'Data Entry'!$K$8:$K$67,"GEN",'PATRAK-C'!$AN$8:$AN$67,"A") -> 1 | AM42: =COUNTIFS('Data Entry'!$L$8:$L$67,"Girl",'Data Entry'!$K$8:$K$67,"GEN",'PATRAK-C'!$AN$8:$AN$67,"A") -> 0 | AN42: =COUNTIFS('Data Entry'!$L$8:$L$67,"Boy",'Data Entry'!$K$8:$K$67,"GEN",'PATRAK-C'!$AN$8:$AN$67,"B") -> 0 | AO42: =COUNTIFS('Data Entry'!$L$8:$L$67,"Girl",'Data Entry'!$K$8:$K$67,"GEN",'PATRAK-C'!$AN$8:$AN$67,"B") -> 0 | AP42: =COUNTIFS('Data Entry'!$L$8:$L$67,"Boy",'Data Entry'!$K$8:$K$67,"GEN",'PATRAK-C'!$AN$8:$AN$67,"C") -> 0 | AQ42: =COUNTIFS('Data Entry'!$L$8:$L$67,"Girl",'Data Entry'!$K$8:$K$67,"GEN",'PATRAK-C'!$AN$8:$AN$67,"C") -> 0 | AR42: =COUNTIFS('Data Entry'!$L$8:$L$67,"Boy",'Data Entry'!$K$8:$K$67,"GEN",'PATRAK-C'!$AN$8:$AN$67,"D") -> 0 | AS42: =COUNTIFS('Data Entry'!$L$8:$L$67,"Girl",'Data Entry'!$K$8:$K$67,"GEN",'PATRAK-C'!$AN$8:$AN$67,"D") -> 0 | AT42: =COUNTIFS('Data Entry'!$L$8:$L$67,"Boy",'Data Entry'!$K$8:$K$67,"GEN",'PATRAK-C'!$AN$8:$AN$67,"E") -> 0 | AU42: =COUNTIFS('Data Entry'!$L$8:$L$67,"Girl",'Data Entry'!$K$8:$K$67,"GEN",'PATRAK-C'!$AN$8:$AN$67,"E") -> 0

Sheet SEM1 PATRAK-C
B1: ="પત્રક - C : ધોરણ "&'Data Entry'!J2 -> પત્રક - C : ધોરણ 3 | O1: ="પત્રક - C : ધોરણ "&'Data Entry'!J2 -> પત્રક - C : ધોરણ 3
A2: ક્રમ | B2: વિદ્યાર્થીનું નામ | C2: જનરલ રજી. નંબર | D2: જન્મ તારીખ | E2: વિષય : ગુજરાતી | J2: વિષય : ગણિત | O2: વિષય : અંગ્રેજી | T2: વિષય : સૌની આસપાસ | Y2: પત્રક - B વ્યક્તિત્વ વિકાસ પત્રક | Z2: ગ્રેડ | AA2: તમામ વિષયોના + પત્રક B નાં કુલ | AB2: સરેરાશ ગ્રેડ | AC2: વર્ષના કુલ કાર્ય દિવસ | AD2: ટકાવારી | AE2: પાસ નંબર
E3: પ્રથમ સત્ર | H3: ગુણમાંથી મેળવેલ ગુણ | I3: ગ્રેડ | J3: પ્રથમ સત્ર | M3: ગુણમાંથી મેળવેલ ગુણ | N3: ગ્રેડ | O3: પ્રથમ સત્ર | R3: ગુણમાંથી મેળવેલ ગુણ | S3: ગ્રેડ | T3: પ્રથમ સત્ર | W3: ગુણમાંથી મેળવેલ ગુણ | X3: ગ્રેડ
E4: ત્રિમાસિક કસોટી | F4: સત્રાંત મૂલ્યાંકન | G4: સ્વ-અધ્યયન કાર્યના આધારે મૂલ્યાંકન | J4: ત્રિમાસિક કસોટી | K4: સત્રાંત મૂલ્યાંકન | L4: સ્વ-અધ્યયન કાર્યના આધારે મૂલ્યાંકન | O4: ત્રિમાસિક કસોટી | P4: સત્રાંત મૂલ્યાંકન | Q4: સ્વ-અધ્યયન કાર્યના આધારે મૂલ્યાંકન | T4: ત્રિમાસિક કસોટી | U4: સત્રાંત મૂલ્યાંકન | V4: સ્વ-અધ્યયન કાર્યના આધારે મૂલ્યાંકન
E5: ગુણ | F5: ગુણ | G5: ગુણ | J5: ગુણ | K5: ગુણ | L5: ગુણ | O5: ગુણ | P5: ગુણ | Q5: ગુણ | T5: ગુણ | U5: ગુણ | V5: ગુણ | Y5: ગુણ | AA5: ગુણ
E6: 40 | F6: 40 | G6: 20 | H6: =SUM(E6:G6) -> 100 | J6: 40 | K6: 40 | L6: 20 | M6: =SUM(J6:L6) -> 100 | O6: 40 | P6: 40 | Q6: 20 | R6: =SUM(O6:Q6) -> 100 | T6: 40 | U6: 40 | V6: 20 | W6: =SUM(T6:V6) -> 100 | Y6: 200 | AA6: =H6+M6+R6+W6+Y6 -> 600
A7: 1 | B7: 2 | C7: 3 | D7: 4 | E7: 5 | F7: 6 | G7: 7 | H7: 8 | I7: 9 | J7: 10 | K7: 11 | L7: 12 | M7: 13 | N7: 14 | O7: 15 | P7: 16 | Q7: 17 | R7: 18 | S7: 19 | T7: 20 | U7: 21 | V7: 22 | W7: 23 | X7: 24 | Y7: 25 | Z7: 26 | AA7: 27 | AB7: 28 | AC7: 29 | AD7: 30 | AE7: 31
A8: =IF('Data Entry'!A8="","",'Data Entry'!A8) -> 1 | B8: =IF('Data Entry'!B8="","",'Data Entry'!B8) -> પટેલ બ્રિજેશકુમાર કાળાભાઈ | C8: =IF('Data Entry'!C8="","",'Data Entry'!C8) -> 10251 | D8: =IF('Data Entry'!D8="","",'Data Entry'!D8) -> 40544 | E8: =IF(Gujarati!D4="","",Gujarati!D4) -> 32 | F8: =IF(Gujarati!E4="","",Gujarati!E4) -> 36 | G8: =IF(Gujarati!F4="","",Gujarati!F4) -> 18 | H8: =IF($A8="","",ROUND(SUM(E8:G8),0)) -> 86 | I8: =IF(H8="","",IF(H8>=80,"A",IF(H8>=65,"B",IF(H8>=50,"C",IF(H8>=35,"D",IF(H8<=34,"E")))))) -> A | J8: =IF(Maths!D4="","",Maths!D4) -> 40 | K8: =IF(Maths!E4="","",Maths!E4) -> 28 | L8: =IF(Maths!F4="","",Maths!F4) -> 12 | M8: =IF($A8="","",ROUND(SUM(J8:L8),0)) -> 80 | N8: =IF(M8="","",IF(M8>=80,"A",IF(M8>=65,"B",IF(M8>=50,"C",IF(M8>=35,"D",IF(M8<=34,"E")))))) -> A | O8: =IF(English!D4="","",English!D4) -> 35 | P8: =IF(English!E4="","",English!E4) -> 36 | Q8: =IF(English!F4="","",English!F4) -> 18 | R8: =IF($A8="","",ROUND(SUM(O8:Q8),0)) -> 89 | S8: =IF(R8="","",IF(R8>=80,"A",IF(R8>=65,"B",IF(R8>=50,"C",IF(R8>=35,"D",IF(R8<=34,"E")))))) -> A | T8: =IF(Evs!D4="","",Evs!D4) -> 34 | U8: =IF(Evs!E4="","",Evs!E4) -> 32 | V8: =IF(Evs!F4="","",Evs!F4) -> 18 | W8: =IF($A8="","",ROUND(SUM(T8:V8),0)) -> 84 | X8: =IF(W8="","",IF(W8>=80,"A",IF(W8>=65,"B",IF(W8>=50,"C",IF(W8>=35,"D",IF(W8<=34,"E")))))) -> A | Y8: =IF('SEM1 PATRAK-B'!AQ6="","",'SEM1 PATRAK-B'!AQ6) -> 172 | Z8: =IF(Y8="","",IF(Y8>=160,"A",IF(Y8>=130,"B",IF(Y8>=100,"C",IF(Y8>=70,"D",IF(Y8<=69,"E")))))) -> A | AA8: =IF(OR(H8="",M8="",R8="",W8="",Y8=""),"",H8+M8+R8+W8+Y8) -> 511 | AB8: =IF(AA8="","",IF(AA8>=480,"A",IF(AA8>=390,"B",IF(AA8>=300,"C",IF(AA8>=210,"D",IF(AA8<=209,"E")))))) -> A | AC8: =IF('Attandance Day'!C4="","",'Attandance Day'!C4) -> 200 | AD8: =IFERROR(AA8/$AA$6,"") -> 0.85166667 | AE8: =IF(AA8="","",RANK(AA8,AA$8:AA$67)) -> 1
A9: =IF('Data Entry'!A9="","",'Data Entry'!A9) -> 2 | B9: =IF('Data Entry'!B9="","",'Data Entry'!B9) | C9: =IF('Data Entry'!C9="","",'Data Entry'!C9) | D9: =IF('Data Entry'!D9="","",'Data Entry'!D9) | E9: =IF(Gujarati!D5="","",Gujarati!D5) | F9: =IF(Gujarati!E5="","",Gujarati!E5) | G9: =IF(Gujarati!F5="","",Gujarati!F5) | H9: =IF($A9="","",ROUND(SUM(E9:G9),0)) -> 0 | I9: =IF(H9="","",IF(H9>=80,"A",IF(H9>=65,"B",IF(H9>=50,"C",IF(H9>=35,"D",IF(H9<=34,"E")))))) -> E | J9: =IF(Maths!D5="","",Maths!D5) | K9: =IF(Maths!E5="","",Maths!E5) | L9: =IF(Maths!F5="","",Maths!F5) | M9: =IF($A9="","",ROUND(SUM(J9:L9),0)) -> 0 | N9: =IF(M9="","",IF(M9>=80,"A",IF(M9>=65,"B",IF(M9>=50,"C",IF(M9>=35,"D",IF(M9<=34,"E")))))) -> E | O9: =IF(English!D5="","",English!D5) | P9: =IF(English!E5="","",English!E5) | Q9: =IF(English!F5="","",English!F5) | R9: =IF($A9="","",ROUND(SUM(O9:Q9),0)) -> 0 | S9: =IF(R9="","",IF(R9>=80,"A",IF(R9>=65,"B",IF(R9>=50,"C",IF(R9>=35,"D",IF(R9<=34,"E")))))) -> E | T9: =IF(Evs!D5="","",Evs!D5) | U9: =IF(Evs!E5="","",Evs!E5) | V9: =IF(Evs!F5="","",Evs!F5) | W9: =IF($A9="","",ROUND(SUM(T9:V9),0)) -> 0 | X9: =IF(W9="","",IF(W9>=80,"A",IF(W9>=65,"B",IF(W9>=50,"C",IF(W9>=35,"D",IF(W9<=34,"E")))))) -> E | Y9: =IF('SEM1 PATRAK-B'!AQ7="","",'SEM1 PATRAK-B'!AQ7) | Z9: =IF(Y9="","",IF(Y9>=160,"A",IF(Y9>=130,"B",IF(Y9>=100,"C",IF(Y9>=70,"D",IF(Y9<=69,"E")))))) | AA9: =IF(OR(H9="",M9="",R9="",W9="",Y9=""),"",H9+M9+R9+W9+Y9) | AB9: =IF(AA9="","",IF(AA9>=480,"A",IF(AA9>=390,"B",IF(AA9>=300,"C",IF(AA9>=210,"D",IF(AA9<=209,"E")))))) | AC9: =IF('Attandance Day'!C5="","",'Attandance Day'!C5) | AD9: =IFERROR(AA9/$AA$6,"") | AE9: =IF(AA9="","",RANK(AA9,AA$8:AA$67))
A10: =IF('Data Entry'!A10="","",'Data Entry'!A10) -> 3 | B10: =IF('Data Entry'!B10="","",'Data Entry'!B10) | C10: =IF('Data Entry'!C10="","",'Data Entry'!C10) | D10: =IF('Data Entry'!D10="","",'Data Entry'!D10) | E10: =IF(Gujarati!D6="","",Gujarati!D6) | F10: =IF(Gujarati!E6="","",Gujarati!E6) | G10: =IF(Gujarati!F6="","",Gujarati!F6) | H10: =IF($A10="","",ROUND(SUM(E10:G10),0)) -> 0 | I10: =IF(H10="","",IF(H10>=80,"A",IF(H10>=65,"B",IF(H10>=50,"C",IF(H10>=35,"D",IF(H10<=34,"E")))))) -> E | J10: =IF(Maths!D6="","",Maths!D6) | K10: =IF(Maths!E6="","",Maths!E6) | L10: =IF(Maths!F6="","",Maths!F6) | M10: =IF($A10="","",ROUND(SUM(J10:L10),0)) -> 0 | N10: =IF(M10="","",IF(M10>=80,"A",IF(M10>=65,"B",IF(M10>=50,"C",IF(M10>=35,"D",IF(M10<=34,"E")))))) -> E | O10: =IF(English!D6="","",English!D6) | P10: =IF(English!E6="","",English!E6) | Q10: =IF(English!F6="","",English!F6) | R10: =IF($A10="","",ROUND(SUM(O10:Q10),0)) -> 0 | S10: =IF(R10="","",IF(R10>=80,"A",IF(R10>=65,"B",IF(R10>=50,"C",IF(R10>=35,"D",IF(R10<=34,"E")))))) -> E | T10: =IF(Evs!D6="","",Evs!D6) | U10: =IF(Evs!E6="","",Evs!E6) | V10: =IF(Evs!F6="","",Evs!F6) | W10: =IF($A10="","",ROUND(SUM(T10:V10),0)) -> 0 | X10: =IF(W10="","",IF(W10>=80,"A",IF(W10>=65,"B",IF(W10>=50,"C",IF(W10>=35,"D",IF(W10<=34,"E")))))) -> E | Y10: =IF('SEM1 PATRAK-B'!AQ8="","",'SEM1 PATRAK-B'!AQ8) | Z10: =IF(Y10="","",IF(Y10>=160,"A",IF(Y10>=130,"B",IF(Y10>=100,"C",IF(Y10>=70,"D",IF(Y10<=69,"E")))))) | AA10: =IF(OR(H10="",M10="",R10="",W10="",Y10=""),"",H10+M10+R10+W10+Y10) | AB10: =IF(AA10="","",IF(AA10>=480,"A",IF(AA10>=390,"B",IF(AA10>=300,"C",IF(AA10>=210,"D",IF(AA10<=209,"E")))))) | AC10: =IF('Attandance Day'!C6="","",'Attandance Day'!C6) | AD10: =IFERROR(AA10/$AA$6,"") | AE10: =IF(AA10="","",RANK(AA10,AA$8:AA$67))
A11: =IF('Data Entry'!A11="","",'Data Entry'!A11) -> 4 | B11: =IF('Data Entry'!B11="","",'Data Entry'!B11) | C11: =IF('Data Entry'!C11="","",'Data Entry'!C11) | D11: =IF('Data Entry'!D11="","",'Data Entry'!D11) | E11: =IF(Gujarati!D7="","",Gujarati!D7) | F11: =IF(Gujarati!E7="","",Gujarati!E7) | G11: =IF(Gujarati!F7="","",Gujarati!F7) | H11: =IF($A11="","",ROUND(SUM(E11:G11),0)) -> 0 | I11: =IF(H11="","",IF(H11>=80,"A",IF(H11>=65,"B",IF(H11>=50,"C",IF(H11>=35,"D",IF(H11<=34,"E")))))) -> E | J11: =IF(Maths!D7="","",Maths!D7) | K11: =IF(Maths!E7="","",Maths!E7) | L11: =IF(Maths!F7="","",Maths!F7) | M11: =IF($A11="","",ROUND(SUM(J11:L11),0)) -> 0 | N11: =IF(M11="","",IF(M11>=80,"A",IF(M11>=65,"B",IF(M11>=50,"C",IF(M11>=35,"D",IF(M11<=34,"E")))))) -> E | O11: =IF(English!D7="","",English!D7) | P11: =IF(English!E7="","",English!E7) | Q11: =IF(English!F7="","",English!F7) | R11: =IF($A11="","",ROUND(SUM(O11:Q11),0)) -> 0 | S11: =IF(R11="","",IF(R11>=80,"A",IF(R11>=65,"B",IF(R11>=50,"C",IF(R11>=35,"D",IF(R11<=34,"E")))))) -> E | T11: =IF(Evs!D7="","",Evs!D7) | U11: =IF(Evs!E7="","",Evs!E7) | V11: =IF(Evs!F7="","",Evs!F7) | W11: =IF($A11="","",ROUND(SUM(T11:V11),0)) -> 0 | X11: =IF(W11="","",IF(W11>=80,"A",IF(W11>=65,"B",IF(W11>=50,"C",IF(W11>=35,"D",IF(W11<=34,"E")))))) -> E | Y11: =IF('SEM1 PATRAK-B'!AQ9="","",'SEM1 PATRAK-B'!AQ9) | Z11: =IF(Y11="","",IF(Y11>=160,"A",IF(Y11>=130,"B",IF(Y11>=100,"C",IF(Y11>=70,"D",IF(Y11<=69,"E")))))) | AA11: =IF(OR(H11="",M11="",R11="",W11="",Y11=""),"",H11+M11+R11+W11+Y11) | AB11: =IF(AA11="","",IF(AA11>=480,"A",IF(AA11>=390,"B",IF(AA11>=300,"C",IF(AA11>=210,"D",IF(AA11<=209,"E")))))) | AC11: =IF('Attandance Day'!C7="","",'Attandance Day'!C7) | AD11: =IFERROR(AA11/$AA$6,"") | AE11: =IF(AA11="","",RANK(AA11,AA$8:AA$67))
A12: =IF('Data Entry'!A12="","",'Data Entry'!A12) -> 5 | B12: =IF('Data Entry'!B12="","",'Data Entry'!B12) | C12: =IF('Data Entry'!C12="","",'Data Entry'!C12) | D12: =IF('Data Entry'!D12="","",'Data Entry'!D12) | E12: =IF(Gujarati!D8="","",Gujarati!D8) | F12: =IF(Gujarati!E8="","",Gujarati!E8) | G12: =IF(Gujarati!F8="","",Gujarati!F8) | H12: =IF($A12="","",ROUND(SUM(E12:G12),0)) -> 0 | I12: =IF(H12="","",IF(H12>=80,"A",IF(H12>=65,"B",IF(H12>=50,"C",IF(H12>=35,"D",IF(H12<=34,"E")))))) -> E | J12: =IF(Maths!D8="","",Maths!D8) | K12: =IF(Maths!E8="","",Maths!E8) | L12: =IF(Maths!F8="","",Maths!F8) | M12: =IF($A12="","",ROUND(SUM(J12:L12),0)) -> 0 | N12: =IF(M12="","",IF(M12>=80,"A",IF(M12>=65,"B",IF(M12>=50,"C",IF(M12>=35,"D",IF(M12<=34,"E")))))) -> E | O12: =IF(English!D8="","",English!D8) | P12: =IF(English!E8="","",English!E8) | Q12: =IF(English!F8="","",English!F8) | R12: =IF($A12="","",ROUND(SUM(O12:Q12),0)) -> 0 | S12: =IF(R12="","",IF(R12>=80,"A",IF(R12>=65,"B",IF(R12>=50,"C",IF(R12>=35,"D",IF(R12<=34,"E")))))) -> E | T12: =IF(Evs!D8="","",Evs!D8) | U12: =IF(Evs!E8="","",Evs!E8) | V12: =IF(Evs!F8="","",Evs!F8) | W12: =IF($A12="","",ROUND(SUM(T12:V12),0)) -> 0 | X12: =IF(W12="","",IF(W12>=80,"A",IF(W12>=65,"B",IF(W12>=50,"C",IF(W12>=35,"D",IF(W12<=34,"E")))))) -> E | Y12: =IF('SEM1 PATRAK-B'!AQ10="","",'SEM1 PATRAK-B'!AQ10) | Z12: =IF(Y12="","",IF(Y12>=160,"A",IF(Y12>=130,"B",IF(Y12>=100,"C",IF(Y12>=70,"D",IF(Y12<=69,"E")))))) | AA12: =IF(OR(H12="",M12="",R12="",W12="",Y12=""),"",H12+M12+R12+W12+Y12) | AB12: =IF(AA12="","",IF(AA12>=480,"A",IF(AA12>=390,"B",IF(AA12>=300,"C",IF(AA12>=210,"D",IF(AA12<=209,"E")))))) | AC12: =IF('Attandance Day'!C8="","",'Attandance Day'!C8) | AD12: =IFERROR(AA12/$AA$6,"") | AE12: =IF(AA12="","",RANK(AA12,AA$8:AA$67))
A13: =IF('Data Entry'!A13="","",'Data Entry'!A13) -> 6 | B13: =IF('Data Entry'!B13="","",'Data Entry'!B13) | C13: =IF('Data Entry'!C13="","",'Data Entry'!C13) | D13: =IF('Data Entry'!D13="","",'Data Entry'!D13) | E13: =IF(Gujarati!D9="","",Gujarati!D9) | F13: =IF(Gujarati!E9="","",Gujarati!E9) | G13: =IF(Gujarati!F9="","",Gujarati!F9) | H13: =IF($A13="","",ROUND(SUM(E13:G13),0)) -> 0 | I13: =IF(H13="","",IF(H13>=80,"A",IF(H13>=65,"B",IF(H13>=50,"C",IF(H13>=35,"D",IF(H13<=34,"E")))))) -> E | J13: =IF(Maths!D9="","",Maths!D9) | K13: =IF(Maths!E9="","",Maths!E9) | L13: =IF(Maths!F9="","",Maths!F9) | M13: =IF($A13="","",ROUND(SUM(J13:L13),0)) -> 0 | N13: =IF(M13="","",IF(M13>=80,"A",IF(M13>=65,"B",IF(M13>=50,"C",IF(M13>=35,"D",IF(M13<=34,"E")))))) -> E | O13: =IF(English!D9="","",English!D9) | P13: =IF(English!E9="","",English!E9) | Q13: =IF(English!F9="","",English!F9) | R13: =IF($A13="","",ROUND(SUM(O13:Q13),0)) -> 0 | S13: =IF(R13="","",IF(R13>=80,"A",IF(R13>=65,"B",IF(R13>=50,"C",IF(R13>=35,"D",IF(R13<=34,"E")))))) -> E | T13: =IF(Evs!D9="","",Evs!D9) | U13: =IF(Evs!E9="","",Evs!E9) | V13: =IF(Evs!F9="","",Evs!F9) | W13: =IF($A13="","",ROUND(SUM(T13:V13),0)) -> 0 | X13: =IF(W13="","",IF(W13>=80,"A",IF(W13>=65,"B",IF(W13>=50,"C",IF(W13>=35,"D",IF(W13<=34,"E")))))) -> E | Y13: =IF('SEM1 PATRAK-B'!AQ11="","",'SEM1 PATRAK-B'!AQ11) | Z13: =IF(Y13="","",IF(Y13>=160,"A",IF(Y13>=130,"B",IF(Y13>=100,"C",IF(Y13>=70,"D",IF(Y13<=69,"E")))))) | AA13: =IF(OR(H13="",M13="",R13="",W13="",Y13=""),"",H13+M13+R13+W13+Y13) | AB13: =IF(AA13="","",IF(AA13>=480,"A",IF(AA13>=390,"B",IF(AA13>=300,"C",IF(AA13>=210,"D",IF(AA13<=209,"E")))))) | AC13: =IF('Attandance Day'!C9="","",'Attandance Day'!C9) | AD13: =IFERROR(AA13/$AA$6,"") | AE13: =IF(AA13="","",RANK(AA13,AA$8:AA$67))
A14: =IF('Data Entry'!A14="","",'Data Entry'!A14) -> 7 | B14: =IF('Data Entry'!B14="","",'Data Entry'!B14) | C14: =IF('Data Entry'!C14="","",'Data Entry'!C14) | D14: =IF('Data Entry'!D14="","",'Data Entry'!D14) | E14: =IF(Gujarati!D10="","",Gujarati!D10) | F14: =IF(Gujarati!E10="","",Gujarati!E10) | G14: =IF(Gujarati!F10="","",Gujarati!F10) | H14: =IF($A14="","",ROUND(SUM(E14:G14),0)) -> 0 | I14: =IF(H14="","",IF(H14>=80,"A",IF(H14>=65,"B",IF(H14>=50,"C",IF(H14>=35,"D",IF(H14<=34,"E")))))) -> E | J14: =IF(Maths!D10="","",Maths!D10) | K14: =IF(Maths!E10="","",Maths!E10) | L14: =IF(Maths!F10="","",Maths!F10) | M14: =IF($A14="","",ROUND(SUM(J14:L14),0)) -> 0 | N14: =IF(M14="","",IF(M14>=80,"A",IF(M14>=65,"B",IF(M14>=50,"C",IF(M14>=35,"D",IF(M14<=34,"E")))))) -> E | O14: =IF(English!D10="","",English!D10) | P14: =IF(English!E10="","",English!E10) | Q14: =IF(English!F10="","",English!F10) | R14: =IF($A14="","",ROUND(SUM(O14:Q14),0)) -> 0 | S14: =IF(R14="","",IF(R14>=80,"A",IF(R14>=65,"B",IF(R14>=50,"C",IF(R14>=35,"D",IF(R14<=34,"E")))))) -> E | T14: =IF(Evs!D10="","",Evs!D10) | U14: =IF(Evs!E10="","",Evs!E10) | V14: =IF(Evs!F10="","",Evs!F10) | W14: =IF($A14="","",ROUND(SUM(T14:V14),0)) -> 0 | X14: =IF(W14="","",IF(W14>=80,"A",IF(W14>=65,"B",IF(W14>=50,"C",IF(W14>=35,"D",IF(W14<=34,"E")))))) -> E | Y14: =IF('SEM1 PATRAK-B'!AQ12="","",'SEM1 PATRAK-B'!AQ12) | Z14: =IF(Y14="","",IF(Y14>=160,"A",IF(Y14>=130,"B",IF(Y14>=100,"C",IF(Y14>=70,"D",IF(Y14<=69,"E")))))) | AA14: =IF(OR(H14="",M14="",R14="",W14="",Y14=""),"",H14+M14+R14+W14+Y14) | AB14: =IF(AA14="","",IF(AA14>=480,"A",IF(AA14>=390,"B",IF(AA14>=300,"C",IF(AA14>=210,"D",IF(AA14<=209,"E")))))) | AC14: =IF('Attandance Day'!C10="","",'Attandance Day'!C10) | AD14: =IFERROR(AA14/$AA$6,"") | AE14: =IF(AA14="","",RANK(AA14,AA$8:AA$67))
A15: =IF('Data Entry'!A15="","",'Data Entry'!A15) -> 8 | B15: =IF('Data Entry'!B15="","",'Data Entry'!B15) | C15: =IF('Data Entry'!C15="","",'Data Entry'!C15) | D15: =IF('Data Entry'!D15="","",'Data Entry'!D15) | E15: =IF(Gujarati!D11="","",Gujarati!D11) | F15: =IF(Gujarati!E11="","",Gujarati!E11) | G15: =IF(Gujarati!F11="","",Gujarati!F11) | H15: =IF($A15="","",ROUND(SUM(E15:G15),0)) -> 0 | I15: =IF(H15="","",IF(H15>=80,"A",IF(H15>=65,"B",IF(H15>=50,"C",IF(H15>=35,"D",IF(H15<=34,"E")))))) -> E | J15: =IF(Maths!D11="","",Maths!D11) | K15: =IF(Maths!E11="","",Maths!E11) | L15: =IF(Maths!F11="","",Maths!F11) | M15: =IF($A15="","",ROUND(SUM(J15:L15),0)) -> 0 | N15: =IF(M15="","",IF(M15>=80,"A",IF(M15>=65,"B",IF(M15>=50,"C",IF(M15>=35,"D",IF(M15<=34,"E")))))) -> E | O15: =IF(English!D11="","",English!D11) | P15: =IF(English!E11="","",English!E11) | Q15: =IF(English!F11="","",English!F11) | R15: =IF($A15="","",ROUND(SUM(O15:Q15),0)) -> 0 | S15: =IF(R15="","",IF(R15>=80,"A",IF(R15>=65,"B",IF(R15>=50,"C",IF(R15>=35,"D",IF(R15<=34,"E")))))) -> E | T15: =IF(Evs!D11="","",Evs!D11) | U15: =IF(Evs!E11="","",Evs!E11) | V15: =IF(Evs!F11="","",Evs!F11) | W15: =IF($A15="","",ROUND(SUM(T15:V15),0)) -> 0 | X15: =IF(W15="","",IF(W15>=80,"A",IF(W15>=65,"B",IF(W15>=50,"C",IF(W15>=35,"D",IF(W15<=34,"E")))))) -> E | Y15: =IF('SEM1 PATRAK-B'!AQ13="","",'SEM1 PATRAK-B'!AQ13) | Z15: =IF(Y15="","",IF(Y15>=160,"A",IF(Y15>=130,"B",IF(Y15>=100,"C",IF(Y15>=70,"D",IF(Y15<=69,"E")))))) | AA15: =IF(OR(H15="",M15="",R15="",W15="",Y15=""),"",H15+M15+R15+W15+Y15) | AB15: =IF(AA15="","",IF(AA15>=480,"A",IF(AA15>=390,"B",IF(AA15>=300,"C",IF(AA15>=210,"D",IF(AA15<=209,"E")))))) | AC15: =IF('Attandance Day'!C11="","",'Attandance Day'!C11) | AD15: =IFERROR(AA15/$AA$6,"") | AE15: =IF(AA15="","",RANK(AA15,AA$8:AA$67))
A16: =IF('Data Entry'!A16="","",'Data Entry'!A16) -> 9 | B16: =IF('Data Entry'!B16="","",'Data Entry'!B16) | C16: =IF('Data Entry'!C16="","",'Data Entry'!C16) | D16: =IF('Data Entry'!D16="","",'Data Entry'!D16) | E16: =IF(Gujarati!D12="","",Gujarati!D12) | F16: =IF(Gujarati!E12="","",Gujarati!E12) | G16: =IF(Gujarati!F12="","",Gujarati!F12) | H16: =IF($A16="","",ROUND(SUM(E16:G16),0)) -> 0 | I16: =IF(H16="","",IF(H16>=80,"A",IF(H16>=65,"B",IF(H16>=50,"C",IF(H16>=35,"D",IF(H16<=34,"E")))))) -> E | J16: =IF(Maths!D12="","",Maths!D12) | K16: =IF(Maths!E12="","",Maths!E12) | L16: =IF(Maths!F12="","",Maths!F12) | M16: =IF($A16="","",ROUND(SUM(J16:L16),0)) -> 0 | N16: =IF(M16="","",IF(M16>=80,"A",IF(M16>=65,"B",IF(M16>=50,"C",IF(M16>=35,"D",IF(M16<=34,"E")))))) -> E | O16: =IF(English!D12="","",English!D12) | P16: =IF(English!E12="","",English!E12) | Q16: =IF(English!F12="","",English!F12) | R16: =IF($A16="","",ROUND(SUM(O16:Q16),0)) -> 0 | S16: =IF(R16="","",IF(R16>=80,"A",IF(R16>=65,"B",IF(R16>=50,"C",IF(R16>=35,"D",IF(R16<=34,"E")))))) -> E | T16: =IF(Evs!D12="","",Evs!D12) | U16: =IF(Evs!E12="","",Evs!E12) | V16: =IF(Evs!F12="","",Evs!F12) | W16: =IF($A16="","",ROUND(SUM(T16:V16),0)) -> 0 | X16: =IF(W16="","",IF(W16>=80,"A",IF(W16>=65,"B",IF(W16>=50,"C",IF(W16>=35,"D",IF(W16<=34,"E")))))) -> E | Y16: =IF('SEM1 PATRAK-B'!AQ14="","",'SEM1 PATRAK-B'!AQ14) | Z16: =IF(Y16="","",IF(Y16>=160,"A",IF(Y16>=130,"B",IF(Y16>=100,"C",IF(Y16>=70,"D",IF(Y16<=69,"E")))))) | AA16: =IF(OR(H16="",M16="",R16="",W16="",Y16=""),"",H16+M16+R16+W16+Y16) | AB16: =IF(AA16="","",IF(AA16>=480,"A",IF(AA16>=390,"B",IF(AA16>=300,"C",IF(AA16>=210,"D",IF(AA16<=209,"E")))))) | AC16: =IF('Attandance Day'!C12="","",'Attandance Day'!C12) | AD16: =IFERROR(AA16/$AA$6,"") | AE16: =IF(AA16="","",RANK(AA16,AA$8:AA$67))
A17: =IF('Data Entry'!A17="","",'Data Entry'!A17) -> 10 | B17: =IF('Data Entry'!B17="","",'Data Entry'!B17) | C17: =IF('Data Entry'!C17="","",'Data Entry'!C17) | D17: =IF('Data Entry'!D17="","",'Data Entry'!D17) | E17: =IF(Gujarati!D13="","",Gujarati!D13) | F17: =IF(Gujarati!E13="","",Gujarati!E13) | G17: =IF(Gujarati!F13="","",Gujarati!F13) | H17: =IF($A17="","",ROUND(SUM(E17:G17),0)) -> 0 | I17: =IF(H17="","",IF(H17>=80,"A",IF(H17>=65,"B",IF(H17>=50,"C",IF(H17>=35,"D",IF(H17<=34,"E")))))) -> E | J17: =IF(Maths!D13="","",Maths!D13) | K17: =IF(Maths!E13="","",Maths!E13) | L17: =IF(Maths!F13="","",Maths!F13) | M17: =IF($A17="","",ROUND(SUM(J17:L17),0)) -> 0 | N17: =IF(M17="","",IF(M17>=80,"A",IF(M17>=65,"B",IF(M17>=50,"C",IF(M17>=35,"D",IF(M17<=34,"E")))))) -> E | O17: =IF(English!D13="","",English!D13) | P17: =IF(English!E13="","",English!E13) | Q17: =IF(English!F13="","",English!F13) | R17: =IF($A17="","",ROUND(SUM(O17:Q17),0)) -> 0 | S17: =IF(R17="","",IF(R17>=80,"A",IF(R17>=65,"B",IF(R17>=50,"C",IF(R17>=35,"D",IF(R17<=34,"E")))))) -> E | T17: =IF(Evs!D13="","",Evs!D13) | U17: =IF(Evs!E13="","",Evs!E13) | V17: =IF(Evs!F13="","",Evs!F13) | W17: =IF($A17="","",ROUND(SUM(T17:V17),0)) -> 0 | X17: =IF(W17="","",IF(W17>=80,"A",IF(W17>=65,"B",IF(W17>=50,"C",IF(W17>=35,"D",IF(W17<=34,"E")))))) -> E | Y17: =IF('SEM1 PATRAK-B'!AQ15="","",'SEM1 PATRAK-B'!AQ15) | Z17: =IF(Y17="","",IF(Y17>=160,"A",IF(Y17>=130,"B",IF(Y17>=100,"C",IF(Y17>=70,"D",IF(Y17<=69,"E")))))) | AA17: =IF(OR(H17="",M17="",R17="",W17="",Y17=""),"",H17+M17+R17+W17+Y17) | AB17: =IF(AA17="","",IF(AA17>=480,"A",IF(AA17>=390,"B",IF(AA17>=300,"C",IF(AA17>=210,"D",IF(AA17<=209,"E")))))) | AC17: =IF('Attandance Day'!C13="","",'Attandance Day'!C13) | AD17: =IFERROR(AA17/$AA$6,"") | AE17: =IF(AA17="","",RANK(AA17,AA$8:AA$67))
A18: =IF('Data Entry'!A18="","",'Data Entry'!A18) -> 11 | B18: =IF('Data Entry'!B18="","",'Data Entry'!B18) | C18: =IF('Data Entry'!C18="","",'Data Entry'!C18) | D18: =IF('Data Entry'!D18="","",'Data Entry'!D18) | E18: =IF(Gujarati!D14="","",Gujarati!D14) | F18: =IF(Gujarati!E14="","",Gujarati!E14) | G18: =IF(Gujarati!F14="","",Gujarati!F14) | H18: =IF($A18="","",ROUND(SUM(E18:G18),0)) -> 0 | I18: =IF(H18="","",IF(H18>=80,"A",IF(H18>=65,"B",IF(H18>=50,"C",IF(H18>=35,"D",IF(H18<=34,"E")))))) -> E | J18: =IF(Maths!D14="","",Maths!D14) | K18: =IF(Maths!E14="","",Maths!E14) | L18: =IF(Maths!F14="","",Maths!F14) | M18: =IF($A18="","",ROUND(SUM(J18:L18),0)) -> 0 | N18: =IF(M18="","",IF(M18>=80,"A",IF(M18>=65,"B",IF(M18>=50,"C",IF(M18>=35,"D",IF(M18<=34,"E")))))) -> E | O18: =IF(English!D14="","",English!D14) | P18: =IF(English!E14="","",English!E14) | Q18: =IF(English!F14="","",English!F14) | R18: =IF($A18="","",ROUND(SUM(O18:Q18),0)) -> 0 | S18: =IF(R18="","",IF(R18>=80,"A",IF(R18>=65,"B",IF(R18>=50,"C",IF(R18>=35,"D",IF(R18<=34,"E")))))) -> E | T18: =IF(Evs!D14="","",Evs!D14) | U18: =IF(Evs!E14="","",Evs!E14) | V18: =IF(Evs!F14="","",Evs!F14) | W18: =IF($A18="","",ROUND(SUM(T18:V18),0)) -> 0 | X18: =IF(W18="","",IF(W18>=80,"A",IF(W18>=65,"B",IF(W18>=50,"C",IF(W18>=35,"D",IF(W18<=34,"E")))))) -> E | Y18: =IF('SEM1 PATRAK-B'!AQ16="","",'SEM1 PATRAK-B'!AQ16) | Z18: =IF(Y18="","",IF(Y18>=160,"A",IF(Y18>=130,"B",IF(Y18>=100,"C",IF(Y18>=70,"D",IF(Y18<=69,"E")))))) | AA18: =IF(OR(H18="",M18="",R18="",W18="",Y18=""),"",H18+M18+R18+W18+Y18) | AB18: =IF(AA18="","",IF(AA18>=480,"A",IF(AA18>=390,"B",IF(AA18>=300,"C",IF(AA18>=210,"D",IF(AA18<=209,"E")))))) | AC18: =IF('Attandance Day'!C14="","",'Attandance Day'!C14) | AD18: =IFERROR(AA18/$AA$6,"") | AE18: =IF(AA18="","",RANK(AA18,AA$8:AA$67))
A19: =IF('Data Entry'!A19="","",'Data Entry'!A19) -> 12 | B19: =IF('Data Entry'!B19="","",'Data Entry'!B19) | C19: =IF('Data Entry'!C19="","",'Data Entry'!C19) | D19: =IF('Data Entry'!D19="","",'Data Entry'!D19) | E19: =IF(Gujarati!D15="","",Gujarati!D15) | F19: =IF(Gujarati!E15="","",Gujarati!E15) | G19: =IF(Gujarati!F15="","",Gujarati!F15) | H19: =IF($A19="","",ROUND(SUM(E19:G19),0)) -> 0 | I19: =IF(H19="","",IF(H19>=80,"A",IF(H19>=65,"B",IF(H19>=50,"C",IF(H19>=35,"D",IF(H19<=34,"E")))))) -> E | J19: =IF(Maths!D15="","",Maths!D15) | K19: =IF(Maths!E15="","",Maths!E15) | L19: =IF(Maths!F15="","",Maths!F15) | M19: =IF($A19="","",ROUND(SUM(J19:L19),0)) -> 0 | N19: =IF(M19="","",IF(M19>=80,"A",IF(M19>=65,"B",IF(M19>=50,"C",IF(M19>=35,"D",IF(M19<=34,"E")))))) -> E | O19: =IF(English!D15="","",English!D15) | P19: =IF(English!E15="","",English!E15) | Q19: =IF(English!F15="","",English!F15) | R19: =IF($A19="","",ROUND(SUM(O19:Q19),0)) -> 0 | S19: =IF(R19="","",IF(R19>=80,"A",IF(R19>=65,"B",IF(R19>=50,"C",IF(R19>=35,"D",IF(R19<=34,"E")))))) -> E | T19: =IF(Evs!D15="","",Evs!D15) | U19: =IF(Evs!E15="","",Evs!E15) | V19: =IF(Evs!F15="","",Evs!F15) | W19: =IF($A19="","",ROUND(SUM(T19:V19),0)) -> 0 | X19: =IF(W19="","",IF(W19>=80,"A",IF(W19>=65,"B",IF(W19>=50,"C",IF(W19>=35,"D",IF(W19<=34,"E")))))) -> E | Y19: =IF('SEM1 PATRAK-B'!AQ17="","",'SEM1 PATRAK-B'!AQ17) | Z19: =IF(Y19="","",IF(Y19>=160,"A",IF(Y19>=130,"B",IF(Y19>=100,"C",IF(Y19>=70,"D",IF(Y19<=69,"E")))))) | AA19: =IF(OR(H19="",M19="",R19="",W19="",Y19=""),"",H19+M19+R19+W19+Y19) | AB19: =IF(AA19="","",IF(AA19>=480,"A",IF(AA19>=390,"B",IF(AA19>=300,"C",IF(AA19>=210,"D",IF(AA19<=209,"E")))))) | AC19: =IF('Attandance Day'!C15="","",'Attandance Day'!C15) | AD19: =IFERROR(AA19/$AA$6,"") | AE19: =IF(AA19="","",RANK(AA19,AA$8:AA$67))
... A67: =IF('Data Entry'!A67="","",'Data Entry'!A67) -> 60 | B67: =IF('Data Entry'!B67="","",'Data Entry'!B67) | C67: =IF('Data Entry'!C67="","",'Data Entry'!C67) | D67: =IF('Data Entry'!D67="","",'Data Entry'!D67) | E67: =IF(Gujarati!D63="","",Gujarati!D63) | F67: =IF(Gujarati!E63="","",Gujarati!E63) | G67: =IF(Gujarati!F63="","",Gujarati!F63) | H67: =IF($A67="","",ROUND(SUM(E67:G67),0)) -> 0 | I67: =IF(H67="","",IF(H67>=80,"A",IF(H67>=65,"B",IF(H67>=50,"C",IF(H67>=35,"D",IF(H67<=34,"E")))))) -> E | J67: =IF(Maths!D63="","",Maths!D63) | K67: =IF(Maths!E63="","",Maths!E63) | L67: =IF(Maths!F63="","",Maths!F63) | M67: =IF($A67="","",ROUND(SUM(J67:L67),0)) -> 0 | N67: =IF(M67="","",IF(M67>=80,"A",IF(M67>=65,"B",IF(M67>=50,"C",IF(M67>=35,"D",IF(M67<=34,"E")))))) -> E | O67: =IF(English!D63="","",English!D63) | P67: =IF(English!E63="","",English!E63) | Q67: =IF(English!F63="","",English!F63) | R67: =IF($A67="","",ROUND(SUM(O67:Q67),0)) -> 0 | S67: =IF(R67="","",IF(R67>=80,"A",IF(R67>=65,"B",IF(R67>=50,"C",IF(R67>=35,"D",IF(R67<=34,"E")))))) -> E | T67: =IF(Evs!D63="","",Evs!D63) | U67: =IF(Evs!E63="","",Evs!E63) | V67: =IF(Evs!F63="","",Evs!F63) | W67: =IF($A67="","",ROUND(SUM(T67:V67),0)) -> 0 | X67: =IF(W67="","",IF(W67>=80,"A",IF(W67>=65,"B",IF(W67>=50,"C",IF(W67>=35,"D",IF(W67<=34,"E")))))) -> E | Y67: =IF('SEM1 PATRAK-B'!AQ65="","",'SEM1 PATRAK-B'!AQ65) | Z67: =IF(Y67="","",IF(Y67>=160,"A",IF(Y67>=130,"B",IF(Y67>=100,"C",IF(Y67>=70,"D",IF(Y67<=69,"E")))))) | AA67: =IF(OR(H67="",M67="",R67="",W67="",Y67=""),"",H67+M67+R67+W67+Y67) | AB67: =IF(AA67="","",IF(AA67>=480,"A",IF(AA67>=390,"B",IF(AA67>=300,"C",IF(AA67>=210,"D",IF(AA67<=209,"E")))))) | AC67: =IF('Attandance Day'!C63="","",'Attandance Day'!C63) | AD67: =IFERROR(AA67/$AA$6,"") | AE67: =IF(AA67="","",RANK(AA67,AA$8:AA$67))

Sheet PATRAK-C
B1: ="પત્રક - C : ધોરણ "&'Data Entry'!J2 -> પત્રક - C : ધોરણ 3 | U1: ="પત્રક - C : ધોરણ "&'Data Entry'!J2 -> પત્રક - C : ધોરણ 3
A2: ક્રમ | B2: વિદ્યાર્થીનું નામ | C2: જનરલ રજી. નંબર | D2: જન્મ તારીખ | E2: વિષય : ગુજરાતી | M2: વિષય : ગણિત | U2: વિષય : અંગ્રેજી | AC2: વિષય : સૌની આસપાસ | AK2: પત્રક - B વ્યક્તિત્વ વિકાસ પત્રક | AL2: ગ્રેડ | AM2: તમામ વિષયોના + પત્રક B નાં કુલ | AN2: સરેરાશ ગ્રેડ | AO2: વર્ષના કુલ કાર્ય દિવસ | AP2: ટકાવારી | AQ2: પાસ નંબર
E3: પ્રથમ સત્ર | H3: દ્રિતિય સત્ર | K3: ગુણમાંથી મેળવેલ ગુણ | L3: ગ્રેડ | M3: પ્રથમ સત્ર | P3: દ્રિતિય સત્ર | S3: ગુણમાંથી મેળવેલ ગુણ | T3: ગ્રેડ | U3: પ્રથમ સત્ર | X3: દ્રિતિય સત્ર | AA3: ગુણમાંથી મેળવેલ ગુણ | AB3: ગ્રેડ | AC3: પ્રથમ સત્ર | AF3: દ્રિતિય સત્ર | AI3: ગુણમાંથી મેળવેલ ગુણ | AJ3: ગ્રેડ
E4: ત્રિમાસિક કસોટી | F4: સત્રાંત મૂલ્યાંકન | G4: સ્વ-અધ્યયન કાર્યના આધારે મૂલ્યાંકન | H4: ત્રિમાસિક કસોટી | I4: સત્રાંત મૂલ્યાંકન | J4: સ્વ-અધ્યયન કાર્યના આધારે મૂલ્યાંકન | M4: ત્રિમાસિક કસોટી | N4: સત્રાંત મૂલ્યાંકન | O4: સ્વ-અધ્યયન કાર્યના આધારે મૂલ્યાંકન | P4: ત્રિમાસિક કસોટી | Q4: સત્રાંત મૂલ્યાંકન | R4: સ્વ-અધ્યયન કાર્યના આધારે મૂલ્યાંકન | U4: ત્રિમાસિક કસોટી | V4: સત્રાંત મૂલ્યાંકન | W4: સ્વ-અધ્યયન કાર્યના આધારે મૂલ્યાંકન | X4: ત્રિમાસિક કસોટી | Y4: સત્રાંત મૂલ્યાંકન | Z4: સ્વ-અધ્યયન કાર્યના આધારે મૂલ્યાંકન | AC4: ત્રિમાસિક કસોટી | AD4: સત્રાંત મૂલ્યાંકન | AE4: સ્વ-અધ્યયન કાર્યના આધારે મૂલ્યાંકન | AF4: ત્રિમાસિક કસોટી | AG4: સત્રાંત મૂલ્યાંકન | AH4: સ્વ-અધ્યયન કાર્યના આધારે મૂલ્યાંકન
E5: ગુણ | F5: ગુણ | G5: ગુણ | H5: ગુણ | I5: ગુણ | J5: ગુણ | M5: ગુણ | N5: ગુણ | O5: ગુણ | P5: ગુણ | Q5: ગુણ | R5: ગુણ | U5: ગુણ | V5: ગુણ | W5: ગુણ | X5: ગુણ | Y5: ગુણ | Z5: ગુણ | AC5: ગુણ | AD5: ગુણ | AE5: ગુણ | AF5: ગુણ | AG5: ગુણ | AH5: ગુણ | AK5: ગુણ | AM5: ગુણ
E6: 40 | F6: 40 | G6: 20 | H6: 40 | I6: 40 | J6: 20 | K6: =SUM(E6:J6) -> 200 | M6: 40 | N6: 40 | O6: 20 | P6: 40 | Q6: 40 | R6: 20 | S6: =SUM(M6:R6) -> 200 | U6: 40 | V6: 40 | W6: 20 | X6: 40 | Y6: 40 | Z6: 20 | AA6: =SUM(U6:Z6) -> 200 | AC6: 40 | AD6: 40 | AE6: 20 | AF6: 40 | AG6: 40 | AH6: 20 | AI6: =SUM(AC6:AH6) -> 200 | AK6: 200 | AM6: =K6+S6+AA6+AI6+AK6 -> 1000
A7: 1 | B7: 2 | C7: 3 | D7: 4 | E7: 5 | F7: 6 | G7: 7 | H7: 8 | I7: 9 | J7: 10 | K7: 11 | L7: 12 | M7: 13 | N7: 14 | O7: 15 | P7: 16 | Q7: 17 | R7: 18 | S7: 19 | T7: 20 | U7: 21 | V7: 22 | W7: 23 | X7: 24 | Y7: 25 | Z7: 26 | AA7: 27 | AB7: 28 | AC7: 29 | AD7: 30 | AE7: 31 | AF7: 32 | AG7: 33 | AH7: 34 | AI7: 35 | AJ7: 36 | AK7: 37 | AL7: 38 | AM7: 39 | AN7: 40 | AO7: 41 | AP7: 42 | AQ7: 43
A8: =IF('Data Entry'!A8="","",'Data Entry'!A8) -> 1 | B8: =IF('Data Entry'!B8="","",'Data Entry'!B8) -> પટેલ બ્રિજેશકુમાર કાળાભાઈ | C8: =IF('Data Entry'!C8="","",'Data Entry'!C8) -> 10251 | D8: =IF('Data Entry'!D8="","",'Data Entry'!D8) -> 40544 | E8: =IF(Gujarati!D4="","",Gujarati!D4) -> 32 | F8: =IF(Gujarati!E4="","",Gujarati!E4) -> 36 | G8: =IF(Gujarati!F4="","",Gujarati!F4) -> 18 | H8: =IF(Gujarati!H4="","",Gujarati!H4) -> 25 | I8: =IF(Gujarati!I4="","",Gujarati!I4) -> 32 | J8: =IF(Gujarati!J4="","",Gujarati!J4) -> 18 | K8: =IF($A8="","",ROUND(SUM(E8:J8),0)) -> 161 | L8: =IF(K8="","",IF(K8>=160,"A",IF(K8>=130,"B",IF(K8>=100,"C",IF(K8>=70,"D",IF(K8<=69,"E")))))) -> A | M8: =IF(Maths!D4="","",Maths!D4) -> 40 | N8: =IF(Maths!E4="","",Maths!E4) -> 28 | O8: =IF(Maths!F4="","",Maths!F4) -> 12 | P8: =IF(Maths!H4="","",Maths!H4) -> 36 | Q8: =IF(Maths!I4="","",Maths!I4) -> 37 | R8: =IF(Maths!J4="","",Maths!J4) -> 19 | S8: =IF($A8="","",ROUND(SUM(M8:R8),0)) -> 172 | T8: =IF(S8="","",IF(S8>=160,"A",IF(S8>=130,"B",IF(S8>=100,"C",IF(S8>=70,"D",IF(S8<=69,"E")))))) -> A | U8: =IF(English!D4="","",English!D4) -> 35 | V8: =IF(English!E4="","",English!E4) -> 36 | W8: =IF(English!F4="","",English!F4) -> 18 | X8: =IF(English!H4="","",English!H4) -> 34 | Y8: =IF(English!I4="","",English!I4) -> 32 | Z8: =IF(English!J4="","",English!J4) -> 17 | AA8: =IF($A8="","",ROUND(SUM(U8:Z8),0)) -> 172 | AB8: =IF(AA8="","",IF(AA8>=160,"A",IF(AA8>=130,"B",IF(AA8>=100,"C",IF(AA8>=70,"D",IF(AA8<=69,"E")))))) -> A | AC8: =IF(Evs!D4="","",Evs!D4) -> 34 | AD8: =IF(Evs!E4="","",Evs!E4) -> 32 | AE8: =IF(Evs!F4="","",Evs!F4) -> 18 | AF8: =IF(Evs!H4="","",Evs!H4) -> 40 | AG8: =IF(Evs!I4="","",Evs!I4) -> 39 | AH8: =IF(Evs!J4="","",Evs!J4) -> 19 | AI8: =IF($A8="","",ROUND(SUM(AC8:AH8),0)) -> 182 | AJ8: =IF(AI8="","",IF(AI8>=160,"A",IF(AI8>=130,"B",IF(AI8>=100,"C",IF(AI8>=70,"D",IF(AI8<=69,"E")))))) -> A | AK8: =IF('SEM2 PATRAK-B'!AQ6="",'SEM1 PATRAK-B'!AQ6,(ROUND(('SEM1 PATRAK-B'!AQ6+'SEM2 PATRAK-B'!AQ6)/2,0))) -> 165 | AL8: =IF(AK8="","",IF(AK8>=160,"A",IF(AK8>=130,"B",IF(AK8>=100,"C",IF(AK8>=70,"D",IF(AK8<=69,"E")))))) -> A | AM8: =IF(OR(K8="",S8="",AA8="",AI8="",AK8=""),"",K8+S8+AA8+AI8+AK8) -> 852 | AN8: =IF(AM8="","",IF(AM8>=800,"A",IF(AM8>=650,"B",IF(AM8>=500,"C",IF(AM8>=350,"D",IF(AM8<=349,"E")))))) -> A | AO8: =IF('Attandance Day'!C4="","",'Attandance Day'!C4) -> 200 | AP8: =IFERROR(AM8/$AM$6,"") -> 0.852 | AQ8: =IF(AM8="","",RANK(AM8,AM$8:AM$67)) -> 1
A9: =IF('Data Entry'!A9="","",'Data Entry'!A9) -> 2 | B9: =IF('Data Entry'!B9="","",'Data Entry'!B9) | C9: =IF('Data Entry'!C9="","",'Data Entry'!C9) | D9: =IF('Data Entry'!D9="","",'Data Entry'!D9) | E9: =IF(Gujarati!D5="","",Gujarati!D5) | F9: =IF(Gujarati!E5="","",Gujarati!E5) | G9: =IF(Gujarati!F5="","",Gujarati!F5) | H9: =IF(Gujarati!H5="","",Gujarati!H5) | I9: =IF(Gujarati!I5="","",Gujarati!I5) | J9: =IF(Gujarati!J5="","",Gujarati!J5) | K9: =IF($A9="","",ROUND(SUM(E9:J9),0)) -> 0 | L9: =IF(K9="","",IF(K9>=160,"A",IF(K9>=130,"B",IF(K9>=100,"C",IF(K9>=70,"D",IF(K9<=69,"E")))))) -> E | M9: =IF(Maths!D5="","",Maths!D5) | N9: =IF(Maths!E5="","",Maths!E5) | O9: =IF(Maths!F5="","",Maths!F5) | P9: =IF(Maths!H5="","",Maths!H5) | Q9: =IF(Maths!I5="","",Maths!I5) | R9: =IF(Maths!J5="","",Maths!J5) | S9: =IF($A9="","",ROUND(SUM(M9:R9),0)) -> 0 | T9: =IF(S9="","",IF(S9>=160,"A",IF(S9>=130,"B",IF(S9>=100,"C",IF(S9>=70,"D",IF(S9<=69,"E")))))) -> E | U9: =IF(English!D5="","",English!D5) | V9: =IF(English!E5="","",English!E5) | W9: =IF(English!F5="","",English!F5) | X9: =IF(English!H5="","",English!H5) | Y9: =IF(English!I5="","",English!I5) | Z9: =IF(English!J5="","",English!J5) | AA9: =IF($A9="","",ROUND(SUM(U9:Z9),0)) -> 0 | AB9: =IF(AA9="","",IF(AA9>=160,"A",IF(AA9>=130,"B",IF(AA9>=100,"C",IF(AA9>=70,"D",IF(AA9<=69,"E")))))) -> E | AC9: =IF(Evs!D5="","",Evs!D5) | AD9: =IF(Evs!E5="","",Evs!E5) | AE9: =IF(Evs!F5="","",Evs!F5) | AF9: =IF(Evs!H5="","",Evs!H5) | AG9: =IF(Evs!I5="","",Evs!I5) | AH9: =IF(Evs!J5="","",Evs!J5) | AI9: =IF($A9="","",ROUND(SUM(AC9:AH9),0)) -> 0 | AJ9: =IF(AI9="","",IF(AI9>=160,"A",IF(AI9>=130,"B",IF(AI9>=100,"C",IF(AI9>=70,"D",IF(AI9<=69,"E")))))) -> E | AK9: =IF('SEM2 PATRAK-B'!AQ7="",'SEM1 PATRAK-B'!AQ7,(ROUND(('SEM1 PATRAK-B'!AQ7+'SEM2 PATRAK-B'!AQ7)/2,0))) | AL9: =IF(AK9="","",IF(AK9>=160,"A",IF(AK9>=130,"B",IF(AK9>=100,"C",IF(AK9>=70,"D",IF(AK9<=69,"E")))))) | AM9: =IF(OR(K9="",S9="",AA9="",AI9="",AK9=""),"",K9+S9+AA9+AI9+AK9) | AN9: =IF(AM9="","",IF(AM9>=800,"A",IF(AM9>=650,"B",IF(AM9>=500,"C",IF(AM9>=350,"D",IF(AM9<=349,"E")))))) | AO9: =IF('Attandance Day'!C5="","",'Attandance Day'!C5) | AP9: =IFERROR(AM9/$AM$6,"") | AQ9: =IF(AM9="","",RANK(AM9,AM$8:AM$67))
A10: =IF('Data Entry'!A10="","",'Data Entry'!A10) -> 3 | B10: =IF('Data Entry'!B10="","",'Data Entry'!B10) | C10: =IF('Data Entry'!C10="","",'Data Entry'!C10) | D10: =IF('Data Entry'!D10="","",'Data Entry'!D10) | E10: =IF(Gujarati!D6="","",Gujarati!D6) | F10: =IF(Gujarati!E6="","",Gujarati!E6) | G10: =IF(Gujarati!F6="","",Gujarati!F6) | H10: =IF(Gujarati!H6="","",Gujarati!H6) | I10: =IF(Gujarati!I6="","",Gujarati!I6) | J10: =IF(Gujarati!J6="","",Gujarati!J6) | K10: =IF($A10="","",ROUND(SUM(E10:J10),0)) -> 0 | L10: =IF(K10="","",IF(K10>=160,"A",IF(K10>=130,"B",IF(K10>=100,"C",IF(K10>=70,"D",IF(K10<=69,"E")))))) -> E | M10: =IF(Maths!D6="","",Maths!D6) | N10: =IF(Maths!E6="","",Maths!E6) | O10: =IF(Maths!F6="","",Maths!F6) | P10: =IF(Maths!H6="","",Maths!H6) | Q10: =IF(Maths!I6="","",Maths!I6) | R10: =IF(Maths!J6="","",Maths!J6) | S10: =IF($A10="","",ROUND(SUM(M10:R10),0)) -> 0 | T10: =IF(S10="","",IF(S10>=160,"A",IF(S10>=130,"B",IF(S10>=100,"C",IF(S10>=70,"D",IF(S10<=69,"E")))))) -> E | U10: =IF(English!D6="","",English!D6) | V10: =IF(English!E6="","",English!E6) | W10: =IF(English!F6="","",English!F6) | X10: =IF(English!H6="","",English!H6) | Y10: =IF(English!I6="","",English!I6) | Z10: =IF(English!J6="","",English!J6) | AA10: =IF($A10="","",ROUND(SUM(U10:Z10),0)) -> 0 | AB10: =IF(AA10="","",IF(AA10>=160,"A",IF(AA10>=130,"B",IF(AA10>=100,"C",IF(AA10>=70,"D",IF(AA10<=69,"E")))))) -> E | AC10: =IF(Evs!D6="","",Evs!D6) | AD10: =IF(Evs!E6="","",Evs!E6) | AE10: =IF(Evs!F6="","",Evs!F6) | AF10: =IF(Evs!H6="","",Evs!H6) | AG10: =IF(Evs!I6="","",Evs!I6) | AH10: =IF(Evs!J6="","",Evs!J6) | AI10: =IF($A10="","",ROUND(SUM(AC10:AH10),0)) -> 0 | AJ10: =IF(AI10="","",IF(AI10>=160,"A",IF(AI10>=130,"B",IF(AI10>=100,"C",IF(AI10>=70,"D",IF(AI10<=69,"E")))))) -> E | AK10: =IF('SEM2 PATRAK-B'!AQ8="",'SEM1 PATRAK-B'!AQ8,(ROUND(('SEM1 PATRAK-B'!AQ8+'SEM2 PATRAK-B'!AQ8)/2,0))) | AL10: =IF(AK10="","",IF(AK10>=160,"A",IF(AK10>=130,"B",IF(AK10>=100,"C",IF(AK10>=70,"D",IF(AK10<=69,"E")))))) | AM10: =IF(OR(K10="",S10="",AA10="",AI10="",AK10=""),"",K10+S10+AA10+AI10+AK10) | AN10: =IF(AM10="","",IF(AM10>=800,"A",IF(AM10>=650,"B",IF(AM10>=500,"C",IF(AM10>=350,"D",IF(AM10<=349,"E")))))) | AO10: =IF('Attandance Day'!C6="","",'Attandance Day'!C6) | AP10: =IFERROR(AM10/$AM$6,"") | AQ10: =IF(AM10="","",RANK(AM10,AM$8:AM$67))
A11: =IF('Data Entry'!A11="","",'Data Entry'!A11) -> 4 | B11: =IF('Data Entry'!B11="","",'Data Entry'!B11) | C11: =IF('Data Entry'!C11="","",'Data Entry'!C11) | D11: =IF('Data Entry'!D11="","",'Data Entry'!D11) | E11: =IF(Gujarati!D7="","",Gujarati!D7) | F11: =IF(Gujarati!E7="","",Gujarati!E7) | G11: =IF(Gujarati!F7="","",Gujarati!F7) | H11: =IF(Gujarati!H7="","",Gujarati!H7) | I11: =IF(Gujarati!I7="","",Gujarati!I7) | J11: =IF(Gujarati!J7="","",Gujarati!J7) | K11: =IF($A11="","",ROUND(SUM(E11:J11),0)) -> 0 | L11: =IF(K11="","",IF(K11>=160,"A",IF(K11>=130,"B",IF(K11>=100,"C",IF(K11>=70,"D",IF(K11<=69,"E")))))) -> E | M11: =IF(Maths!D7="","",Maths!D7) | N11: =IF(Maths!E7="","",Maths!E7) | O11: =IF(Maths!F7="","",Maths!F7) | P11: =IF(Maths!H7="","",Maths!H7) | Q11: =IF(Maths!I7="","",Maths!I7) | R11: =IF(Maths!J7="","",Maths!J7) | S11: =IF($A11="","",ROUND(SUM(M11:R11),0)) -> 0 | T11: =IF(S11="","",IF(S11>=160,"A",IF(S11>=130,"B",IF(S11>=100,"C",IF(S11>=70,"D",IF(S11<=69,"E")))))) -> E | U11: =IF(English!D7="","",English!D7) | V11: =IF(English!E7="","",English!E7) | W11: =IF(English!F7="","",English!F7) | X11: =IF(English!H7="","",English!H7) | Y11: =IF(English!I7="","",English!I7) | Z11: =IF(English!J7="","",English!J7) | AA11: =IF($A11="","",ROUND(SUM(U11:Z11),0)) -> 0 | AB11: =IF(AA11="","",IF(AA11>=160,"A",IF(AA11>=130,"B",IF(AA11>=100,"C",IF(AA11>=70,"D",IF(AA11<=69,"E")))))) -> E | AC11: =IF(Evs!D7="","",Evs!D7) | AD11: =IF(Evs!E7="","",Evs!E7) | AE11: =IF(Evs!F7="","",Evs!F7) | AF11: =IF(Evs!H7="","",Evs!H7) | AG11: =IF(Evs!I7="","",Evs!I7) | AH11: =IF(Evs!J7="","",Evs!J7) | AI11: =IF($A11="","",ROUND(SUM(AC11:AH11),0)) -> 0 | AJ11: =IF(AI11="","",IF(AI11>=160,"A",IF(AI11>=130,"B",IF(AI11>=100,"C",IF(AI11>=70,"D",IF(AI11<=69,"E")))))) -> E | AK11: =IF('SEM2 PATRAK-B'!AQ9="",'SEM1 PATRAK-B'!AQ9,(ROUND(('SEM1 PATRAK-B'!AQ9+'SEM2 PATRAK-B'!AQ9)/2,0))) | AL11: =IF(AK11="","",IF(AK11>=160,"A",IF(AK11>=130,"B",IF(AK11>=100,"C",IF(AK11>=70,"D",IF(AK11<=69,"E")))))) | AM11: =IF(OR(K11="",S11="",AA11="",AI11="",AK11=""),"",K11+S11+AA11+AI11+AK11) | AN11: =IF(AM11="","",IF(AM11>=800,"A",IF(AM11>=650,"B",IF(AM11>=500,"C",IF(AM11>=350,"D",IF(AM11<=349,"E")))))) | AO11: =IF('Attandance Day'!C7="","",'Attandance Day'!C7) | AP11: =IFERROR(AM11/$AM$6,"") | AQ11: =IF(AM11="","",RANK(AM11,AM$8:AM$67))
A12: =IF('Data Entry'!A12="","",'Data Entry'!A12) -> 5 | B12: =IF('Data Entry'!B12="","",'Data Entry'!B12) | C12: =IF('Data Entry'!C12="","",'Data Entry'!C12) | D12: =IF('Data Entry'!D12="","",'Data Entry'!D12) | E12: =IF(Gujarati!D8="","",Gujarati!D8) | F12: =IF(Gujarati!E8="","",Gujarati!E8) | G12: =IF(Gujarati!F8="","",Gujarati!F8) | H12: =IF(Gujarati!H8="","",Gujarati!H8) | I12: =IF(Gujarati!I8="","",Gujarati!I8) | J12: =IF(Gujarati!J8="","",Gujarati!J8) | K12: =IF($A12="","",ROUND(SUM(E12:J12),0)) -> 0 | L12: =IF(K12="","",IF(K12>=160,"A",IF(K12>=130,"B",IF(K12>=100,"C",IF(K12>=70,"D",IF(K12<=69,"E")))))) -> E | M12: =IF(Maths!D8="","",Maths!D8) | N12: =IF(Maths!E8="","",Maths!E8) | O12: =IF(Maths!F8="","",Maths!F8) | P12: =IF(Maths!H8="","",Maths!H8) | Q12: =IF(Maths!I8="","",Maths!I8) | R12: =IF(Maths!J8="","",Maths!J8) | S12: =IF($A12="","",ROUND(SUM(M12:R12),0)) -> 0 | T12: =IF(S12="","",IF(S12>=160,"A",IF(S12>=130,"B",IF(S12>=100,"C",IF(S12>=70,"D",IF(S12<=69,"E")))))) -> E | U12: =IF(English!D8="","",English!D8) | V12: =IF(English!E8="","",English!E8) | W12: =IF(English!F8="","",English!F8) | X12: =IF(English!H8="","",English!H8) | Y12: =IF(English!I8="","",English!I8) | Z12: =IF(English!J8="","",English!J8) | AA12: =IF($A12="","",ROUND(SUM(U12:Z12),0)) -> 0 | AB12: =IF(AA12="","",IF(AA12>=160,"A",IF(AA12>=130,"B",IF(AA12>=100,"C",IF(AA12>=70,"D",IF(AA12<=69,"E")))))) -> E | AC12: =IF(Evs!D8="","",Evs!D8) | AD12: =IF(Evs!E8="","",Evs!E8) | AE12: =IF(Evs!F8="","",Evs!F8) | AF12: =IF(Evs!H8="","",Evs!H8) | AG12: =IF(Evs!I8="","",Evs!I8) | AH12: =IF(Evs!J8="","",Evs!J8) | AI12: =IF($A12="","",ROUND(SUM(AC12:AH12),0)) -> 0 | AJ12: =IF(AI12="","",IF(AI12>=160,"A",IF(AI12>=130,"B",IF(AI12>=100,"C",IF(AI12>=70,"D",IF(AI12<=69,"E")))))) -> E | AK12: =IF('SEM2 PATRAK-B'!AQ10="",'SEM1 PATRAK-B'!AQ10,(ROUND(('SEM1 PATRAK-B'!AQ10+'SEM2 PATRAK-B'!AQ10)/2,0))) | AL12: =IF(AK12="","",IF(AK12>=160,"A",IF(AK12>=130,"B",IF(AK12>=100,"C",IF(AK12>=70,"D",IF(AK12<=69,"E")))))) | AM12: =IF(OR(K12="",S12="",AA12="",AI12="",AK12=""),"",K12+S12+AA12+AI12+AK12) | AN12: =IF(AM12="","",IF(AM12>=800,"A",IF(AM12>=650,"B",IF(AM12>=500,"C",IF(AM12>=350,"D",IF(AM12<=349,"E")))))) | AO12: =IF('Attandance Day'!C8="","",'Attandance Day'!C8) | AP12: =IFERROR(AM12/$AM$6,"") | AQ12: =IF(AM12="","",RANK(AM12,AM$8:AM$67))
A13: =IF('Data Entry'!A13="","",'Data Entry'!A13) -> 6 | B13: =IF('Data Entry'!B13="","",'Data Entry'!B13) | C13: =IF('Data Entry'!C13="","",'Data Entry'!C13) | D13: =IF('Data Entry'!D13="","",'Data Entry'!D13) | E13: =IF(Gujarati!D9="","",Gujarati!D9) | F13: =IF(Gujarati!E9="","",Gujarati!E9) | G13: =IF(Gujarati!F9="","",Gujarati!F9) | H13: =IF(Gujarati!H9="","",Gujarati!H9) | I13: =IF(Gujarati!I9="","",Gujarati!I9) | J13: =IF(Gujarati!J9="","",Gujarati!J9) | K13: =IF($A13="","",ROUND(SUM(E13:J13),0)) -> 0 | L13: =IF(K13="","",IF(K13>=160,"A",IF(K13>=130,"B",IF(K13>=100,"C",IF(K13>=70,"D",IF(K13<=69,"E")))))) -> E | M13: =IF(Maths!D9="","",Maths!D9) | N13: =IF(Maths!E9="","",Maths!E9) | O13: =IF(Maths!F9="","",Maths!F9) | P13: =IF(Maths!H9="","",Maths!H9) | Q13: =IF(Maths!I9="","",Maths!I9) | R13: =IF(Maths!J9="","",Maths!J9) | S13: =IF($A13="","",ROUND(SUM(M13:R13),0)) -> 0 | T13: =IF(S13="","",IF(S13>=160,"A",IF(S13>=130,"B",IF(S13>=100,"C",IF(S13>=70,"D",IF(S13<=69,"E")))))) -> E | U13: =IF(English!D9="","",English!D9) | V13: =IF(English!E9="","",English!E9) | W13: =IF(English!F9="","",English!F9) | X13: =IF(English!H9="","",English!H9) | Y13: =IF(English!I9="","",English!I9) | Z13: =IF(English!J9="","",English!J9) | AA13: =IF($A13="","",ROUND(SUM(U13:Z13),0)) -> 0 | AB13: =IF(AA13="","",IF(AA13>=160,"A",IF(AA13>=130,"B",IF(AA13>=100,"C",IF(AA13>=70,"D",IF(AA13<=69,"E")))))) -> E | AC13: =IF(Evs!D9="","",Evs!D9) | AD13: =IF(Evs!E9="","",Evs!E9) | AE13: =IF(Evs!F9="","",Evs!F9) | AF13: =IF(Evs!H9="","",Evs!H9) | AG13: =IF(Evs!I9="","",Evs!I9) | AH13: =IF(Evs!J9="","",Evs!J9) | AI13: =IF($A13="","",ROUND(SUM(AC13:AH13),0)) -> 0 | AJ13: =IF(AI13="","",IF(AI13>=160,"A",IF(AI13>=130,"B",IF(AI13>=100,"C",IF(AI13>=70,"D",IF(AI13<=69,"E")))))) -> E | AK13: =IF('SEM2 PATRAK-B'!AQ11="",'SEM1 PATRAK-B'!AQ11,(ROUND(('SEM1 PATRAK-B'!AQ11+'SEM2 PATRAK-B'!AQ11)/2,0))) | AL13: =IF(AK13="","",IF(AK13>=160,"A",IF(AK13>=130,"B",IF(AK13>=100,"C",IF(AK13>=70,"D",IF(AK13<=69,"E")))))) | AM13: =IF(OR(K13="",S13="",AA13="",AI13="",AK13=""),"",K13+S13+AA13+AI13+AK13) | AN13: =IF(AM13="","",IF(AM13>=800,"A",IF(AM13>=650,"B",IF(AM13>=500,"C",IF(AM13>=350,"D",IF(AM13<=349,"E")))))) | AO13: =IF('Attandance Day'!C9="","",'Attandance Day'!C9) | AP13: =IFERROR(AM13/$AM$6,"") | AQ13: =IF(AM13="","",RANK(AM13,AM$8:AM$67))
A14: =IF('Data Entry'!A14="","",'Data Entry'!A14) -> 7 | B14: =IF('Data Entry'!B14="","",'Data Entry'!B14) | C14: =IF('Data Entry'!C14="","",'Data Entry'!C14) | D14: =IF('Data Entry'!D14="","",'Data Entry'!D14) | E14: =IF(Gujarati!D10="","",Gujarati!D10) | F14: =IF(Gujarati!E10="","",Gujarati!E10) | G14: =IF(Gujarati!F10="","",Gujarati!F10) | H14: =IF(Gujarati!H10="","",Gujarati!H10) | I14: =IF(Gujarati!I10="","",Gujarati!I10) | J14: =IF(Gujarati!J10="","",Gujarati!J10) | K14: =IF($A14="","",ROUND(SUM(E14:J14),0)) -> 0 | L14: =IF(K14="","",IF(K14>=160,"A",IF(K14>=130,"B",IF(K14>=100,"C",IF(K14>=70,"D",IF(K14<=69,"E")))))) -> E | M14: =IF(Maths!D10="","",Maths!D10) | N14: =IF(Maths!E10="","",Maths!E10) | O14: =IF(Maths!F10="","",Maths!F10) | P14: =IF(Maths!H10="","",Maths!H10) | Q14: =IF(Maths!I10="","",Maths!I10) | R14: =IF(Maths!J10="","",Maths!J10) | S14: =IF($A14="","",ROUND(SUM(M14:R14),0)) -> 0 | T14: =IF(S14="","",IF(S14>=160,"A",IF(S14>=130,"B",IF(S14>=100,"C",IF(S14>=70,"D",IF(S14<=69,"E")))))) -> E | U14: =IF(English!D10="","",English!D10) | V14: =IF(English!E10="","",English!E10) | W14: =IF(English!F10="","",English!F10) | X14: =IF(English!H10="","",English!H10) | Y14: =IF(English!I10="","",English!I10) | Z14: =IF(English!J10="","",English!J10) | AA14: =IF($A14="","",ROUND(SUM(U14:Z14),0)) -> 0 | AB14: =IF(AA14="","",IF(AA14>=160,"A",IF(AA14>=130,"B",IF(AA14>=100,"C",IF(AA14>=70,"D",IF(AA14<=69,"E")))))) -> E | AC14: =IF(Evs!D10="","",Evs!D10) | AD14: =IF(Evs!E10="","",Evs!E10) | AE14: =IF(Evs!F10="","",Evs!F10) | AF14: =IF(Evs!H10="","",Evs!H10) | AG14: =IF(Evs!I10="","",Evs!I10) | AH14: =IF(Evs!J10="","",Evs!J10) | AI14: =IF($A14="","",ROUND(SUM(AC14:AH14),0)) -> 0 | AJ14: =IF(AI14="","",IF(AI14>=160,"A",IF(AI14>=130,"B",IF(AI14>=100,"C",IF(AI14>=70,"D",IF(AI14<=69,"E")))))) -> E | AK14: =IF('SEM2 PATRAK-B'!AQ12="",'SEM1 PATRAK-B'!AQ12,(ROUND(('SEM1 PATRAK-B'!AQ12+'SEM2 PATRAK-B'!AQ12)/2,0))) | AL14: =IF(AK14="","",IF(AK14>=160,"A",IF(AK14>=130,"B",IF(AK14>=100,"C",IF(AK14>=70,"D",IF(AK14<=69,"E")))))) | AM14: =IF(OR(K14="",S14="",AA14="",AI14="",AK14=""),"",K14+S14+AA14+AI14+AK14) | AN14: =IF(AM14="","",IF(AM14>=800,"A",IF(AM14>=650,"B",IF(AM14>=500,"C",IF(AM14>=350,"D",IF(AM14<=349,"E")))))) | AO14: =IF('Attandance Day'!C10="","",'Attandance Day'!C10) | AP14: =IFERROR(AM14/$AM$6,"") | AQ14: =IF(AM14="","",RANK(AM14,AM$8:AM$67))
A15: =IF('Data Entry'!A15="","",'Data Entry'!A15) -> 8 | B15: =IF('Data Entry'!B15="","",'Data Entry'!B15) | C15: =IF('Data Entry'!C15="","",'Data Entry'!C15) | D15: =IF('Data Entry'!D15="","",'Data Entry'!D15) | E15: =IF(Gujarati!D11="","",Gujarati!D11) | F15: =IF(Gujarati!E11="","",Gujarati!E11) | G15: =IF(Gujarati!F11="","",Gujarati!F11) | H15: =IF(Gujarati!H11="","",Gujarati!H11) | I15: =IF(Gujarati!I11="","",Gujarati!I11) | J15: =IF(Gujarati!J11="","",Gujarati!J11) | K15: =IF($A15="","",ROUND(SUM(E15:J15),0)) -> 0 | L15: =IF(K15="","",IF(K15>=160,"A",IF(K15>=130,"B",IF(K15>=100,"C",IF(K15>=70,"D",IF(K15<=69,"E")))))) -> E | M15: =IF(Maths!D11="","",Maths!D11) | N15: =IF(Maths!E11="","",Maths!E11) | O15: =IF(Maths!F11="","",Maths!F11) | P15: =IF(Maths!H11="","",Maths!H11) | Q15: =IF(Maths!I11="","",Maths!I11) | R15: =IF(Maths!J11="","",Maths!J11) | S15: =IF($A15="","",ROUND(SUM(M15:R15),0)) -> 0 | T15: =IF(S15="","",IF(S15>=160,"A",IF(S15>=130,"B",IF(S15>=100,"C",IF(S15>=70,"D",IF(S15<=69,"E")))))) -> E | U15: =IF(English!D11="","",English!D11) | V15: =IF(English!E11="","",English!E11) | W15: =IF(English!F11="","",English!F11) | X15: =IF(English!H11="","",English!H11) | Y15: =IF(English!I11="","",English!I11) | Z15: =IF(English!J11="","",English!J11) | AA15: =IF($A15="","",ROUND(SUM(U15:Z15),0)) -> 0 | AB15: =IF(AA15="","",IF(AA15>=160,"A",IF(AA15>=130,"B",IF(AA15>=100,"C",IF(AA15>=70,"D",IF(AA15<=69,"E")))))) -> E | AC15: =IF(Evs!D11="","",Evs!D11) | AD15: =IF(Evs!E11="","",Evs!E11) | AE15: =IF(Evs!F11="","",Evs!F11) | AF15: =IF(Evs!H11="","",Evs!H11) | AG15: =IF(Evs!I11="","",Evs!I11) | AH15: =IF(Evs!J11="","",Evs!J11) | AI15: =IF($A15="","",ROUND(SUM(AC15:AH15),0)) -> 0 | AJ15: =IF(AI15="","",IF(AI15>=160,"A",IF(AI15>=130,"B",IF(AI15>=100,"C",IF(AI15>=70,"D",IF(AI15<=69,"E")))))) -> E | AK15: =IF('SEM2 PATRAK-B'!AQ13="",'SEM1 PATRAK-B'!AQ13,(ROUND(('SEM1 PATRAK-B'!AQ13+'SEM2 PATRAK-B'!AQ13)/2,0))) | AL15: =IF(AK15="","",IF(AK15>=160,"A",IF(AK15>=130,"B",IF(AK15>=100,"C",IF(AK15>=70,"D",IF(AK15<=69,"E")))))) | AM15: =IF(OR(K15="",S15="",AA15="",AI15="",AK15=""),"",K15+S15+AA15+AI15+AK15) | AN15: =IF(AM15="","",IF(AM15>=800,"A",IF(AM15>=650,"B",IF(AM15>=500,"C",IF(AM15>=350,"D",IF(AM15<=349,"E")))))) | AO15: =IF('Attandance Day'!C11="","",'Attandance Day'!C11) | AP15: =IFERROR(AM15/$AM$6,"") | AQ15: =IF(AM15="","",RANK(AM15,AM$8:AM$67))
A16: =IF('Data Entry'!A16="","",'Data Entry'!A16) -> 9 | B16: =IF('Data Entry'!B16="","",'Data Entry'!B16) | C16: =IF('Data Entry'!C16="","",'Data Entry'!C16) | D16: =IF('Data Entry'!D16="","",'Data Entry'!D16) | E16: =IF(Gujarati!D12="","",Gujarati!D12) | F16: =IF(Gujarati!E12="","",Gujarati!E12) | G16: =IF(Gujarati!F12="","",Gujarati!F12) | H16: =IF(Gujarati!H12="","",Gujarati!H12) | I16: =IF(Gujarati!I12="","",Gujarati!I12) | J16: =IF(Gujarati!J12="","",Gujarati!J12) | K16: =IF($A16="","",ROUND(SUM(E16:J16),0)) -> 0 | L16: =IF(K16="","",IF(K16>=160,"A",IF(K16>=130,"B",IF(K16>=100,"C",IF(K16>=70,"D",IF(K16<=69,"E")))))) -> E | M16: =IF(Maths!D12="","",Maths!D12) | N16: =IF(Maths!E12="","",Maths!E12) | O16: =IF(Maths!F12="","",Maths!F12) | P16: =IF(Maths!H12="","",Maths!H12) | Q16: =IF(Maths!I12="","",Maths!I12) | R16: =IF(Maths!J12="","",Maths!J12) | S16: =IF($A16="","",ROUND(SUM(M16:R16),0)) -> 0 | T16: =IF(S16="","",IF(S16>=160,"A",IF(S16>=130,"B",IF(S16>=100,"C",IF(S16>=70,"D",IF(S16<=69,"E")))))) -> E | U16: =IF(English!D12="","",English!D12) | V16: =IF(English!E12="","",English!E12) | W16: =IF(English!F12="","",English!F12) | X16: =IF(English!H12="","",English!H12) | Y16: =IF(English!I12="","",English!I12) | Z16: =IF(English!J12="","",English!J12) | AA16: =IF($A16="","",ROUND(SUM(U16:Z16),0)) -> 0 | AB16: =IF(AA16="","",IF(AA16>=160,"A",IF(AA16>=130,"B",IF(AA16>=100,"C",IF(AA16>=70,"D",IF(AA16<=69,"E")))))) -> E | AC16: =IF(Evs!D12="","",Evs!D12) | AD16: =IF(Evs!E12="","",Evs!E12) | AE16: =IF(Evs!F12="","",Evs!F12) | AF16: =IF(Evs!H12="","",Evs!H12) | AG16: =IF(Evs!I12="","",Evs!I12) | AH16: =IF(Evs!J12="","",Evs!J12) | AI16: =IF($A16="","",ROUND(SUM(AC16:AH16),0)) -> 0 | AJ16: =IF(AI16="","",IF(AI16>=160,"A",IF(AI16>=130,"B",IF(AI16>=100,"C",IF(AI16>=70,"D",IF(AI16<=69,"E")))))) -> E | AK16: =IF('SEM2 PATRAK-B'!AQ14="",'SEM1 PATRAK-B'!AQ14,(ROUND(('SEM1 PATRAK-B'!AQ14+'SEM2 PATRAK-B'!AQ14)/2,0))) | AL16: =IF(AK16="","",IF(AK16>=160,"A",IF(AK16>=130,"B",IF(AK16>=100,"C",IF(AK16>=70,"D",IF(AK16<=69,"E")))))) | AM16: =IF(OR(K16="",S16="",AA16="",AI16="",AK16=""),"",K16+S16+AA16+AI16+AK16) | AN16: =IF(AM16="","",IF(AM16>=800,"A",IF(AM16>=650,"B",IF(AM16>=500,"C",IF(AM16>=350,"D",IF(AM16<=349,"E")))))) | AO16: =IF('Attandance Day'!C12="","",'Attandance Day'!C12) | AP16: =IFERROR(AM16/$AM$6,"") | AQ16: =IF(AM16="","",RANK(AM16,AM$8:AM$67))
A17: =IF('Data Entry'!A17="","",'Data Entry'!A17) -> 10 | B17: =IF('Data Entry'!B17="","",'Data Entry'!B17) | C17: =IF('Data Entry'!C17="","",'Data Entry'!C17) | D17: =IF('Data Entry'!D17="","",'Data Entry'!D17) | E17: =IF(Gujarati!D13="","",Gujarati!D13) | F17: =IF(Gujarati!E13="","",Gujarati!E13) | G17: =IF(Gujarati!F13="","",Gujarati!F13) | H17: =IF(Gujarati!H13="","",Gujarati!H13) | I17: =IF(Gujarati!I13="","",Gujarati!I13) | J17: =IF(Gujarati!J13="","",Gujarati!J13) | K17: =IF($A17="","",ROUND(SUM(E17:J17),0)) -> 0 | L17: =IF(K17="","",IF(K17>=160,"A",IF(K17>=130,"B",IF(K17>=100,"C",IF(K17>=70,"D",IF(K17<=69,"E")))))) -> E | M17: =IF(Maths!D13="","",Maths!D13) | N17: =IF(Maths!E13="","",Maths!E13) | O17: =IF(Maths!F13="","",Maths!F13) | P17: =IF(Maths!H13="","",Maths!H13) | Q17: =IF(Maths!I13="","",Maths!I13) | R17: =IF(Maths!J13="","",Maths!J13) | S17: =IF($A17="","",ROUND(SUM(M17:R17),0)) -> 0 | T17: =IF(S17="","",IF(S17>=160,"A",IF(S17>=130,"B",IF(S17>=100,"C",IF(S17>=70,"D",IF(S17<=69,"E")))))) -> E | U17: =IF(English!D13="","",English!D13) | V17: =IF(English!E13="","",English!E13) | W17: =IF(English!F13="","",English!F13) | X17: =IF(English!H13="","",English!H13) | Y17: =IF(English!I13="","",English!I13) | Z17: =IF(English!J13="","",English!J13) | AA17: =IF($A17="","",ROUND(SUM(U17:Z17),0)) -> 0 | AB17: =IF(AA17="","",IF(AA17>=160,"A",IF(AA17>=130,"B",IF(AA17>=100,"C",IF(AA17>=70,"D",IF(AA17<=69,"E")))))) -> E | AC17: =IF(Evs!D13="","",Evs!D13) | AD17: =IF(Evs!E13="","",Evs!E13) | AE17: =IF(Evs!F13="","",Evs!F13) | AF17: =IF(Evs!H13="","",Evs!H13) | AG17: =IF(Evs!I13="","",Evs!I13) | AH17: =IF(Evs!J13="","",Evs!J13) | AI17: =IF($A17="","",ROUND(SUM(AC17:AH17),0)) -> 0 | AJ17: =IF(AI17="","",IF(AI17>=160,"A",IF(AI17>=130,"B",IF(AI17>=100,"C",IF(AI17>=70,"D",IF(AI17<=69,"E")))))) -> E | AK17: =IF('SEM2 PATRAK-B'!AQ15="",'SEM1 PATRAK-B'!AQ15,(ROUND(('SEM1 PATRAK-B'!AQ15+'SEM2 PATRAK-B'!AQ15)/2,0))) | AL17: =IF(AK17="","",IF(AK17>=160,"A",IF(AK17>=130,"B",IF(AK17>=100,"C",IF(AK17>=70,"D",IF(AK17<=69,"E")))))) | AM17: =IF(OR(K17="",S17="",AA17="",AI17="",AK17=""),"",K17+S17+AA17+AI17+AK17) | AN17: =IF(AM17="","",IF(AM17>=800,"A",IF(AM17>=650,"B",IF(AM17>=500,"C",IF(AM17>=350,"D",IF(AM17<=349,"E")))))) | AO17: =IF('Attandance Day'!C13="","",'Attandance Day'!C13) | AP17: =IFERROR(AM17/$AM$6,"") | AQ17: =IF(AM17="","",RANK(AM17,AM$8:AM$67))
A18: =IF('Data Entry'!A18="","",'Data Entry'!A18) -> 11 | B18: =IF('Data Entry'!B18="","",'Data Entry'!B18) | C18: =IF('Data Entry'!C18="","",'Data Entry'!C18) | D18: =IF('Data Entry'!D18="","",'Data Entry'!D18) | E18: =IF(Gujarati!D14="","",Gujarati!D14) | F18: =IF(Gujarati!E14="","",Gujarati!E14) | G18: =IF(Gujarati!F14="","",Gujarati!F14) | H18: =IF(Gujarati!H14="","",Gujarati!H14) | I18: =IF(Gujarati!I14="","",Gujarati!I14) | J18: =IF(Gujarati!J14="","",Gujarati!J14) | K18: =IF($A18="","",ROUND(SUM(E18:J18),0)) -> 0 | L18: =IF(K18="","",IF(K18>=160,"A",IF(K18>=130,"B",IF(K18>=100,"C",IF(K18>=70,"D",IF(K18<=69,"E")))))) -> E | M18: =IF(Maths!D14="","",Maths!D14) | N18: =IF(Maths!E14="","",Maths!E14) | O18: =IF(Maths!F14="","",Maths!F14) | P18: =IF(Maths!H14="","",Maths!H14) | Q18: =IF(Maths!I14="","",Maths!I14) | R18: =IF(Maths!J14="","",Maths!J14) | S18: =IF($A18="","",ROUND(SUM(M18:R18),0)) -> 0 | T18: =IF(S18="","",IF(S18>=160,"A",IF(S18>=130,"B",IF(S18>=100,"C",IF(S18>=70,"D",IF(S18<=69,"E")))))) -> E | U18: =IF(English!D14="","",English!D14) | V18: =IF(English!E14="","",English!E14) | W18: =IF(English!F14="","",English!F14) | X18: =IF(English!H14="","",English!H14) | Y18: =IF(English!I14="","",English!I14) | Z18: =IF(English!J14="","",English!J14) | AA18: =IF($A18="","",ROUND(SUM(U18:Z18),0)) -> 0 | AB18: =IF(AA18="","",IF(AA18>=160,"A",IF(AA18>=130,"B",IF(AA18>=100,"C",IF(AA18>=70,"D",IF(AA18<=69,"E")))))) -> E | AC18: =IF(Evs!D14="","",Evs!D14) | AD18: =IF(Evs!E14="","",Evs!E14) | AE18: =IF(Evs!F14="","",Evs!F14) | AF18: =IF(Evs!H14="","",Evs!H14) | AG18: =IF(Evs!I14="","",Evs!I14) | AH18: =IF(Evs!J14="","",Evs!J14) | AI18: =IF($A18="","",ROUND(SUM(AC18:AH18),0)) -> 0 | AJ18: =IF(AI18="","",IF(AI18>=160,"A",IF(AI18>=130,"B",IF(AI18>=100,"C",IF(AI18>=70,"D",IF(AI18<=69,"E")))))) -> E | AK18: =IF('SEM2 PATRAK-B'!AQ16="",'SEM1 PATRAK-B'!AQ16,(ROUND(('SEM1 PATRAK-B'!AQ16+'SEM2 PATRAK-B'!AQ16)/2,0))) | AL18: =IF(AK18="","",IF(AK18>=160,"A",IF(AK18>=130,"B",IF(AK18>=100,"C",IF(AK18>=70,"D",IF(AK18<=69,"E")))))) | AM18: =IF(OR(K18="",S18="",AA18="",AI18="",AK18=""),"",K18+S18+AA18+AI18+AK18) | AN18: =IF(AM18="","",IF(AM18>=800,"A",IF(AM18>=650,"B",IF(AM18>=500,"C",IF(AM18>=350,"D",IF(AM18<=349,"E")))))) | AO18: =IF('Attandance Day'!C14="","",'Attandance Day'!C14) | AP18: =IFERROR(AM18/$AM$6,"") | AQ18: =IF(AM18="","",RANK(AM18,AM$8:AM$67))
A19: =IF('Data Entry'!A19="","",'Data Entry'!A19) -> 12 | B19: =IF('Data Entry'!B19="","",'Data Entry'!B19) | C19: =IF('Data Entry'!C19="","",'Data Entry'!C19) | D19: =IF('Data Entry'!D19="","",'Data Entry'!D19) | E19: =IF(Gujarati!D15="","",Gujarati!D15) | F19: =IF(Gujarati!E15="","",Gujarati!E15) | G19: =IF(Gujarati!F15="","",Gujarati!F15) | H19: =IF(Gujarati!H15="","",Gujarati!H15) | I19: =IF(Gujarati!I15="","",Gujarati!I15) | J19: =IF(Gujarati!J15="","",Gujarati!J15) | K19: =IF($A19="","",ROUND(SUM(E19:J19),0)) -> 0 | L19: =IF(K19="","",IF(K19>=160,"A",IF(K19>=130,"B",IF(K19>=100,"C",IF(K19>=70,"D",IF(K19<=69,"E")))))) -> E | M19: =IF(Maths!D15="","",Maths!D15) | N19: =IF(Maths!E15="","",Maths!E15) | O19: =IF(Maths!F15="","",Maths!F15) | P19: =IF(Maths!H15="","",Maths!H15) | Q19: =IF(Maths!I15="","",Maths!I15) | R19: =IF(Maths!J15="","",Maths!J15) | S19: =IF($A19="","",ROUND(SUM(M19:R19),0)) -> 0 | T19: =IF(S19="","",IF(S19>=160,"A",IF(S19>=130,"B",IF(S19>=100,"C",IF(S19>=70,"D",IF(S19<=69,"E")))))) -> E | U19: =IF(English!D15="","",English!D15) | V19: =IF(English!E15="","",English!E15) | W19: =IF(English!F15="","",English!F15) | X19: =IF(English!H15="","",English!H15) | Y19: =IF(English!I15="","",English!I15) | Z19: =IF(English!J15="","",English!J15) | AA19: =IF($A19="","",ROUND(SUM(U19:Z19),0)) -> 0 | AB19: =IF(AA19="","",IF(AA19>=160,"A",IF(AA19>=130,"B",IF(AA19>=100,"C",IF(AA19>=70,"D",IF(AA19<=69,"E")))))) -> E | AC19: =IF(Evs!D15="","",Evs!D15) | AD19: =IF(Evs!E15="","",Evs!E15) | AE19: =IF(Evs!F15="","",Evs!F15) | AF19: =IF(Evs!H15="","",Evs!H15) | AG19: =IF(Evs!I15="","",Evs!I15) | AH19: =IF(Evs!J15="","",Evs!J15) | AI19: =IF($A19="","",ROUND(SUM(AC19:AH19),0)) -> 0 | AJ19: =IF(AI19="","",IF(AI19>=160,"A",IF(AI19>=130,"B",IF(AI19>=100,"C",IF(AI19>=70,"D",IF(AI19<=69,"E")))))) -> E | AK19: =IF('SEM2 PATRAK-B'!AQ17="",'SEM1 PATRAK-B'!AQ17,(ROUND(('SEM1 PATRAK-B'!AQ17+'SEM2 PATRAK-B'!AQ17)/2,0))) | AL19: =IF(AK19="","",IF(AK19>=160,"A",IF(AK19>=130,"B",IF(AK19>=100,"C",IF(AK19>=70,"D",IF(AK19<=69,"E")))))) | AM19: =IF(OR(K19="",S19="",AA19="",AI19="",AK19=""),"",K19+S19+AA19+AI19+AK19) | AN19: =IF(AM19="","",IF(AM19>=800,"A",IF(AM19>=650,"B",IF(AM19>=500,"C",IF(AM19>=350,"D",IF(AM19<=349,"E")))))) | AO19: =IF('Attandance Day'!C15="","",'Attandance Day'!C15) | AP19: =IFERROR(AM19/$AM$6,"") | AQ19: =IF(AM19="","",RANK(AM19,AM$8:AM$67))
... A67: =IF('Data Entry'!A67="","",'Data Entry'!A67) -> 60 | B67: =IF('Data Entry'!B67="","",'Data Entry'!B67) | C67: =IF('Data Entry'!C67="","",'Data Entry'!C67) | D67: =IF('Data Entry'!D67="","",'Data Entry'!D67) | E67: =IF(Gujarati!D63="","",Gujarati!D63) | F67: =IF(Gujarati!E63="","",Gujarati!E63) | G67: =IF(Gujarati!F63="","",Gujarati!F63) | H67: =IF(Gujarati!H63="","",Gujarati!H63) | I67: =IF(Gujarati!I63="","",Gujarati!I63) | J67: =IF(Gujarati!J63="","",Gujarati!J63) | K67: =IF($A67="","",ROUND(SUM(E67:J67),0)) -> 0 | L67: =IF(K67="","",IF(K67>=160,"A",IF(K67>=130,"B",IF(K67>=100,"C",IF(K67>=70,"D",IF(K67<=69,"E")))))) -> E | M67: =IF(Maths!D63="","",Maths!D63) | N67: =IF(Maths!E63="","",Maths!E63) | O67: =IF(Maths!F63="","",Maths!F63) | P67: =IF(Maths!H63="","",Maths!H63) | Q67: =IF(Maths!I63="","",Maths!I63) | R67: =IF(Maths!J63="","",Maths!J63) | S67: =IF($A67="","",ROUND(SUM(M67:R67),0)) -> 0 | T67: =IF(S67="","",IF(S67>=160,"A",IF(S67>=130,"B",IF(S67>=100,"C",IF(S67>=70,"D",IF(S67<=69,"E")))))) -> E | U67: =IF(English!D63="","",English!D63) | V67: =IF(English!E63="","",English!E63) | W67: =IF(English!F63="","",English!F63) | X67: =IF(English!H63="","",English!H63) | Y67: =IF(English!I63="","",English!I63) | Z67: =IF(English!J63="","",English!J63) | AA67: =IF($A67="","",ROUND(SUM(U67:Z67),0)) -> 0 | AB67: =IF(AA67="","",IF(AA67>=160,"A",IF(AA67>=130,"B",IF(AA67>=100,"C",IF(AA67>=70,"D",IF(AA67<=69,"E")))))) -> E | AC67: =IF(Evs!D63="","",Evs!D63) | AD67: =IF(Evs!E63="","",Evs!E63) | AE67: =IF(Evs!F63="","",Evs!F63) | AF67: =IF(Evs!H63="","",Evs!H63) | AG67: =IF(Evs!I63="","",Evs!I63) | AH67: =IF(Evs!J63="","",Evs!J63) | AI67: =IF($A67="","",ROUND(SUM(AC67:AH67),0)) -> 0 | AJ67: =IF(AI67="","",IF(AI67>=160,"A",IF(AI67>=130,"B",IF(AI67>=100,"C",IF(AI67>=70,"D",IF(AI67<=69,"E")))))) -> E | AK67: =IF('SEM2 PATRAK-B'!AQ65="",'SEM1 PATRAK-B'!AQ65,(ROUND(('SEM1 PATRAK-B'!AQ65+'SEM2 PATRAK-B'!AQ65)/2,0))) | AL67: =IF(AK67="","",IF(AK67>=160,"A",IF(AK67>=130,"B",IF(AK67>=100,"C",IF(AK67>=70,"D",IF(AK67<=69,"E")))))) | AM67: =IF(OR(K67="",S67="",AA67="",AI67="",AK67=""),"",K67+S67+AA67+AI67+AK67) | AN67: =IF(AM67="","",IF(AM67>=800,"A",IF(AM67>=650,"B",IF(AM67>=500,"C",IF(AM67>=350,"D",IF(AM67<=349,"E")))))) | AO67: =IF('Attandance Day'!C63="","",'Attandance Day'!C63) | AP67: =IFERROR(AM67/$AM$6,"") | AQ67: =IF(AM67="","",RANK(AM67,AM$8:AM$67))

Sheet Title-B
C3: શાળાકીય સર્વગ્રાહી મુલ્યાંકન
C4: SCE
C6: પત્રક - B
C8: ધોરણ ૩ થી ૮
C9: વ્યક્તિત્વ વિકાસપત્રક
C10: ="વર્ષ :-"&'Data Entry'!F3&" - "&'Data Entry'!H3 -> વર્ષ :-2025 - 2026
C12: શાળાનું નામ :- | D12: =IF('Data Entry'!B2="","",'Data Entry'!B2) -> કુવાદરા પ્રાથમિક શાળા
C13: ગામ :- | D13: =IF('Data Entry'!D2="","",'Data Entry'!D2) -> કુવાદરા | E13: તાલુકો :- | F13: =IF('Data Entry'!B3="","",'Data Entry'!B3) -> માણસા | G13: જિલ્લો :- | H13: =IF('Data Entry'!D3="","",'Data Entry'!D3) -> ગાંધીનગર
C14: ધોરણ :- | D14: =IF('Data Entry'!J2="","",'Data Entry'!J2) -> 3 | E14: વર્ગ :- | F14: =IF('Data Entry'!J3="","",'Data Entry'!J3) -> અ | G14: પરિણામ તારીખ :- | H14: =IF('Data Entry'!B4="","",'Data Entry'!B4) -> 45447
C15: વર્ગ શિક્ષકનું નામ :- | D15: =IF('Data Entry'!L2="","",'Data Entry'!L2) -> પટેલ બ્રિજેશકુમાર કે. | G15: સી.આર.સી :- | H15: =IF('Data Entry'!H2="","",'Data Entry'!H2) -> લોદરા
C18: શિક્ષકની સહી | D18: ______________ | F18: આચાર્યની સહી | G18: _________________

Sheet SEM1 PATRAK-B
A1: =" પત્રક બી - વ્યક્તિત્વ વિકાસ - સત્ર :- 1 ધોરણ :- "&'Data Entry'!J2 -> પત્રક બી - વ્યક્તિત્વ વિકાસ - સત્ર :- 1 ધોરણ :- 3 | AR1: જો તમારે ડેટા એન્ટ્રી ના કરવી હોય અને સીધા ગુણ દાખલ કરવા હોય તો આ કોલમ માં 200 માંથી ગુણ દાખલ કરો.
A2: ક્રમ | B2: વિદ્યાર્થીનું નામ | C2: ક્ષેત્ર - ૧ | K2: ક્ષેત્ર - ૨ | Q2: ક્ષેત્ર - ૩ વિદ્યાર્થી નાં રસનાં ક્ષેત્રો | AH2: ક્ષેત્ર - ૪ | AL2: ક્ષેત્ર -૫ | AQ2: કુલ
C3: વ્યક્તિગત અને સામાજિક ગુણો | K3: વિદ્યાર્થીનાં વલણો | Q3: સાહિત્ય | U3: સંગીત અને કલા | X3: શારીરિક શિક્ષણ અને યોગ | AC3: સાંસ્કૃતિક કાર્યક્રમ અને સમાજસેવા | AH3: સહશૈક્ષ્રણિક પ્રવૃત્તિઓ | AL3: કાર્યાનુભવ
C4: શાળામાં નિયમિત આવે છે. | D4: પ્રાથના સંમેલનમાં નિયમિત સામેલ થાય છે. | E4: શાળાની સ્વચ્છતા જાળવે છે. | F4: બીજા વિદ્યાર્થીઓને મદદરૂપ થાય છે. | G4: સાંપેલું કાર્ય સારી રીતે કરે છે. | H4: કોઇપણ કાર્ય કરવામાં તત્પરતા દાખવે છે. | I4: દરેક કાર્યમાં સમયનું પાલન કરેછે | J4: નવીન બાબત ઉત્સાહ પૂર્વક શિખે છે. | K4: શિક્ષણ પ્રત્યે હકારાત્મક વલણ ધરાવે છે. | L4: શાળા મિલ્કતની જાળવણી રાખે છે. | M4: સહાધ્યાયી પ્રત્યે સહયોગ દાખવે છે. | N4: વ્યક્તિગત સ્વચ્છતા અને સુઘડતા જાળવે છે. | O4: પર્યાવરણની સમતુલા જાળવવામાં ઉપયોગી થાય છે. | P4: શિક્ષકનો આદર જાળવે છે. | Q4: ઇતર વાંચન | R4: ભાષાશુદ્ધિ સાથેનું મરોડદાર અક્ષર લેખન | S4: મૌલિક વાર્તા / કથન /વક્તવ્ય | T4: સર્જનાત્મક લેખન | U4: ગાન / વાદન ( અભિનય, બાળગીત વગેરે ) | V4: નાટ્ય/નૃત્ય/વેશભૂષા/અભિનય | W4: ચિત્રમાં રેખાંકન સ્પષ્ટ અને સુંદર ક્રરે છે. | X4: ચિત્રમાં રંગપૂરણી સારી રીતે કરે છે. | Y4: ચિત્રકલા(ચિત્રપોથી) | Z4: યોગિક ક્રિયાઓઉત્સાહપૂર્વકક્રરેછે. | AA4: સરળ આસનો ઉત્સાહપૂર્વક ક્રરે છે. | AB4: સાંધિક રમતો કૌશલ્યોપૂર્વક રમે છે. | AC4: ખેલકૂદ અને જિમ્નાસ્ટિક ગતિમેળ અને લયબધ્ધ કરે છે. | AD4: વ્યાયામ (સમૂહ ક્વાયત અને અન્ય ) | AE4: ઉત્સવ ઉજવણી | AF4: વિશેષ દિન ઉજવણી | AG4: વિશિષ્ટ કૌશલ્યની અભિવ્યક્તિ | AH4: પ્રશ્નમંચ(કિવજ) માં ભાગીદારી | AI4: મૂલ્યશિક્ષણ ની પ્રવૃતિઓમાંભાગીદારી | AJ4: વિવિધ સ્પધાઑ | AK4: હ્સ્ત લેખિત અંકો બનાવવા અને તેના પ્રદશન માં | AL4: ઇકોક્લબ ની પ્રવૃત્તિ | AM4: પ્રવાસ પર્યટન / મુલાકાત | AN4: માટીકામ/ બાગકામ/ શાળા સુશોભન | AO4: કાગળકામ / ટી.એલ.એમ. નિર્માણમાં સહયોગ | AP4: નિયમિતતા,કાર્યવલણ,સુટેવ અને સહકાર
A5: ક્ષમતા ક્રમાંક--- | C5: 1 | D5: 2 | E5: 3 | F5: 4 | G5: 5 | H5: 6 | I5: 7 | J5: 8 | K5: 9 | L5: 10 | M5: 11 | N5: 12 | O5: 13 | P5: 14 | Q5: 15 | R5: 16 | S5: 17 | T5: 18 | U5: 19 | V5: 20 | W5: 21 | X5: 22 | Y5: 23 | Z5: 24 | AA5: 25 | AB5: 26 | AC5: 27 | AD5: 28 | AE5: 29 | AF5: 30 | AG5: 31 | AH5: 32 | AI5: 33 | AJ5: 34 | AK5: 35 | AL5: 36 | AM5: 37 | AN5: 38 | AO5: 39 | AP5: 40
A6: =IF('Data Entry'!A8="","",'Data Entry'!A8) -> 1 | B6: =IF('Data Entry'!B8="","",'Data Entry'!B8) -> પટેલ બ્રિજેશકુમાર કાળાભાઈ | C6: 5 | D6: 4 | E6: 5 | F6: 5 | G6: 5 | H6: 5 | I6: 5 | J6: 5 | K6: 5 | L6: 5 | M6: 5 | N6: 5 | O6: 5 | P6: 4 | Q6: 4 | R6: 4 | S6: 4 | T6: 4 | U6: 4 | V6: 4 | W6: 4 | X6: 4 | Y6: 4 | Z6: 4 | AA6: 4 | AB6: 4 | AC6: 4 | AD6: 4 | AE6: 4 | AF6: 4 | AG6: 4 | AH6: 5 | AI6: 5 | AJ6: 5 | AK6: 5 | AL6: 5 | AM6: 3 | AN6: 3 | AO6: 3 | AP6: 2 | AQ6: =IF(AR6="",IF(OR(C6="",D6="",E6="",F6="",G6="",H6="",I6="",J6="",K6="",L6="",M6="",N6="",O6="",P6="",Q6="",R6="",S6="",T6="",U6="",V6="",W6="",X6="",Y6="",Z6="",AA6="",AB6="",AC6="",AD6="",AE6="",AF6="",AG6="",AH6="",AI6="",AJ6="",AK6="",AL6="",AM6="",AN6="",AO6="",AP6=""),"",SUM(C6:AP6)),AR6) -> 172
A7: =IF('Data Entry'!A9="","",'Data Entry'!A9) -> 2 | B7: =IF('Data Entry'!B9="","",'Data Entry'!B9) | AQ7: =IF(AR7="",IF(OR(C7="",D7="",E7="",F7="",G7="",H7="",I7="",J7="",K7="",L7="",M7="",N7="",O7="",P7="",Q7="",R7="",S7="",T7="",U7="",V7="",W7="",X7="",Y7="",Z7="",AA7="",AB7="",AC7="",AD7="",AE7="",AF7="",AG7="",AH7="",AI7="",AJ7="",AK7="",AL7="",AM7="",AN7="",AO7="",AP7=""),"",SUM(C7:AP7)),AR7)
A8: =IF('Data Entry'!A10="","",'Data Entry'!A10) -> 3 | B8: =IF('Data Entry'!B10="","",'Data Entry'!B10) | AQ8: =IF(AR8="",IF(OR(C8="",D8="",E8="",F8="",G8="",H8="",I8="",J8="",K8="",L8="",M8="",N8="",O8="",P8="",Q8="",R8="",S8="",T8="",U8="",V8="",W8="",X8="",Y8="",Z8="",AA8="",AB8="",AC8="",AD8="",AE8="",AF8="",AG8="",AH8="",AI8="",AJ8="",AK8="",AL8="",AM8="",AN8="",AO8="",AP8=""),"",SUM(C8:AP8)),AR8)
A9: =IF('Data Entry'!A11="","",'Data Entry'!A11) -> 4 | B9: =IF('Data Entry'!B11="","",'Data Entry'!B11) | AQ9: =IF(AR9="",IF(OR(C9="",D9="",E9="",F9="",G9="",H9="",I9="",J9="",K9="",L9="",M9="",N9="",O9="",P9="",Q9="",R9="",S9="",T9="",U9="",V9="",W9="",X9="",Y9="",Z9="",AA9="",AB9="",AC9="",AD9="",AE9="",AF9="",AG9="",AH9="",AI9="",AJ9="",AK9="",AL9="",AM9="",AN9="",AO9="",AP9=""),"",SUM(C9:AP9)),AR9)
A10: =IF('Data Entry'!A12="","",'Data Entry'!A12) -> 5 | B10: =IF('Data Entry'!B12="","",'Data Entry'!B12) | AQ10: =IF(AR10="",IF(OR(C10="",D10="",E10="",F10="",G10="",H10="",I10="",J10="",K10="",L10="",M10="",N10="",O10="",P10="",Q10="",R10="",S10="",T10="",U10="",V10="",W10="",X10="",Y10="",Z10="",AA10="",AB10="",AC10="",AD10="",AE10="",AF10="",AG10="",AH10="",AI10="",AJ10="",AK10="",AL10="",AM10="",AN10="",AO10="",AP10=""),"",SUM(C10:AP10)),AR10)
A11: =IF('Data Entry'!A13="","",'Data Entry'!A13) -> 6 | B11: =IF('Data Entry'!B13="","",'Data Entry'!B13) | AQ11: =IF(AR11="",IF(OR(C11="",D11="",E11="",F11="",G11="",H11="",I11="",J11="",K11="",L11="",M11="",N11="",O11="",P11="",Q11="",R11="",S11="",T11="",U11="",V11="",W11="",X11="",Y11="",Z11="",AA11="",AB11="",AC11="",AD11="",AE11="",AF11="",AG11="",AH11="",AI11="",AJ11="",AK11="",AL11="",AM11="",AN11="",AO11="",AP11=""),"",SUM(C11:AP11)),AR11)
A12: =IF('Data Entry'!A14="","",'Data Entry'!A14) -> 7 | B12: =IF('Data Entry'!B14="","",'Data Entry'!B14) | AQ12: =IF(AR12="",IF(OR(C12="",D12="",E12="",F12="",G12="",H12="",I12="",J12="",K12="",L12="",M12="",N12="",O12="",P12="",Q12="",R12="",S12="",T12="",U12="",V12="",W12="",X12="",Y12="",Z12="",AA12="",AB12="",AC12="",AD12="",AE12="",AF12="",AG12="",AH12="",AI12="",AJ12="",AK12="",AL12="",AM12="",AN12="",AO12="",AP12=""),"",SUM(C12:AP12)),AR12)
A13: =IF('Data Entry'!A15="","",'Data Entry'!A15) -> 8 | B13: =IF('Data Entry'!B15="","",'Data Entry'!B15) | AQ13: =IF(AR13="",IF(OR(C13="",D13="",E13="",F13="",G13="",H13="",I13="",J13="",K13="",L13="",M13="",N13="",O13="",P13="",Q13="",R13="",S13="",T13="",U13="",V13="",W13="",X13="",Y13="",Z13="",AA13="",AB13="",AC13="",AD13="",AE13="",AF13="",AG13="",AH13="",AI13="",AJ13="",AK13="",AL13="",AM13="",AN13="",AO13="",AP13=""),"",SUM(C13:AP13)),AR13)
A14: =IF('Data Entry'!A16="","",'Data Entry'!A16) -> 9 | B14: =IF('Data Entry'!B16="","",'Data Entry'!B16) | AQ14: =IF(AR14="",IF(OR(C14="",D14="",E14="",F14="",G14="",H14="",I14="",J14="",K14="",L14="",M14="",N14="",O14="",P14="",Q14="",R14="",S14="",T14="",U14="",V14="",W14="",X14="",Y14="",Z14="",AA14="",AB14="",AC14="",AD14="",AE14="",AF14="",AG14="",AH14="",AI14="",AJ14="",AK14="",AL14="",AM14="",AN14="",AO14="",AP14=""),"",SUM(C14:AP14)),AR14)
A15: =IF('Data Entry'!A17="","",'Data Entry'!A17) -> 10 | B15: =IF('Data Entry'!B17="","",'Data Entry'!B17) | AQ15: =IF(AR15="",IF(OR(C15="",D15="",E15="",F15="",G15="",H15="",I15="",J15="",K15="",L15="",M15="",N15="",O15="",P15="",Q15="",R15="",S15="",T15="",U15="",V15="",W15="",X15="",Y15="",Z15="",AA15="",AB15="",AC15="",AD15="",AE15="",AF15="",AG15="",AH15="",AI15="",AJ15="",AK15="",AL15="",AM15="",AN15="",AO15="",AP15=""),"",SUM(C15:AP15)),AR15)
A16: =IF('Data Entry'!A18="","",'Data Entry'!A18) -> 11 | B16: =IF('Data Entry'!B18="","",'Data Entry'!B18) | AQ16: =IF(AR16="",IF(OR(C16="",D16="",E16="",F16="",G16="",H16="",I16="",J16="",K16="",L16="",M16="",N16="",O16="",P16="",Q16="",R16="",S16="",T16="",U16="",V16="",W16="",X16="",Y16="",Z16="",AA16="",AB16="",AC16="",AD16="",AE16="",AF16="",AG16="",AH16="",AI16="",AJ16="",AK16="",AL16="",AM16="",AN16="",AO16="",AP16=""),"",SUM(C16:AP16)),AR16)
A17: =IF('Data Entry'!A19="","",'Data Entry'!A19) -> 12 | B17: =IF('Data Entry'!B19="","",'Data Entry'!B19) | AQ17: =IF(AR17="",IF(OR(C17="",D17="",E17="",F17="",G17="",H17="",I17="",J17="",K17="",L17="",M17="",N17="",O17="",P17="",Q17="",R17="",S17="",T17="",U17="",V17="",W17="",X17="",Y17="",Z17="",AA17="",AB17="",AC17="",AD17="",AE17="",AF17="",AG17="",AH17="",AI17="",AJ17="",AK17="",AL17="",AM17="",AN17="",AO17="",AP17=""),"",SUM(C17:AP17)),AR17)
A18: =IF('Data Entry'!A20="","",'Data Entry'!A20) -> 13 | B18: =IF('Data Entry'!B20="","",'Data Entry'!B20) | AQ18: =IF(AR18="",IF(OR(C18="",D18="",E18="",F18="",G18="",H18="",I18="",J18="",K18="",L18="",M18="",N18="",O18="",P18="",Q18="",R18="",S18="",T18="",U18="",V18="",W18="",X18="",Y18="",Z18="",AA18="",AB18="",AC18="",AD18="",AE18="",AF18="",AG18="",AH18="",AI18="",AJ18="",AK18="",AL18="",AM18="",AN18="",AO18="",AP18=""),"",SUM(C18:AP18)),AR18)
... A65: =IF('Data Entry'!A67="","",'Data Entry'!A67) -> 60 | B65: =IF('Data Entry'!B67="","",'Data Entry'!B67) | AQ65: =IF(AR65="",IF(OR(C65="",D65="",E65="",F65="",G65="",H65="",I65="",J65="",K65="",L65="",M65="",N65="",O65="",P65="",Q65="",R65="",S65="",T65="",U65="",V65="",W65="",X65="",Y65="",Z65="",AA65="",AB65="",AC65="",AD65="",AE65="",AF65="",AG65="",AH65="",AI65="",AJ65="",AK65="",AL65="",AM65="",AN65="",AO65="",AP65=""),"",SUM(C65:AP65)),AR65)

Sheet SEM2 PATRAK-B
A1: =" પત્રક બી - વ્યક્તિત્વ વિકાસ - સત્ર :- 2 ધોરણ :- "&'Data Entry'!J2 -> પત્રક બી - વ્યક્તિત્વ વિકાસ - સત્ર :- 2 ધોરણ :- 3 | AR1: જો તમારે ડેટા એન્ટ્રી ના કરવી હોય અને સીધા ગુણ દાખલ કરવા હોય તો આ કોલમ માં 200 માંથી ગુણ દાખલ કરો.
A2: ક્રમ | B2: વિદ્યાર્થીનું નામ | C2: ક્ષેત્ર - ૧ | K2: ક્ષેત્ર - ૨ | Q2: ક્ષેત્ર - ૩ વિદ્યાર્થી નાં રસનાં ક્ષેત્રો | AH2: ક્ષેત્ર - ૪ | AL2: ક્ષેત્ર -૫ | AQ2: કુલ
C3: વ્યક્તિગત અને સામાજિક ગુણો | K3: વિદ્યાર્થીનાં વલણો | Q3: સાહિત્ય | U3: સંગીત અને કલા | X3: શારીરિક શિક્ષણ અને યોગ | AC3: સાંસ્કૃતિક કાર્યક્રમ અને સમાજસેવા | AH3: સહશૈક્ષ્રણિક પ્રવૃત્તિઓ | AL3: કાર્યાનુભવ
C4: શાળામાં નિયમિત આવે છે. | D4: પ્રાથના સંમેલનમાં નિયમિત સામેલ થાય છે. | E4: શાળાની સ્વચ્છતા જાળવે છે. | F4: બીજા વિદ્યાર્થીઓને મદદરૂપ થાય છે. | G4: સાંપેલું કાર્ય સારી રીતે કરે છે. | H4: કોઇપણ કાર્ય કરવામાં તત્પરતા દાખવે છે. | I4: દરેક કાર્યમાં સમયનું પાલન કરેછે | J4: નવીન બાબત ઉત્સાહ પૂર્વક શિખે છે. | K4: શિક્ષણ પ્રત્યે હકારાત્મક વલણ ધરાવે છે. | L4: શાળા મિલ્કતની જાળવણી રાખે છે. | M4: સહાધ્યાયી પ્રત્યે સહયોગ દાખવે છે. | N4: વ્યક્તિગત સ્વચ્છતા અને સુઘડતા જાળવે છે. | O4: પર્યાવરણની સમતુલા જાળવવામાં ઉપયોગી થાય છે. | P4: શિક્ષકનો આદર જાળવે છે. | Q4: ઇતર વાંચન | R4: ભાષાશુદ્ધિ સાથેનું મરોડદાર અક્ષર લેખન | S4: મૌલિક વાર્તા / કથન /વક્તવ્ય | T4: સર્જનાત્મક લેખન | U4: ગાન / વાદન ( અભિનય, બાળગીત વગેરે ) | V4: નાટ્ય/નૃત્ય/વેશભૂષા/અભિનય | W4: ચિત્રમાં રેખાંકન સ્પષ્ટ અને સુંદર ક્રરે છે. | X4: ચિત્રમાં રંગપૂરણી સારી રીતે કરે છે. | Y4: ચિત્રકલા(ચિત્રપોથી) | Z4: યોગિક ક્રિયાઓઉત્સાહપૂર્વકક્રરેછે. | AA4: સરળ આસનો ઉત્સાહપૂર્વક ક્રરે છે. | AB4: સાંધિક રમતો કૌશલ્યોપૂર્વક રમે છે. | AC4: ખેલકૂદ અને જિમ્નાસ્ટિક ગતિમેળ અને લયબધ્ધ કરે છે. | AD4: વ્યાયામ (સમૂહ ક્વાયત અને અન્ય ) | AE4: ઉત્સવ ઉજવણી | AF4: વિશેષ દિન ઉજવણી | AG4: વિશિષ્ટ કૌશલ્યની અભિવ્યક્તિ | AH4: પ્રશ્નમંચ(કિવજ) માં ભાગીદારી | AI4: મૂલ્યશિક્ષણ ની પ્રવૃતિઓમાંભાગીદારી | AJ4: વિવિધ સ્પધાઑ | AK4: હ્સ્ત લેખિત અંકો બનાવવા અને તેના પ્રદશન માં | AL4: ઇકોક્લબ ની પ્રવૃત્તિ | AM4: પ્રવાસ પર્યટન / મુલાકાત | AN4: માટીકામ/ બાગકામ/ શાળા સુશોભન | AO4: કાગળકામ / ટી.એલ.એમ. નિર્માણમાં સહયોગ | AP4: નિયમિતતા,કાર્યવલણ,સુટેવ અને સહકાર
A5: ક્ષમતા ક્રમાંક--- | C5: 1 | D5: 2 | E5: 3 | F5: 4 | G5: 5 | H5: 6 | I5: 7 | J5: 8 | K5: 9 | L5: 10 | M5: 11 | N5: 12 | O5: 13 | P5: 14 | Q5: 15 | R5: 16 | S5: 17 | T5: 18 | U5: 19 | V5: 20 | W5: 21 | X5: 22 | Y5: 23 | Z5: 24 | AA5: 25 | AB5: 26 | AC5: 27 | AD5: 28 | AE5: 29 | AF5: 30 | AG5: 31 | AH5: 32 | AI5: 33 | AJ5: 34 | AK5: 35 | AL5: 36 | AM5: 37 | AN5: 38 | AO5: 39 | AP5: 40
A6: =IF('Data Entry'!A8="","",'Data Entry'!A8) -> 1 | B6: =IF('Data Entry'!B8="","",'Data Entry'!B8) -> પટેલ બ્રિજેશકુમાર કાળાભાઈ | C6: 5 | D6: 5 | E6: 4 | F6: 5 | G6: 5 | H6: 3 | I6: 3 | J6: 3 | K6: 3 | L6: 5 | M6: 3 | N6: 5 | O6: 3 | P6: 3 | Q6: 3 | R6: 5 | S6: 3 | T6: 5 | U6: 5 | V6: 3 | W6: 4 | X6: 3 | Y6: 3 | Z6: 4 | AA6: 3 | AB6: 4 | AC6: 5 | AD6: 3 | AE6: 3 | AF6: 4 | AG6: 5 | AH6: 5 | AI6: 5 | AJ6: 4 | AK6: 3 | AL6: 4 | AM6: 5 | AN6: 3 | AO6: 4 | AP6: 5 | AQ6: =IF(AR6="",IF(OR(C6="",D6="",E6="",F6="",G6="",H6="",I6="",J6="",K6="",L6="",M6="",N6="",O6="",P6="",Q6="",R6="",S6="",T6="",U6="",V6="",W6="",X6="",Y6="",Z6="",AA6="",AB6="",AC6="",AD6="",AE6="",AF6="",AG6="",AH6="",AI6="",AJ6="",AK6="",AL6="",AM6="",AN6="",AO6="",AP6=""),"",SUM(C6:AP6)),AR6) -> 158
A7: =IF('Data Entry'!A9="","",'Data Entry'!A9) -> 2 | B7: =IF('Data Entry'!B9="","",'Data Entry'!B9) | AQ7: =IF(AR7="",IF(OR(C7="",D7="",E7="",F7="",G7="",H7="",I7="",J7="",K7="",L7="",M7="",N7="",O7="",P7="",Q7="",R7="",S7="",T7="",U7="",V7="",W7="",X7="",Y7="",Z7="",AA7="",AB7="",AC7="",AD7="",AE7="",AF7="",AG7="",AH7="",AI7="",AJ7="",AK7="",AL7="",AM7="",AN7="",AO7="",AP7=""),"",SUM(C7:AP7)),AR7)
A8: =IF('Data Entry'!A10="","",'Data Entry'!A10) -> 3 | B8: =IF('Data Entry'!B10="","",'Data Entry'!B10) | AQ8: =IF(AR8="",IF(OR(C8="",D8="",E8="",F8="",G8="",H8="",I8="",J8="",K8="",L8="",M8="",N8="",O8="",P8="",Q8="",R8="",S8="",T8="",U8="",V8="",W8="",X8="",Y8="",Z8="",AA8="",AB8="",AC8="",AD8="",AE8="",AF8="",AG8="",AH8="",AI8="",AJ8="",AK8="",AL8="",AM8="",AN8="",AO8="",AP8=""),"",SUM(C8:AP8)),AR8)
A9: =IF('Data Entry'!A11="","",'Data Entry'!A11) -> 4 | B9: =IF('Data Entry'!B11="","",'Data Entry'!B11) | AQ9: =IF(AR9="",IF(OR(C9="",D9="",E9="",F9="",G9="",H9="",I9="",J9="",K9="",L9="",M9="",N9="",O9="",P9="",Q9="",R9="",S9="",T9="",U9="",V9="",W9="",X9="",Y9="",Z9="",AA9="",AB9="",AC9="",AD9="",AE9="",AF9="",AG9="",AH9="",AI9="",AJ9="",AK9="",AL9="",AM9="",AN9="",AO9="",AP9=""),"",SUM(C9:AP9)),AR9)
A10: =IF('Data Entry'!A12="","",'Data Entry'!A12) -> 5 | B10: =IF('Data Entry'!B12="","",'Data Entry'!B12) | AQ10: =IF(AR10="",IF(OR(C10="",D10="",E10="",F10="",G10="",H10="",I10="",J10="",K10="",L10="",M10="",N10="",O10="",P10="",Q10="",R10="",S10="",T10="",U10="",V10="",W10="",X10="",Y10="",Z10="",AA10="",AB10="",AC10="",AD10="",AE10="",AF10="",AG10="",AH10="",AI10="",AJ10="",AK10="",AL10="",AM10="",AN10="",AO10="",AP10=""),"",SUM(C10:AP10)),AR10)
A11: =IF('Data Entry'!A13="","",'Data Entry'!A13) -> 6 | B11: =IF('Data Entry'!B13="","",'Data Entry'!B13) | AQ11: =IF(AR11="",IF(OR(C11="",D11="",E11="",F11="",G11="",H11="",I11="",J11="",K11="",L11="",M11="",N11="",O11="",P11="",Q11="",R11="",S11="",T11="",U11="",V11="",W11="",X11="",Y11="",Z11="",AA11="",AB11="",AC11="",AD11="",AE11="",AF11="",AG11="",AH11="",AI11="",AJ11="",AK11="",AL11="",AM11="",AN11="",AO11="",AP11=""),"",SUM(C11:AP11)),AR11)
A12: =IF('Data Entry'!A14="","",'Data Entry'!A14) -> 7 | B12: =IF('Data Entry'!B14="","",'Data Entry'!B14) | AQ12: =IF(AR12="",IF(OR(C12="",D12="",E12="",F12="",G12="",H12="",I12="",J12="",K12="",L12="",M12="",N12="",O12="",P12="",Q12="",R12="",S12="",T12="",U12="",V12="",W12="",X12="",Y12="",Z12="",AA12="",AB12="",AC12="",AD12="",AE12="",AF12="",AG12="",AH12="",AI12="",AJ12="",AK12="",AL12="",AM12="",AN12="",AO12="",AP12=""),"",SUM(C12:AP12)),AR12)
A13: =IF('Data Entry'!A15="","",'Data Entry'!A15) -> 8 | B13: =IF('Data Entry'!B15="","",'Data Entry'!B15) | AQ13: =IF(AR13="",IF(OR(C13="",D13="",E13="",F13="",G13="",H13="",I13="",J13="",K13="",L13="",M13="",N13="",O13="",P13="",Q13="",R13="",S13="",T13="",U13="",V13="",W13="",X13="",Y13="",Z13="",AA13="",AB13="",AC13="",AD13="",AE13="",AF13="",AG13="",AH13="",AI13="",AJ13="",AK13="",AL13="",AM13="",AN13="",AO13="",AP13=""),"",SUM(C13:AP13)),AR13)
A14: =IF('Data Entry'!A16="","",'Data Entry'!A16) -> 9 | B14: =IF('Data Entry'!B16="","",'Data Entry'!B16) | AQ14: =IF(AR14="",IF(OR(C14="",D14="",E14="",F14="",G14="",H14="",I14="",J14="",K14="",L14="",M14="",N14="",O14="",P14="",Q14="",R14="",S14="",T14="",U14="",V14="",W14="",X14="",Y14="",Z14="",AA14="",AB14="",AC14="",AD14="",AE14="",AF14="",AG14="",AH14="",AI14="",AJ14="",AK14="",AL14="",AM14="",AN14="",AO14="",AP14=""),"",SUM(C14:AP14)),AR14)
A15: =IF('Data Entry'!A17="","",'Data Entry'!A17) -> 10 | B15: =IF('Data Entry'!B17="","",'Data Entry'!B17) | AQ15: =IF(AR15="",IF(OR(C15="",D15="",E15="",F15="",G15="",H15="",I15="",J15="",K15="",L15="",M15="",N15="",O15="",P15="",Q15="",R15="",S15="",T15="",U15="",V15="",W15="",X15="",Y15="",Z15="",AA15="",AB15="",AC15="",AD15="",AE15="",AF15="",AG15="",AH15="",AI15="",AJ15="",AK15="",AL15="",AM15="",AN15="",AO15="",AP15=""),"",SUM(C15:AP15)),AR15)
A16: =IF('Data Entry'!A18="","",'Data Entry'!A18) -> 11 | B16: =IF('Data Entry'!B18="","",'Data Entry'!B18) | AQ16: =IF(AR16="",IF(OR(C16="",D16="",E16="",F16="",G16="",H16="",I16="",J16="",K16="",L16="",M16="",N16="",O16="",P16="",Q16="",R16="",S16="",T16="",U16="",V16="",W16="",X16="",Y16="",Z16="",AA16="",AB16="",AC16="",AD16="",AE16="",AF16="",AG16="",AH16="",AI16="",AJ16="",AK16="",AL16="",AM16="",AN16="",AO16="",AP16=""),"",SUM(C16:AP16)),AR16)
A17: =IF('Data Entry'!A19="","",'Data Entry'!A19) -> 12 | B17: =IF('Data Entry'!B19="","",'Data Entry'!B19) | AQ17: =IF(AR17="",IF(OR(C17="",D17="",E17="",F17="",G17="",H17="",I17="",J17="",K17="",L17="",M17="",N17="",O17="",P17="",Q17="",R17="",S17="",T17="",U17="",V17="",W17="",X17="",Y17="",Z17="",AA17="",AB17="",AC17="",AD17="",AE17="",AF17="",AG17="",AH17="",AI17="",AJ17="",AK17="",AL17="",AM17="",AN17="",AO17="",AP17=""),"",SUM(C17:AP17)),AR17)
A18: =IF('Data Entry'!A20="","",'Data Entry'!A20) -> 13 | B18: =IF('Data Entry'!B20="","",'Data Entry'!B20) | AQ18: =IF(AR18="",IF(OR(C18="",D18="",E18="",F18="",G18="",H18="",I18="",J18="",K18="",L18="",M18="",N18="",O18="",P18="",Q18="",R18="",S18="",T18="",U18="",V18="",W18="",X18="",Y18="",Z18="",AA18="",AB18="",AC18="",AD18="",AE18="",AF18="",AG18="",AH18="",AI18="",AJ18="",AK18="",AL18="",AM18="",AN18="",AO18="",AP18=""),"",SUM(C18:AP18)),AR18)
... A65: =IF('Data Entry'!A67="","",'Data Entry'!A67) -> 60 | B65: =IF('Data Entry'!B67="","",'Data Entry'!B67) | AQ65: =IF(AR65="",IF(OR(C65="",D65="",E65="",F65="",G65="",H65="",I65="",J65="",K65="",L65="",M65="",N65="",O65="",P65="",Q65="",R65="",S65="",T65="",U65="",V65="",W65="",X65="",Y65="",Z65="",AA65="",AB65="",AC65="",AD65="",AE65="",AF65="",AG65="",AH65="",AI65="",AJ65="",AK65="",AL65="",AM65="",AN65="",AO65="",AP65=""),"",SUM(C65:AP65)),AR65)

Sheet PATRAK-F
J1: હાજરી નંબર:- | K1: 1
J2: સત્ર:- | K2: 2
B4: વિદ્યાર્થીનું નામ :- | D4: =IF(K1="","",VLOOKUP(K1&K2,$U$52:$AS$171,4,0)) -> પટેલ બ્રિજેશકુમાર કાળાભાઈ | J4: માર્ક્સ જોઈએ છે ?:- | K4: હા | M4: ='Data Entry'!D4&" "&'Data Entry'!D3 -> જીલ્લા શિક્ષણ સમિતિ ગાંધીનગર
B6: ધોરણ :- | C6: =IF(K1="","",'Data Entry'!J2) -> 3 | D6: વર્ગ :- | E6: =IF(K1="","",'Data Entry'!J3) -> અ | F6: હાજરી પત્રક નંબર :- | H6: =IF(K1="","",K1) -> 1 | J6: વિકલાંગ છે ? | K6: ના | M6:  પ્રગતિ પત્રક 
B8: ક્રમ | C8: વિષય | D8: કુલ ગુણ | E8: મેળવેલ ગુણ | F8: મેળવેલ ગ્રેડ | G8: વિષયના સંદર્ભમાં વિશેષ નોંધ | K8: =C6&K2 -> 32
B9: 1 | C9: ગુજરાતી | D9: =IF($K$2=1,100,200) -> 200 | E9: =IF(K4="હા",IF(K1="","",VLOOKUP(K1&K2,$U$52:$AS$171,5,0)),"") -> 161 | F9: =IF(K1="","",VLOOKUP(K1&K2,$U$52:$AS$171,6,0)) -> A | G9: =IF(F9="A","અભ્યાસ ઉત્તમ",IF(F9="B","અભ્યાસ સારો",IF(F9="C","અભ્યાસ સારો",IF(F9="D","અભ્યાસ મધ્યમ",IF(F9="E","અભ્યાસ નબળો",""))))) -> અભ્યાસ ઉત્તમ
B10: 2 | C10: ગણિત | D10: =IF($K$2=1,100,200) -> 200 | E10: =IF(K4="હા",IF(K1="","",VLOOKUP(K1&K2,$U$52:$AS$171,7,0)),"") -> 172 | F10: =IF(K1="","",VLOOKUP(K1&K2,$U$52:$AS$171,8,0)) -> A | G10: =IF(F10="A","અભ્યાસ ઉત્તમ",IF(F10="B","અભ્યાસ સારો",IF(F10="C","અભ્યાસ સારો",IF(F10="D","અભ્યાસ મધ્યમ",IF(F10="E","અભ્યાસ નબળો",""))))) -> અભ્યાસ ઉત્તમ
B11: 3 | C11: અંગ્રેજી | D11: =IF($K$2=1,100,200) -> 200 | E11: =IF(K4="હા",IF(K1="","",VLOOKUP(K1&K2,$U$52:$AS$171,11,0)),"") -> 172 | F11: =IF(K1="","",VLOOKUP(K1&K2,$U$52:$AS$171,12,0)) -> A | G11: =IF(F11="A","અભ્યાસ ઉત્તમ",IF(F11="B","અભ્યાસ સારો",IF(F11="C","અભ્યાસ સારો",IF(F11="D","અભ્યાસ મધ્યમ",IF(F11="E","અભ્યાસ નબળો",""))))) -> અભ્યાસ ઉત્તમ | M11: ( PROGRESS REPORT )
B12: 4 | C12: સૌની આસપાસ | D12: =IF($K$2=1,100,200) -> 200 | E12: =IF(K4="હા",IF(K1="","",VLOOKUP(K1&K2,$U$52:$AS$171,13,0)),"") -> 182 | F12: =IF(K1="","",VLOOKUP(K1&K2,$U$52:$AS$171,14,0)) -> A | G12: =IF(F12="A","અભ્યાસ ઉત્તમ",IF(F12="B","અભ્યાસ સારો",IF(F12="C","અભ્યાસ સારો",IF(F12="D","અભ્યાસ મધ્યમ",IF(F12="E","અભ્યાસ નબળો",""))))) -> અભ્યાસ ઉત્તમ
B13: 5 | C13: વ્યક્તિત્વ વિકાસ | D13: 200 | E13: =IF(K4="હા",IF(K1="","",VLOOKUP(K1&K2,$U$52:$AS$171,15,0)),"") -> 165 | F13: =IF(K1="","",VLOOKUP(K1&K2,$U$52:$AS$171,16,0)) -> A | G13: =IF(F13="A","અભ્યાસ ઉત્તમ",IF(F13="B","અભ્યાસ સારો",IF(F13="C","અભ્યાસ સારો",IF(F13="D","અભ્યાસ મધ્યમ",IF(F13="E","અભ્યાસ નબળો",""))))) -> અભ્યાસ ઉત્તમ | M13: ધોરણ :- | N13: =IF(K1="","",'Data Entry'!J2) -> 3 | O13: વર્ગ :- | P13: =IF(K1="","",'Data Entry'!J3) -> અ | Q13: હાજરી નંબર :- | R13: =IF(K1="","",K1) -> 1
B14: મેળવેલ એકંદર કુલ | D14: =SUM(D9:D13) -> 1000 | E14: =IF(K4="હા",IF(K1="","",VLOOKUP(K1&K2,$U$52:$AS$171,17,0)),"") -> 852 | F14: =IF(K1="","",VLOOKUP(K1&K2,$U$52:$AS$171,18,0)) -> A | G14: =IF(F14="A","એકંદરે અભ્યાસ ઉત્તમ",IF(F14="B","એકંદરે અભ્યાસ સારો",IF(F14="C","એકંદરે અભ્યાસ સારો",IF(F14="D","એકંદરે અભ્યાસ મધ્યમ",IF(F14="E","એકંદરે અભ્યાસ નબળો",""))))) -> એકંદરે અભ્યાસ ઉત્તમ | M14: શાળાનું નામ :- | N14: =IF(K1="","",'Data Entry'!B2) -> કુવાદરા પ્રાથમિક શાળા
B15: મેળવેલ ટકા | D15: =IF(K4="હા",IFERROR(E14/D14,""),"") -> 0.852 | F15: પરિણામ | G15: =IF(AND(K6="હા",D15>20%),"પાસ",IF(K1="","",IF(COUNTIF(F9:F13,"E")>2,"વર્ગ બઢતી","પાસ"))) -> પાસ | M15: તાલુકો :- | N15: =IF(K1="","",'Data Entry'!B3) -> માણસા | P15: જીલ્લો :- | Q15: =IF(K1="","",'Data Entry'!D3) -> ગાંધીનગર
M16: વિદ્યાર્થીનું નામ :- | N16: =IF(K1="","",VLOOKUP(K1&K2,$U$52:$AS$171,4,0)) -> પટેલ બ્રિજેશકુમાર કાળાભાઈ
N17: ( વિદ્યાર્થીનું આખું નામ - અટક સાથે લખવું. )
B18: સ્થળ :- | C18: =IF(K1="","",'Data Entry'!D2) -> કુવાદરા | D18: વાલીની સહી:- | M18: સરનામું :- | N18: =IF(K1="","",VLOOKUP(K1&K2,$U$52:$AS$171,21,0)) -> અંબિકાનગર
N19: =IF(K1="","","મું.:- "&'Data Entry'!D2&" તા. :- "&'Data Entry'!B3&" જી. :- "&'Data Entry'!D3) -> મું.:- કુવાદરા તા. :- માણસા જી. :- ગાંધીનગર
B20: તારીખ :- | C20: =IF(K1="","",'Data Entry'!B4) -> 45447
M21: પિતાનું નામ :- | N21: =IF(K1="","",VLOOKUP(K1&K2,$U$52:$AS$171,22,0)) -> કાળાભાઈ | P21: માતાનું નામ :- | Q21: =IF(K1="","",VLOOKUP(K1&K2,$U$52:$AS$171,23,0)) -> કોકિલાબેન
B22: ="નોંધ :- નવા શૈક્ષણિક વર્ષમાં શાળા તારીખ :-"&'Data Entry'!Q2&" અને સમય :-"&'Data Entry'!T2&" વાગે ઉઘડશે." -> નોંધ :- નવા શૈક્ષણિક વર્ષમાં શાળા તારીખ :-09-06-2025 અને સમય :-07:00 AM વાગે ઉઘડશે.
M23: જ.ર.નંબર :- | N23: =IF(K1="","",VLOOKUP(K1&K2,$U$52:$AS$171,19,0)) -> 10251 | P23: જન્મ તારીખ :- | Q23: =IF(K1="","",VLOOKUP(K1&K2,$U$52:$AS$171,20,0)) -> 40544
M25: સંપર્ક નંબર :- | N25: =IF(K1="","",VLOOKUP(K1&K2,$U$52:$AS$171,24,0)) -> 7778031603 | P25: યુનિક આઈડી :- | Q25: =IF(K1="","",VLOOKUP(K1&K2,$U$52:$AS$171,25,0)) -> 24060404501 1510001
B26: વર્ગ શિક્ષકની સહી | E26: આચાર્યની સહી
U50: 1 | V50: 2 | W50: 3 | X50: 4 | Y50: 5 | Z50: 6 | AA50: 7 | AB50: 8 | AC50: 9 | AD50: 10 | AE50: 11 | AF50: 12 | AG50: 13 | AH50: 14 | AI50: 15 | AJ50: 16 | AK50: 17 | AL50: 18 | AM50: 19 | AN50: 20 | AO50: 21 | AP50: 22 | AQ50: 23 | AR50: 24 | AS50: 25
U51: ક્રમ | V51: સત્ર | W51: રોલ નંબર | X51: વિદ્યાર્થીનું નામ | Y51: ગુજરાતી | AA51: ગણિત | AC51: હિન્દી | AE51: અંગેજી | AG51: વિજ્ઞાન | AI51: વ્યક્તિત્વ વિકાસ | AK51: કુલ | AM51: જી.આર.નંબર | AN51: જન્મ તારીખ | AO51: સરનામું | AP51: પિતાનું નામ | AQ51: માતા નું નામ | AR51: સંપર્ક નંબર | AS51: યુનિક આઈડી નંબર
U52: 11 | V52: 1 | W52: =IF('Data Entry'!A8="","",'Data Entry'!A8) -> 1 | X52: =IF('Data Entry'!B8="","",'Data Entry'!B8) -> પટેલ બ્રિજેશકુમાર કાળાભાઈ | Y52: ='SEM1 PATRAK-C'!H8 -> 86 | Z52: ='SEM1 PATRAK-C'!I8 -> A | AA52: ='SEM1 PATRAK-C'!M8 -> 80 | AB52: ='SEM1 PATRAK-C'!N8 -> A | AE52: ='SEM1 PATRAK-C'!R8 -> 89 | AF52: ='SEM1 PATRAK-C'!S8 -> A | AG52: ='SEM1 PATRAK-C'!W8 -> 84 | AH52: ='SEM1 PATRAK-C'!X8 -> A | AI52: ='SEM1 PATRAK-C'!Y8 -> 172 | AJ52: ='SEM1 PATRAK-C'!Z8 -> A | AK52: ='SEM1 PATRAK-C'!AA8 -> 511 | AL52: ='SEM1 PATRAK-C'!AB8 -> A | AM52: =IF('Data Entry'!C8="","",'Data Entry'!C8) -> 10251 | AN52: =IF('Data Entry'!D8="","",'Data Entry'!D8) -> 40544 | AO52: =IF('Data Entry'!E8="","",'Data Entry'!E8) -> અંબિકાનગર | AP52: =IF('Data Entry'!F8="","",'Data Entry'!F8) -> કાળાભાઈ | AQ52: =IF('Data Entry'!G8="","",'Data Entry'!G8) -> કોકિલાબેન | AR52: =IF('Data Entry'!H8="","",'Data Entry'!H8) -> 7778031603 | AS52: =IF('Data Entry'!M8="","",'Data Entry'!M8) -> 24060404501 1510001
U53: 21 | V53: 1 | W53: =IF('Data Entry'!A9="","",'Data Entry'!A9) -> 2 | X53: =IF('Data Entry'!B9="","",'Data Entry'!B9) | Y53: ='SEM1 PATRAK-C'!H9 -> 0 | Z53: ='SEM1 PATRAK-C'!I9 -> E | AA53: ='SEM1 PATRAK-C'!M9 -> 0 | AB53: ='SEM1 PATRAK-C'!N9 -> E | AE53: ='SEM1 PATRAK-C'!R9 -> 0 | AF53: ='SEM1 PATRAK-C'!S9 -> E | AG53: ='SEM1 PATRAK-C'!W9 -> 0 | AH53: ='SEM1 PATRAK-C'!X9 -> E | AI53: ='SEM1 PATRAK-C'!Y9 | AJ53: ='SEM1 PATRAK-C'!Z9 | AK53: ='SEM1 PATRAK-C'!AA9 | AL53: ='SEM1 PATRAK-C'!AB9 | AM53: =IF('Data Entry'!C9="","",'Data Entry'!C9) | AN53: =IF('Data Entry'!D9="","",'Data Entry'!D9) | AO53: =IF('Data Entry'!E9="","",'Data Entry'!E9) | AP53: =IF('Data Entry'!F9="","",'Data Entry'!F9) | AQ53: =IF('Data Entry'!G9="","",'Data Entry'!G9) | AR53: =IF('Data Entry'!H9="","",'Data Entry'!H9) | AS53: =IF('Data Entry'!M9="","",'Data Entry'!M9)
U54: 31 | V54: 1 | W54: =IF('Data Entry'!A10="","",'Data Entry'!A10) -> 3 | X54: =IF('Data Entry'!B10="","",'Data Entry'!B10) | Y54: ='SEM1 PATRAK-C'!H10 -> 0 | Z54: ='SEM1 PATRAK-C'!I10 -> E | AA54: ='SEM1 PATRAK-C'!M10 -> 0 | AB54: ='SEM1 PATRAK-C'!N10 -> E | AE54: ='SEM1 PATRAK-C'!R10 -> 0 | AF54: ='SEM1 PATRAK-C'!S10 -> E | AG54: ='SEM1 PATRAK-C'!W10 -> 0 | AH54: ='SEM1 PATRAK-C'!X10 -> E | AI54: ='SEM1 PATRAK-C'!Y10 | AJ54: ='SEM1 PATRAK-C'!Z10 | AK54: ='SEM1 PATRAK-C'!AA10 | AL54: ='SEM1 PATRAK-C'!AB10 | AM54: =IF('Data Entry'!C10="","",'Data Entry'!C10) | AN54: =IF('Data Entry'!D10="","",'Data Entry'!D10) | AO54: =IF('Data Entry'!E10="","",'Data Entry'!E10) | AP54: =IF('Data Entry'!F10="","",'Data Entry'!F10) | AQ54: =IF('Data Entry'!G10="","",'Data Entry'!G10) | AR54: =IF('Data Entry'!H10="","",'Data Entry'!H10) | AS54: =IF('Data Entry'!M10="","",'Data Entry'!M10)
U55: 41 | V55: 1 | W55: =IF('Data Entry'!A11="","",'Data Entry'!A11) -> 4 | X55: =IF('Data Entry'!B11="","",'Data Entry'!B11) | Y55: ='SEM1 PATRAK-C'!H11 -> 0 | Z55: ='SEM1 PATRAK-C'!I11 -> E | AA55: ='SEM1 PATRAK-C'!M11 -> 0 | AB55: ='SEM1 PATRAK-C'!N11 -> E | AE55: ='SEM1 PATRAK-C'!R11 -> 0 | AF55: ='SEM1 PATRAK-C'!S11 -> E | AG55: ='SEM1 PATRAK-C'!W11 -> 0 | AH55: ='SEM1 PATRAK-C'!X11 -> E | AI55: ='SEM1 PATRAK-C'!Y11 | AJ55: ='SEM1 PATRAK-C'!Z11 | AK55: ='SEM1 PATRAK-C'!AA11 | AL55: ='SEM1 PATRAK-C'!AB11 | AM55: =IF('Data Entry'!C11="","",'Data Entry'!C11) | AN55: =IF('Data Entry'!D11="","",'Data Entry'!D11) | AO55: =IF('Data Entry'!E11="","",'Data Entry'!E11) | AP55: =IF('Data Entry'!F11="","",'Data Entry'!F11) | AQ55: =IF('Data Entry'!G11="","",'Data Entry'!G11) | AR55: =IF('Data Entry'!H11="","",'Data Entry'!H11) | AS55: =IF('Data Entry'!M11="","",'Data Entry'!M11)
U56: 51 | V56: 1 | W56: =IF('Data Entry'!A12="","",'Data Entry'!A12) -> 5 | X56: =IF('Data Entry'!B12="","",'Data Entry'!B12) | Y56: ='SEM1 PATRAK-C'!H12 -> 0 | Z56: ='SEM1 PATRAK-C'!I12 -> E | AA56: ='SEM1 PATRAK-C'!M12 -> 0 | AB56: ='SEM1 PATRAK-C'!N12 -> E | AE56: ='SEM1 PATRAK-C'!R12 -> 0 | AF56: ='SEM1 PATRAK-C'!S12 -> E | AG56: ='SEM1 PATRAK-C'!W12 -> 0 | AH56: ='SEM1 PATRAK-C'!X12 -> E | AI56: ='SEM1 PATRAK-C'!Y12 | AJ56: ='SEM1 PATRAK-C'!Z12 | AK56: ='SEM1 PATRAK-C'!AA12 | AL56: ='SEM1 PATRAK-C'!AB12 | AM56: =IF('Data Entry'!C12="","",'Data Entry'!C12) | AN56: =IF('Data Entry'!D12="","",'Data Entry'!D12) | AO56: =IF('Data Entry'!E12="","",'Data Entry'!E12) | AP56: =IF('Data Entry'!F12="","",'Data Entry'!F12) | AQ56: =IF('Data Entry'!G12="","",'Data Entry'!G12) | AR56: =IF('Data Entry'!H12="","",'Data Entry'!H12) | AS56: =IF('Data Entry'!M12="","",'Data Entry'!M12)
U57: 61 | V57: 1 | W57: =IF('Data Entry'!A13="","",'Data Entry'!A13) -> 6 | X57: =IF('Data Entry'!B13="","",'Data Entry'!B13) | Y57: ='SEM1 PATRAK-C'!H13 -> 0 | Z57: ='SEM1 PATRAK-C'!I13 -> E | AA57: ='SEM1 PATRAK-C'!M13 -> 0 | AB57: ='SEM1 PATRAK-C'!N13 -> E | AE57: ='SEM1 PATRAK-C'!R13 -> 0 | AF57: ='SEM1 PATRAK-C'!S13 -> E | AG57: ='SEM1 PATRAK-C'!W13 -> 0 | AH57: ='SEM1 PATRAK-C'!X13 -> E | AI57: ='SEM1 PATRAK-C'!Y13 | AJ57: ='SEM1 PATRAK-C'!Z13 | AK57: ='SEM1 PATRAK-C'!AA13 | AL57: ='SEM1 PATRAK-C'!AB13 | AM57: =IF('Data Entry'!C13="","",'Data Entry'!C13) | AN57: =IF('Data Entry'!D13="","",'Data Entry'!D13) | AO57: =IF('Data Entry'!E13="","",'Data Entry'!E13) | AP57: =IF('Data Entry'!F13="","",'Data Entry'!F13) | AQ57: =IF('Data Entry'!G13="","",'Data Entry'!G13) | AR57: =IF('Data Entry'!H13="","",'Data Entry'!H13) | AS57: =IF('Data Entry'!M13="","",'Data Entry'!M13)
U58: 71 | V58: 1 | W58: =IF('Data Entry'!A14="","",'Data Entry'!A14) -> 7 | X58: =IF('Data Entry'!B14="","",'Data Entry'!B14) | Y58: ='SEM1 PATRAK-C'!H14 -> 0 | Z58: ='SEM1 PATRAK-C'!I14 -> E | AA58: ='SEM1 PATRAK-C'!M14 -> 0 | AB58: ='SEM1 PATRAK-C'!N14 -> E | AE58: ='SEM1 PATRAK-C'!R14 -> 0 | AF58: ='SEM1 PATRAK-C'!S14 -> E | AG58: ='SEM1 PATRAK-C'!W14 -> 0 | AH58: ='SEM1 PATRAK-C'!X14 -> E | AI58: ='SEM1 PATRAK-C'!Y14 | AJ58: ='SEM1 PATRAK-C'!Z14 | AK58: ='SEM1 PATRAK-C'!AA14 | AL58: ='SEM1 PATRAK-C'!AB14 | AM58: =IF('Data Entry'!C14="","",'Data Entry'!C14) | AN58: =IF('Data Entry'!D14="","",'Data Entry'!D14) | AO58: =IF('Data Entry'!E14="","",'Data Entry'!E14) | AP58: =IF('Data Entry'!F14="","",'Data Entry'!F14) | AQ58: =IF('Data Entry'!G14="","",'Data Entry'!G14) | AR58: =IF('Data Entry'!H14="","",'Data Entry'!H14) | AS58: =IF('Data Entry'!M14="","",'Data Entry'!M14)
U59: 81 | V59: 1 | W59: =IF('Data Entry'!A15="","",'Data Entry'!A15) -> 8 | X59: =IF('Data Entry'!B15="","",'Data Entry'!B15) | Y59: ='SEM1 PATRAK-C'!H15 -> 0 | Z59: ='SEM1 PATRAK-C'!I15 -> E | AA59: ='SEM1 PATRAK-C'!M15 -> 0 | AB59: ='SEM1 PATRAK-C'!N15 -> E | AE59: ='SEM1 PATRAK-C'!R15 -> 0 | AF59: ='SEM1 PATRAK-C'!S15 -> E | AG59: ='SEM1 PATRAK-C'!W15 -> 0 | AH59: ='SEM1 PATRAK-C'!X15 -> E | AI59: ='SEM1 PATRAK-C'!Y15 | AJ59: ='SEM1 PATRAK-C'!Z15 | AK59: ='SEM1 PATRAK-C'!AA15 | AL59: ='SEM1 PATRAK-C'!AB15 | AM59: =IF('Data Entry'!C15="","",'Data Entry'!C15) | AN59: =IF('Data Entry'!D15="","",'Data Entry'!D15) | AO59: =IF('Data Entry'!E15="","",'Data Entry'!E15) | AP59: =IF('Data Entry'!F15="","",'Data Entry'!F15) | AQ59: =IF('Data Entry'!G15="","",'Data Entry'!G15) | AR59: =IF('Data Entry'!H15="","",'Data Entry'!H15) | AS59: =IF('Data Entry'!M15="","",'Data Entry'!M15)
U60: 91 | V60: 1 | W60: =IF('Data Entry'!A16="","",'Data Entry'!A16) -> 9 | X60: =IF('Data Entry'!B16="","",'Data Entry'!B16) | Y60: ='SEM1 PATRAK-C'!H16 -> 0 | Z60: ='SEM1 PATRAK-C'!I16 -> E | AA60: ='SEM1 PATRAK-C'!M16 -> 0 | AB60: ='SEM1 PATRAK-C'!N16 -> E | AE60: ='SEM1 PATRAK-C'!R16 -> 0 | AF60: ='SEM1 PATRAK-C'!S16 -> E | AG60: ='SEM1 PATRAK-C'!W16 -> 0 | AH60: ='SEM1 PATRAK-C'!X16 -> E | AI60: ='SEM1 PATRAK-C'!Y16 | AJ60: ='SEM1 PATRAK-C'!Z16 | AK60: ='SEM1 PATRAK-C'!AA16 | AL60: ='SEM1 PATRAK-C'!AB16 | AM60: =IF('Data Entry'!C16="","",'Data Entry'!C16) | AN60: =IF('Data Entry'!D16="","",'Data Entry'!D16) | AO60: =IF('Data Entry'!E16="","",'Data Entry'!E16) | AP60: =IF('Data Entry'!F16="","",'Data Entry'!F16) | AQ60: =IF('Data Entry'!G16="","",'Data Entry'!G16) | AR60: =IF('Data Entry'!H16="","",'Data Entry'!H16) | AS60: =IF('Data Entry'!M16="","",'Data Entry'!M16)
U61: 101 | V61: 1 | W61: =IF('Data Entry'!A17="","",'Data Entry'!A17) -> 10 | X61: =IF('Data Entry'!B17="","",'Data Entry'!B17) | Y61: ='SEM1 PATRAK-C'!H17 -> 0 | Z61: ='SEM1 PATRAK-C'!I17 -> E | AA61: ='SEM1 PATRAK-C'!M17 -> 0 | AB61: ='SEM1 PATRAK-C'!N17 -> E | AE61: ='SEM1 PATRAK-C'!R17 -> 0 | AF61: ='SEM1 PATRAK-C'!S17 -> E | AG61: ='SEM1 PATRAK-C'!W17 -> 0 | AH61: ='SEM1 PATRAK-C'!X17 -> E | AI61: ='SEM1 PATRAK-C'!Y17 | AJ61: ='SEM1 PATRAK-C'!Z17 | AK61: ='SEM1 PATRAK-C'!AA17 | AL61: ='SEM1 PATRAK-C'!AB17 | AM61: =IF('Data Entry'!C17="","",'Data Entry'!C17) | AN61: =IF('Data Entry'!D17="","",'Data Entry'!D17) | AO61: =IF('Data Entry'!E17="","",'Data Entry'!E17) | AP61: =IF('Data Entry'!F17="","",'Data Entry'!F17) | AQ61: =IF('Data Entry'!G17="","",'Data Entry'!G17) | AR61: =IF('Data Entry'!H17="","",'Data Entry'!H17) | AS61: =IF('Data Entry'!M17="","",'Data Entry'!M17)
U62: 111 | V62: 1 | W62: =IF('Data Entry'!A18="","",'Data Entry'!A18) -> 11 | X62: =IF('Data Entry'!B18="","",'Data Entry'!B18) | Y62: ='SEM1 PATRAK-C'!H18 -> 0 | Z62: ='SEM1 PATRAK-C'!I18 -> E | AA62: ='SEM1 PATRAK-C'!M18 -> 0 | AB62: ='SEM1 PATRAK-C'!N18 -> E | AE62: ='SEM1 PATRAK-C'!R18 -> 0 | AF62: ='SEM1 PATRAK-C'!S18 -> E | AG62: ='SEM1 PATRAK-C'!W18 -> 0 | AH62: ='SEM1 PATRAK-C'!X18 -> E | AI62: ='SEM1 PATRAK-C'!Y18 | AJ62: ='SEM1 PATRAK-C'!Z18 | AK62: ='SEM1 PATRAK-C'!AA18 | AL62: ='SEM1 PATRAK-C'!AB18 | AM62: =IF('Data Entry'!C18="","",'Data Entry'!C18) | AN62: =IF('Data Entry'!D18="","",'Data Entry'!D18) | AO62: =IF('Data Entry'!E18="","",'Data Entry'!E18) | AP62: =IF('Data Entry'!F18="","",'Data Entry'!F18) | AQ62: =IF('Data Entry'!G18="","",'Data Entry'!G18) | AR62: =IF('Data Entry'!H18="","",'Data Entry'!H18) | AS62: =IF('Data Entry'!M18="","",'Data Entry'!M18)
U63: 121 | V63: 1 | W63: =IF('Data Entry'!A19="","",'Data Entry'!A19) -> 12 | X63: =IF('Data Entry'!B19="","",'Data Entry'!B19) | Y63: ='SEM1 PATRAK-C'!H19 -> 0 | Z63: ='SEM1 PATRAK-C'!I19 -> E | AA63: ='SEM1 PATRAK-C'!M19 -> 0 | AB63: ='SEM1 PATRAK-C'!N19 -> E | AE63: ='SEM1 PATRAK-C'!R19 -> 0 | AF63: ='SEM1 PATRAK-C'!S19 -> E | AG63: ='SEM1 PATRAK-C'!W19 -> 0 | AH63: ='SEM1 PATRAK-C'!X19 -> E | AI63: ='SEM1 PATRAK-C'!Y19 | AJ63: ='SEM1 PATRAK-C'!Z19 | AK63: ='SEM1 PATRAK-C'!AA19 | AL63: ='SEM1 PATRAK-C'!AB19 | AM63: =IF('Data Entry'!C19="","",'Data Entry'!C19) | AN63: =IF('Data Entry'!D19="","",'Data Entry'!D19) | AO63: =IF('Data Entry'!E19="","",'Data Entry'!E19) | AP63: =IF('Data Entry'!F19="","",'Data Entry'!F19) | AQ63: =IF('Data Entry'!G19="","",'Data Entry'!G19) | AR63: =IF('Data Entry'!H19="","",'Data Entry'!H19) | AS63: =IF('Data Entry'!M19="","",'Data Entry'!M19)
... U111: 601 | V111: 1 | W111: =IF('Data Entry'!A67="","",'Data Entry'!A67) -> 60 | X111: =IF('Data Entry'!B67="","",'Data Entry'!B67) | Y111: ='SEM1 PATRAK-C'!H67 -> 0 | Z111: ='SEM1 PATRAK-C'!I67 -> E | AA111: ='SEM1 PATRAK-C'!M67 -> 0 | AB111: ='SEM1 PATRAK-C'!N67 -> E | AE111: ='SEM1 PATRAK-C'!R67 -> 0 | AF111: ='SEM1 PATRAK-C'!S67 -> E | AG111: ='SEM1 PATRAK-C'!W67 -> 0 | AH111: ='SEM1 PATRAK-C'!X67 -> E | AI111: ='SEM1 PATRAK-C'!Y67 | AJ111: ='SEM1 PATRAK-C'!Z67 | AK111: ='SEM1 PATRAK-C'!AA67 | AL111: ='SEM1 PATRAK-C'!AB67 | AM111: =IF('Data Entry'!C67="","",'Data Entry'!C67) | AN111: =IF('Data Entry'!D67="","",'Data Entry'!D67) | AO111: =IF('Data Entry'!E67="","",'Data Entry'!E67) | AP111: =IF('Data Entry'!F67="","",'Data Entry'!F67) | AQ111: =IF('Data Entry'!G67="","",'Data Entry'!G67) | AR111: =IF('Data Entry'!H67="","",'Data Entry'!H67) | AS111: =IF('Data Entry'!M67="","",'Data Entry'!M67)
U112: 12 | V112: 2 | W112: =IF('Data Entry'!A8="","",'Data Entry'!A8) -> 1 | X112: =IF('Data Entry'!B8="","",'Data Entry'!B8) -> પટેલ બ્રિજેશકુમાર કાળાભાઈ | Y112: ='PATRAK-C'!K8 -> 161 | Z112: ='PATRAK-C'!L8 -> A | AA112: ='PATRAK-C'!S8 -> 172 | AB112: ='PATRAK-C'!T8 -> A | AC112: ='PATRAK-C'!#REF! -> #REF! | AD112: ='PATRAK-C'!#REF! -> #REF! | AE112: ='PATRAK-C'!AA8 -> 172 | AF112: ='PATRAK-C'!AB8 -> A | AG112: ='PATRAK-C'!AI8 -> 182 | AH112: ='PATRAK-C'!AJ8 -> A | AI112: ='PATRAK-C'!AK8 -> 165 | AJ112: ='PATRAK-C'!AL8 -> A | AK112: ='PATRAK-C'!AM8 -> 852 | AL112: ='PATRAK-C'!AN8 -> A | AM112: =IF('Data Entry'!C8="","",'Data Entry'!C8) -> 10251 | AN112: =IF('Data Entry'!D8="","",'Data Entry'!D8) -> 40544 | AO112: =IF('Data Entry'!E8="","",'Data Entry'!E8) -> અંબિકાનગર | AP112: =IF('Data Entry'!F8="","",'Data Entry'!F8) -> કાળાભાઈ | AQ112: =IF('Data Entry'!G8="","",'Data Entry'!G8) -> કોકિલાબેન | AR112: =IF('Data Entry'!H8="","",'Data Entry'!H8) -> 7778031603 | AS112: =IF('Data Entry'!M8="","",'Data Entry'!M8) -> 24060404501 1510001
U113: 22 | V113: 2 | W113: =IF('Data Entry'!A9="","",'Data Entry'!A9) -> 2 | X113: =IF('Data Entry'!B9="","",'Data Entry'!B9) | Y113: ='PATRAK-C'!K9 -> 0 | Z113: ='PATRAK-C'!L9 -> E | AA113: ='PATRAK-C'!S9 -> 0 | AB113: ='PATRAK-C'!T9 -> E | AC113: ='PATRAK-C'!#REF! -> #REF! | AD113: ='PATRAK-C'!#REF! -> #REF! | AE113: ='PATRAK-C'!AA9 -> 0 | AF113: ='PATRAK-C'!AB9 -> E | AG113: ='PATRAK-C'!AI9 -> 0 | AH113: ='PATRAK-C'!AJ9 -> E | AI113: ='PATRAK-C'!AK9 | AJ113: ='PATRAK-C'!AL9 | AK113: ='PATRAK-C'!AM9 | AL113: ='PATRAK-C'!AN9 | AM113: =IF('Data Entry'!C9="","",'Data Entry'!C9) | AN113: =IF('Data Entry'!D9="","",'Data Entry'!D9) | AO113: =IF('Data Entry'!E9="","",'Data Entry'!E9) | AP113: =IF('Data Entry'!F9="","",'Data Entry'!F9) | AQ113: =IF('Data Entry'!G9="","",'Data Entry'!G9) | AR113: =IF('Data Entry'!H9="","",'Data Entry'!H9) | AS113: =IF('Data Entry'!M9="","",'Data Entry'!M9)
U114: 32 | V114: 2 | W114: =IF('Data Entry'!A10="","",'Data Entry'!A10) -> 3 | X114: =IF('Data Entry'!B10="","",'Data Entry'!B10) | Y114: ='PATRAK-C'!K10 -> 0 | Z114: ='PATRAK-C'!L10 -> E | AA114: ='PATRAK-C'!S10 -> 0 | AB114: ='PATRAK-C'!T10 -> E | AC114: ='PATRAK-C'!#REF! -> #REF! | AD114: ='PATRAK-C'!#REF! -> #REF! | AE114: ='PATRAK-C'!AA10 -> 0 | AF114: ='PATRAK-C'!AB10 -> E | AG114: ='PATRAK-C'!AI10 -> 0 | AH114: ='PATRAK-C'!AJ10 -> E | AI114: ='PATRAK-C'!AK10 | AJ114: ='PATRAK-C'!AL10 | AK114: ='PATRAK-C'!AM10 | AL114: ='PATRAK-C'!AN10 | AM114: =IF('Data Entry'!C10="","",'Data Entry'!C10) | AN114: =IF('Data Entry'!D10="","",'Data Entry'!D10) | AO114: =IF('Data Entry'!E10="","",'Data Entry'!E10) | AP114: =IF('Data Entry'!F10="","",'Data Entry'!F10) | AQ114: =IF('Data Entry'!G10="","",'Data Entry'!G10) | AR114: =IF('Data Entry'!H10="","",'Data Entry'!H10) | AS114: =IF('Data Entry'!M10="","",'Data Entry'!M10)
U115: 42 | V115: 2 | W115: =IF('Data Entry'!A11="","",'Data Entry'!A11) -> 4 | X115: =IF('Data Entry'!B11="","",'Data Entry'!B11) | Y115: ='PATRAK-C'!K11 -> 0 | Z115: ='PATRAK-C'!L11 -> E | AA115: ='PATRAK-C'!S11 -> 0 | AB115: ='PATRAK-C'!T11 -> E | AC115: ='PATRAK-C'!#REF! -> #REF! | AD115: ='PATRAK-C'!#REF! -> #REF! | AE115: ='PATRAK-C'!AA11 -> 0 | AF115: ='PATRAK-C'!AB11 -> E | AG115: ='PATRAK-C'!AI11 -> 0 | AH115: ='PATRAK-C'!AJ11 -> E | AI115: ='PATRAK-C'!AK11 | AJ115: ='PATRAK-C'!AL11 | AK115: ='PATRAK-C'!AM11 | AL115: ='PATRAK-C'!AN11 | AM115: =IF('Data Entry'!C11="","",'Data Entry'!C11) | AN115: =IF('Data Entry'!D11="","",'Data Entry'!D11) | AO115: =IF('Data Entry'!E11="","",'Data Entry'!E11) | AP115: =IF('Data Entry'!F11="","",'Data Entry'!F11) | AQ115: =IF('Data Entry'!G11="","",'Data Entry'!G11) | AR115: =IF('Data Entry'!H11="","",'Data Entry'!H11) | AS115: =IF('Data Entry'!M11="","",'Data Entry'!M11)
U116: 52 | V116: 2 | W116: =IF('Data Entry'!A12="","",'Data Entry'!A12) -> 5 | X116: =IF('Data Entry'!B12="","",'Data Entry'!B12) | Y116: ='PATRAK-C'!K12 -> 0 | Z116: ='PATRAK-C'!L12 -> E | AA116: ='PATRAK-C'!S12 -> 0 | AB116: ='PATRAK-C'!T12 -> E | AC116: ='PATRAK-C'!#REF! -> #REF! | AD116: ='PATRAK-C'!#REF! -> #REF! | AE116: ='PATRAK-C'!AA12 -> 0 | AF116: ='PATRAK-C'!AB12 -> E | AG116: ='PATRAK-C'!AI12 -> 0 | AH116: ='PATRAK-C'!AJ12 -> E | AI116: ='PATRAK-C'!AK12 | AJ116: ='PATRAK-C'!AL12 | AK116: ='PATRAK-C'!AM12 | AL116: ='PATRAK-C'!AN12 | AM116: =IF('Data Entry'!C12="","",'Data Entry'!C12) | AN116: =IF('Data Entry'!D12="","",'Data Entry'!D12) | AO116: =IF('Data Entry'!E12="","",'Data Entry'!E12) | AP116: =IF('Data Entry'!F12="","",'Data Entry'!F12) | AQ116: =IF('Data Entry'!G12="","",'Data Entry'!G12) | AR116: =IF('Data Entry'!H12="","",'Data Entry'!H12) | AS116: =IF('Data Entry'!M12="","",'Data Entry'!M12)
U117: 62 | V117: 2 | W117: =IF('Data Entry'!A13="","",'Data Entry'!A13) -> 6 | X117: =IF('Data Entry'!B13="","",'Data Entry'!B13) | Y117: ='PATRAK-C'!K13 -> 0 | Z117: ='PATRAK-C'!L13 -> E | AA117: ='PATRAK-C'!S13 -> 0 | AB117: ='PATRAK-C'!T13 -> E | AC117: ='PATRAK-C'!#REF! -> #REF! | AD117: ='PATRAK-C'!#REF! -> #REF! | AE117: ='PATRAK-C'!AA13 -> 0 | AF117: ='PATRAK-C'!AB13 -> E | AG117: ='PATRAK-C'!AI13 -> 0 | AH117: ='PATRAK-C'!AJ13 -> E | AI117: ='PATRAK-C'!AK13 | AJ117: ='PATRAK-C'!AL13 | AK117: ='PATRAK-C'!AM13 | AL117: ='PATRAK-C'!AN13 | AM117: =IF('Data Entry'!C13="","",'Data Entry'!C13) | AN117: =IF('Data Entry'!D13="","",'Data Entry'!D13) | AO117: =IF('Data Entry'!E13="","",'Data Entry'!E13) | AP117: =IF('Data Entry'!F13="","",'Data Entry'!F13) | AQ117: =IF('Data Entry'!G13="","",'Data Entry'!G13) | AR117: =IF('Data Entry'!H13="","",'Data Entry'!H13) | AS117: =IF('Data Entry'!M13="","",'Data Entry'!M13)
U118: 72 | V118: 2 | W118: =IF('Data Entry'!A14="","",'Data Entry'!A14) -> 7 | X118: =IF('Data Entry'!B14="","",'Data Entry'!B14) | Y118: ='PATRAK-C'!K14 -> 0 | Z118: ='PATRAK-C'!L14 -> E | AA118: ='PATRAK-C'!S14 -> 0 | AB118: ='PATRAK-C'!T14 -> E | AC118: ='PATRAK-C'!#REF! -> #REF! | AD118: ='PATRAK-C'!#REF! -> #REF! | AE118: ='PATRAK-C'!AA14 -> 0 | AF118: ='PATRAK-C'!AB14 -> E | AG118: ='PATRAK-C'!AI14 -> 0 | AH118: ='PATRAK-C'!AJ14 -> E | AI118: ='PATRAK-C'!AK14 | AJ118: ='PATRAK-C'!AL14 | AK118: ='PATRAK-C'!AM14 | AL118: ='PATRAK-C'!AN14 | AM118: =IF('Data Entry'!C14="","",'Data Entry'!C14) | AN118: =IF('Data Entry'!D14="","",'Data Entry'!D14) | AO118: =IF('Data Entry'!E14="","",'Data Entry'!E14) | AP118: =IF('Data Entry'!F14="","",'Data Entry'!F14) | AQ118: =IF('Data Entry'!G14="","",'Data Entry'!G14) | AR118: =IF('Data Entry'!H14="","",'Data Entry'!H14) | AS118: =IF('Data Entry'!M14="","",'Data Entry'!M14)
U119: 82 | V119: 2 | W119: =IF('Data Entry'!A15="","",'Data Entry'!A15) -> 8 | X119: =IF('Data Entry'!B15="","",'Data Entry'!B15) | Y119: ='PATRAK-C'!K15 -> 0 | Z119: ='PATRAK-C'!L15 -> E | AA119: ='PATRAK-C'!S15 -> 0 | AB119: ='PATRAK-C'!T15 -> E | AC119: ='PATRAK-C'!#REF! -> #REF! | AD119: ='PATRAK-C'!#REF! -> #REF! | AE119: ='PATRAK-C'!AA15 -> 0 | AF119: ='PATRAK-C'!AB15 -> E | AG119: ='PATRAK-C'!AI15 -> 0 | AH119: ='PATRAK-C'!AJ15 -> E | AI119: ='PATRAK-C'!AK15 | AJ119: ='PATRAK-C'!AL15 | AK119: ='PATRAK-C'!AM15 | AL119: ='PATRAK-C'!AN15 | AM119: =IF('Data Entry'!C15="","",'Data Entry'!C15) | AN119: =IF('Data Entry'!D15="","",'Data Entry'!D15) | AO119: =IF('Data Entry'!E15="","",'Data Entry'!E15) | AP119: =IF('Data Entry'!F15="","",'Data Entry'!F15) | AQ119: =IF('Data Entry'!G15="","",'Data Entry'!G15) | AR119: =IF('Data Entry'!H15="","",'Data Entry'!H15) | AS119: =IF('Data Entry'!M15="","",'Data Entry'!M15)
U120: 92 | V120: 2 | W120: =IF('Data Entry'!A16="","",'Data Entry'!A16) -> 9 | X120: =IF('Data Entry'!B16="","",'Data Entry'!B16) | Y120: ='PATRAK-C'!K16 -> 0 | Z120: ='PATRAK-C'!L16 -> E | AA120: ='PATRAK-C'!S16 -> 0 | AB120: ='PATRAK-C'!T16 -> E | AC120: ='PATRAK-C'!#REF! -> #REF! | AD120: ='PATRAK-C'!#REF! -> #REF! | AE120: ='PATRAK-C'!AA16 -> 0 | AF120: ='PATRAK-C'!AB16 -> E | AG120: ='PATRAK-C'!AI16 -> 0 | AH120: ='PATRAK-C'!AJ16 -> E | AI120: ='PATRAK-C'!AK16 | AJ120: ='PATRAK-C'!AL16 | AK120: ='PATRAK-C'!AM16 | AL120: ='PATRAK-C'!AN16 | AM120: =IF('Data Entry'!C16="","",'Data Entry'!C16) | AN120: =IF('Data Entry'!D16="","",'Data Entry'!D16) | AO120: =IF('Data Entry'!E16="","",'Data Entry'!E16) | AP120: =IF('Data Entry'!F16="","",'Data Entry'!F16) | AQ120: =IF('Data Entry'!G16="","",'Data Entry'!G16) | AR120: =IF('Data Entry'!H16="","",'Data Entry'!H16) | AS120: =IF('Data Entry'!M16="","",'Data Entry'!M16)
U121: 102 | V121: 2 | W121: =IF('Data Entry'!A17="","",'Data Entry'!A17) -> 10 | X121: =IF('Data Entry'!B17="","",'Data Entry'!B17) | Y121: ='PATRAK-C'!K17 -> 0 | Z121: ='PATRAK-C'!L17 -> E | AA121: ='PATRAK-C'!S17 -> 0 | AB121: ='PATRAK-C'!T17 -> E | AC121: ='PATRAK-C'!#REF! -> #REF! | AD121: ='PATRAK-C'!#REF! -> #REF! | AE121: ='PATRAK-C'!AA17 -> 0 | AF121: ='PATRAK-C'!AB17 -> E | AG121: ='PATRAK-C'!AI17 -> 0 | AH121: ='PATRAK-C'!AJ17 -> E | AI121: ='PATRAK-C'!AK17 | AJ121: ='PATRAK-C'!AL17 | AK121: ='PATRAK-C'!AM17 | AL121: ='PATRAK-C'!AN17 | AM121: =IF('Data Entry'!C17="","",'Data Entry'!C17) | AN121: =IF('Data Entry'!D17="","",'Data Entry'!D17) | AO121: =IF('Data Entry'!E17="","",'Data Entry'!E17) | AP121: =IF('Data Entry'!F17="","",'Data Entry'!F17) | AQ121: =IF('Data Entry'!G17="","",'Data Entry'!G17) | AR121: =IF('Data Entry'!H17="","",'Data Entry'!H17) | AS121: =IF('Data Entry'!M17="","",'Data Entry'!M17)
U122: 112 | V122: 2 | W122: =IF('Data Entry'!A18="","",'Data Entry'!A18) -> 11 | X122: =IF('Data Entry'!B18="","",'Data Entry'!B18) | Y122: ='PATRAK-C'!K18 -> 0 | Z122: ='PATRAK-C'!L18 -> E | AA122: ='PATRAK-C'!S18 -> 0 | AB122: ='PATRAK-C'!T18 -> E | AC122: ='PATRAK-C'!#REF! -> #REF! | AD122: ='PATRAK-C'!#REF! -> #REF! | AE122: ='PATRAK-C'!AA18 -> 0 | AF122: ='PATRAK-C'!AB18 -> E | AG122: ='PATRAK-C'!AI18 -> 0 | AH122: ='PATRAK-C'!AJ18 -> E | AI122: ='PATRAK-C'!AK18 | AJ122: ='PATRAK-C'!AL18 | AK122: ='PATRAK-C'!AM18 | AL122: ='PATRAK-C'!AN18 | AM122: =IF('Data Entry'!C18="","",'Data Entry'!C18) | AN122: =IF('Data Entry'!D18="","",'Data Entry'!D18) | AO122: =IF('Data Entry'!E18="","",'Data Entry'!E18) | AP122: =IF('Data Entry'!F18="","",'Data Entry'!F18) | AQ122: =IF('Data Entry'!G18="","",'Data Entry'!G18) | AR122: =IF('Data Entry'!H18="","",'Data Entry'!H18) | AS122: =IF('Data Entry'!M18="","",'Data Entry'!M18)
U123: 122 | V123: 2 | W123: =IF('Data Entry'!A19="","",'Data Entry'!A19) -> 12 | X123: =IF('Data Entry'!B19="","",'Data Entry'!B19) | Y123: ='PATRAK-C'!K19 -> 0 | Z123: ='PATRAK-C'!L19 -> E | AA123: ='PATRAK-C'!S19 -> 0 | AB123: ='PATRAK-C'!T19 -> E | AC123: ='PATRAK-C'!#REF! -> #REF! | AD123: ='PATRAK-C'!#REF! -> #REF! | AE123: ='PATRAK-C'!AA19 -> 0 | AF123: ='PATRAK-C'!AB19 -> E | AG123: ='PATRAK-C'!AI19 -> 0 | AH123: ='PATRAK-C'!AJ19 -> E | AI123: ='PATRAK-C'!AK19 | AJ123: ='PATRAK-C'!AL19 | AK123: ='PATRAK-C'!AM19 | AL123: ='PATRAK-C'!AN19 | AM123: =IF('Data Entry'!C19="","",'Data Entry'!C19) | AN123: =IF('Data Entry'!D19="","",'Data Entry'!D19) | AO123: =IF('Data Entry'!E19="","",'Data Entry'!E19) | AP123: =IF('Data Entry'!F19="","",'Data Entry'!F19) | AQ123: =IF('Data Entry'!G19="","",'Data Entry'!G19) | AR123: =IF('Data Entry'!H19="","",'Data Entry'!H19) | AS123: =IF('Data Entry'!M19="","",'Data Entry'!M19)
... U171: 602 | V171: 2 | W171: =IF('Data Entry'!A67="","",'Data Entry'!A67) -> 60 | X171: =IF('Data Entry'!B67="","",'Data Entry'!B67) | Y171: ='PATRAK-C'!K67 -> 0 | Z171: ='PATRAK-C'!L67 -> E | AA171: ='PATRAK-C'!S67 -> 0 | AB171: ='PATRAK-C'!T67 -> E | AC171: ='PATRAK-C'!#REF! -> #REF! | AD171: ='PATRAK-C'!#REF! -> #REF! | AE171: ='PATRAK-C'!AA67 -> 0 | AF171: ='PATRAK-C'!AB67 -> E | AG171: ='PATRAK-C'!AI67 -> 0 | AH171: ='PATRAK-C'!AJ67 -> E | AI171: ='PATRAK-C'!AK67 | AJ171: ='PATRAK-C'!AL67 | AK171: ='PATRAK-C'!AM67 | AL171: ='PATRAK-C'!AN67 | AM171: =IF('Data Entry'!C67="","",'Data Entry'!C67) | AN171: =IF('Data Entry'!D67="","",'Data Entry'!D67) | AO171: =IF('Data Entry'!E67="","",'Data Entry'!E67) | AP171: =IF('Data Entry'!F67="","",'Data Entry'!F67) | AQ171: =IF('Data Entry'!G67="","",'Data Entry'!G67) | AR171: =IF('Data Entry'!H67="","",'Data Entry'!H67) | AS171: =IF('Data Entry'!M67="","",'Data Entry'!M67)

Sheet PATRAK-F 2PAGE
B4: =IF('Data Entry'!B2="","",'Data Entry'!B2) -> કુવાદરા પ્રાથમિક શાળા | N4: =IF('Data Entry'!B2="","",'Data Entry'!B2) -> કુવાદરા પ્રાથમિક શાળા | Y4: સત્ર:- | Z4: 1
B6:  શાળાકીય સર્વગ્રાહી મૂલ્યાંકન  | N6:  શાળાકીય સર્વગ્રાહી મૂલ્યાંકન 
D8: વિદ્યાર્થીનું નામ :- | E8: =IF(I10="","",VLOOKUP(I10&Z4,$Y$52:$AW$171,4,0)) -> પટેલ બ્રિજેશકુમાર કાળાભાઈ | P8: વિદ્યાર્થીનું નામ :- | Q8: =IF(U10="","",VLOOKUP(U10&Z4,$Y$52:$AW$171,4,0)) | Y8: માર્ક્સ જોઈએ છે ?:- | Z8: હા
D10: ધોરણ :- | E10: =IF('Data Entry'!J2="","",'Data Entry'!J2) -> 3 | F10: વર્ગ :- | G10: =IF('Data Entry'!J3="","",'Data Entry'!J3) -> અ | H10: હાજરી પત્રક નંબર :- | I10: 1 | P10: ધોરણ :- | Q10: =IF('Data Entry'!J2="","",'Data Entry'!J2) -> 3 | R10: વર્ગ :- | S10: =IF('Data Entry'!J3="","",'Data Entry'!J3) -> અ | T10: હાજરી પત્રક નંબર :- | U10: 2 | Y10: વિકલાંગ છે ? | Z10: ના
D12: જી.આર.નંબર :- | E12: =IF(I10="","",VLOOKUP(I10&Z4,$Y$52:$AW$171,19,0)) -> 10251 | F12: UID No :- | G12: =IF(I10="","",VLOOKUP(I10&Z4,$Y$52:$AW$171,25,0)) -> 24060404501 1510001 | P12: જી.આર.નંબર :- | Q12: =IF(U10="","",VLOOKUP(U10&Z4,$Y$52:$AW$171,19,0)) | R12: UID No :- | S12: =IF(U10="","",VLOOKUP(U10&Z4,$Y$52:$AW$171,25,0)) | Y12: વિકલાંગ છે ? | Z12: ના
C14: ક્રમ | D14: વિષય | E14: કુલ ગુણ | F14: મેળવેલ ગુણ | G14: મેળવેલ ગ્રેડ | H14: વિષયના સંદર્ભમાં વિશેષ નોંધ | O14: ક્રમ | P14: વિષય | Q14: કુલ ગુણ | R14: મેળવેલ ગુણ | S14: મેળવેલ ગ્રેડ | T14: વિષયના સંદર્ભમાં વિશેષ નોંધ | Z14: =E10&Z4 -> 31
C15: 1 | D15: ગુજરાતી | E15: =IF($Z$4=1,100,200) -> 100 | F15: =IF(Z8="હા",IF(I10="","",VLOOKUP(I10&Z4,$Y$52:$AW$171,5,0)),"") -> 86 | G15: =IF(I10="","",VLOOKUP(I10&Z4,$Y$52:$AW$171,6,0)) -> A | H15: =IF(G15="A","અભ્યાસ ઉત્તમ",IF(G15="B","અભ્યાસ સારો",IF(G15="C","અભ્યાસ સારો",IF(G15="D","અભ્યાસ મધ્યમ",IF(G15="E","અભ્યાસ નબળો",""))))) -> અભ્યાસ ઉત્તમ | O15: 1 | P15: ગુજરાતી | Q15: =IF($Z$4=1,100,200) -> 100 | R15: =IF(Z8="હા",IF(U10="","",VLOOKUP(U10&Z4,$Y$52:$AW$171,5,0)),"") -> 0 | S15: =IF(U10="","",VLOOKUP(U10&Z4,$Y$52:$AW$171,6,0)) -> E | T15: =IF(S15="A","અભ્યાસ ઉત્તમ",IF(S15="B","અભ્યાસ સારો",IF(S15="C","અભ્યાસ સારો",IF(S15="D","અભ્યાસ મધ્યમ",IF(S15="E","અભ્યાસ નબળો",""))))) -> અભ્યાસ નબળો
C16: 2 | D16: ગણિત | E16: =IF($Z$4=1,100,200) -> 100 | F16: =IF(Z8="હા",IF(I10="","",VLOOKUP(I10&Z4,$Y$52:$AW$171,7,0)),"") -> 80 | G16: =IF(I10="","",VLOOKUP(I10&Z4,$Y$52:$AW$171,8,0)) -> A | H16: =IF(G16="A","અભ્યાસ ઉત્તમ",IF(G16="B","અભ્યાસ સારો",IF(G16="C","અભ્યાસ સારો",IF(G16="D","અભ્યાસ મધ્યમ",IF(G16="E","અભ્યાસ નબળો",""))))) -> અભ્યાસ ઉત્તમ | O16: 2 | P16: ગણિત | Q16: =IF($Z$4=1,100,200) -> 100 | R16: =IF(Z8="હા",IF(U10="","",VLOOKUP(U10&Z4,$Y$52:$AW$171,7,0)),"") -> 0 | S16: =IF(U10="","",VLOOKUP(U10&Z4,$Y$52:$AW$171,8,0)) -> E | T16: =IF(S16="A","અભ્યાસ ઉત્તમ",IF(S16="B","અભ્યાસ સારો",IF(S16="C","અભ્યાસ સારો",IF(S16="D","અભ્યાસ મધ્યમ",IF(S16="E","અભ્યાસ નબળો",""))))) -> અભ્યાસ નબળો
C17: 3 | D17: અંગ્રેજી | E17: =IF($Z$4=1,100,200) -> 100 | F17: =IF(Z8="હા",IF(I10="","",VLOOKUP(I10&Z4,$Y$52:$AW$171,11,0)),"") -> 89 | G17: =IF(I10="","",VLOOKUP(I10&Z4,$Y$52:$AW$171,12,0)) -> A | H17: =IF(G17="A","અભ્યાસ ઉત્તમ",IF(G17="B","અભ્યાસ સારો",IF(G17="C","અભ્યાસ સારો",IF(G17="D","અભ્યાસ મધ્યમ",IF(G17="E","અભ્યાસ નબળો",""))))) -> અભ્યાસ ઉત્તમ | O17: 3 | P17: અંગ્રેજી | Q17: =IF($Z$4=1,100,200) -> 100 | R17: =IF(Z8="હા",IF(U10="","",VLOOKUP(U10&Z4,$Y$52:$AW$171,11,0)),"") -> 0 | S17: =IF(U10="","",VLOOKUP(U10&Z4,$Y$52:$AW$171,12,0)) -> E | T17: =IF(S17="A","અભ્યાસ ઉત્તમ",IF(S17="B","અભ્યાસ સારો",IF(S17="C","અભ્યાસ સારો",IF(S17="D","અભ્યાસ મધ્યમ",IF(S17="E","અભ્યાસ નબળો",""))))) -> અભ્યાસ નબળો
C18: 4 | D18: સૌની આસપાસ | E18: =IF($Z$4=1,100,200) -> 100 | F18: =IF(Z8="હા",IF(I10="","",VLOOKUP(I10&Z4,$Y$52:$AW$171,13,0)),"") -> 84 | G18: =IF(I10="","",VLOOKUP(I10&Z4,$Y$52:$AW$171,14,0)) -> A | H18: =IF(G18="A","અભ્યાસ ઉત્તમ",IF(G18="B","અભ્યાસ સારો",IF(G18="C","અભ્યાસ સારો",IF(G18="D","અભ્યાસ મધ્યમ",IF(G18="E","અભ્યાસ નબળો",""))))) -> અભ્યાસ ઉત્તમ | O18: 4 | P18: સૌની આસપાસ | Q18: =IF($Z$4=1,100,200) -> 100 | R18: =IF(Z8="હા",IF(U10="","",VLOOKUP(U10&Z4,$Y$52:$AW$171,13,0)),"") -> 0 | S18: =IF(U10="","",VLOOKUP(U10&Z4,$Y$52:$AW$171,14,0)) -> E | T18: =IF(S18="A","અભ્યાસ ઉત્તમ",IF(S18="B","અભ્યાસ સારો",IF(S18="C","અભ્યાસ સારો",IF(S18="D","અભ્યાસ મધ્યમ",IF(S18="E","અભ્યાસ નબળો",""))))) -> અભ્યાસ નબળો
C19: 5 | D19: વ્યક્તિત્વ વિકાસ | E19: 200 | F19: =IF(Z8="હા",IF(I10="","",VLOOKUP(I10&Z4,$Y$52:$AW$171,15,0)),"") -> 172 | G19: =IF(I10="","",VLOOKUP(I10&Z4,$Y$52:$AW$171,16,0)) -> A | H19: =IF(G19="A","અભ્યાસ ઉત્તમ",IF(G19="B","અભ્યાસ સારો",IF(G19="C","અભ્યાસ સારો",IF(G19="D","અભ્યાસ મધ્યમ",IF(G19="E","અભ્યાસ નબળો",""))))) -> અભ્યાસ ઉત્તમ | O19: 5 | P19: વ્યક્તિત્વ વિકાસ | Q19: 200 | R19: =IF(Z8="હા",IF(U10="","",VLOOKUP(U10&Z4,$Y$52:$AW$171,15,0)),"") | S19: =IF(U10="","",VLOOKUP(U10&Z4,$Y$52:$AW$171,16,0)) | T19: =IF(S19="A","અભ્યાસ ઉત્તમ",IF(S19="B","અભ્યાસ સારો",IF(S19="C","અભ્યાસ સારો",IF(S19="D","અભ્યાસ મધ્યમ",IF(S19="E","અભ્યાસ નબળો","")))))
C20: મેળવેલ એકંદર કુલ | E20: =SUM(E15:E19) -> 600 | F20: =IF(Z8="હા",IF(I10="","",VLOOKUP(I10&Z4,$Y$52:$AW$171,17,0)),"") -> 511 | G20: =IF(I10="","",VLOOKUP(I10&Z4,$Y$52:$AW$171,18,0)) -> A | H20: =IF(G20="A","એકંદરે અભ્યાસ ઉત્તમ",IF(G20="B","એકંદરે અભ્યાસ સારો",IF(G20="C","એકંદરે અભ્યાસ સારો",IF(G20="D","એકંદરે અભ્યાસ મધ્યમ",IF(G20="E","એકંદરે અભ્યાસ નબળો",""))))) -> એકંદરે અભ્યાસ ઉત્તમ | O20: મેળવેલ એકંદર કુલ | Q20: =SUM(Q15:Q19) -> 600 | R20: =IF(Z8="હા",IF(U10="","",VLOOKUP(U10&Z4,$Y$52:$AW$171,17,0)),"") | S20: =IF(U10="","",VLOOKUP(U10&Z4,$Y$52:$AW$171,18,0)) | T20: =IF(S20="A","એકંદરે અભ્યાસ ઉત્તમ",IF(S20="B","એકંદરે અભ્યાસ સારો",IF(S20="C","એકંદરે અભ્યાસ સારો",IF(S20="D","એકંદરે અભ્યાસ મધ્યમ",IF(S20="E","એકંદરે અભ્યાસ નબળો","")))))
C21: મેળવેલ ટકા | E21: =IFERROR(F20/E20,"") -> 0.85166667 | G21: પરિણામ | H21: =IF(AND(Z10="હા",E21>20%),"પાસ",IF(I10="","",IF(COUNTIF(G15:G19,"E")>2,"વર્ગ બઢતી","પાસ"))) -> પાસ | O21: મેળવેલ ટકા | Q21: =IFERROR(R20/Q20,"") | S21: પરિણામ | T21: =IF(AND(Z12="હા",Q21>20%),"પાસ",IF(U10="","",IF(COUNTIF(S15:S19,"E")>2,"વર્ગ બઢતી","પાસ"))) -> વર્ગ બઢતી
C23: સ્થળ :- | E23: =IF('Data Entry'!D2="","",'Data Entry'!D2) -> કુવાદરા | F23: વાલીની સહી:- | O23: સ્થળ :- | Q23: =IF('Data Entry'!D2="","",'Data Entry'!D2) -> કુવાદરા | R23: વાલીની સહી:-
C25: તારીખ :- | E25: =IF('Data Entry'!B4="","",'Data Entry'!B4) -> 45447 | O25: તારીખ :- | Q25: =IF('Data Entry'!B4="","",'Data Entry'!B4) -> 45447
D28: વર્ગ શિક્ષકની સહી | G28: આચાર્યની સહી | P28: વર્ગ શિક્ષકની સહી | S28: આચાર્યની સહી
B29: ="નોંધ :- નવા શૈક્ષણિક વર્ષમાં શાળા તારીખ :-"&'Data Entry'!Q2&" અને સમય :-"&'Data Entry'!T2&" વાગે ઉઘડશે." -> નોંધ :- નવા શૈક્ષણિક વર્ષમાં શાળા તારીખ :-09-06-2025 અને સમય :-07:00 AM વાગે ઉઘડશે. | N29: ="નોંધ :- નવા શૈક્ષણિક વર્ષમાં શાળા તારીખ :-"&'Data Entry'!Q2&" અને સમય :-"&'Data Entry'!T2&" વાગે ઉઘડશે." -> નોંધ :- નવા શૈક્ષણિક વર્ષમાં શાળા તારીખ :-09-06-2025 અને સમય :-07:00 AM વાગે ઉઘડશે.
Y50: 1 | Z50: 2 | AA50: 3 | AB50: 4 | AC50: 5 | AD50: 6 | AE50: 7 | AF50: 8 | AG50: 9 | AH50: 10 | AI50: 11 | AJ50: 12 | AK50: 13 | AL50: 14 | AM50: 15 | AN50: 16 | AO50: 17 | AP50: 18 | AQ50: 19 | AR50: 20 | AS50: 21 | AT50: 22 | AU50: 23 | AV50: 24 | AW50: 25
Y51: ક્રમ | Z51: સત્ર | AA51: રોલ નંબર | AB51: વિદ્યાર્થીનું નામ | AC51: ગુજરાતી | AE51: ગણિત | AG51: હિન્દી | AI51: અંગેજી | AK51: સૌની આસપાસ | AM51: વ્યક્તિત્વ વિકાસ | AO51: કુલ | AQ51: જી.આર.નંબર | AR51: જન્મ તારીખ | AS51: સરનામું | AT51: પિતાનું નામ | AU51: માતા નું નામ | AV51: સંપર્ક નંબર | AW51: યુનિક આઈડી નંબર
Y52: 11 | Z52: 1 | AA52: ='PATRAK-F'!W52 -> 1 | AB52: ='PATRAK-F'!X52 -> પટેલ બ્રિજેશકુમાર કાળાભાઈ | AC52: ='PATRAK-F'!Y52 -> 86 | AD52: ='PATRAK-F'!Z52 -> A | AE52: ='PATRAK-F'!AA52 -> 80 | AF52: ='PATRAK-F'!AB52 -> A | AG52: ='PATRAK-F'!AC52 -> 0 | AH52: ='PATRAK-F'!AD52 -> 0 | ... AW52: ='PATRAK-F'!AS52 -> 24060404501 1510001
Y53: 21 | Z53: 1 | AA53: ='PATRAK-F'!W53 -> 2 | AB53: ='PATRAK-F'!X53 | AC53: ='PATRAK-F'!Y53 -> 0 | AD53: ='PATRAK-F'!Z53 -> E | AE53: ='PATRAK-F'!AA53 -> 0 | AF53: ='PATRAK-F'!AB53 -> E | AG53: ='PATRAK-F'!AC53 -> 0 | AH53: ='PATRAK-F'!AD53 -> 0 | ... AW53: ='PATRAK-F'!AS53
Y54: 31 | Z54: 1 | AA54: ='PATRAK-F'!W54 -> 3 | AB54: ='PATRAK-F'!X54 | AC54: ='PATRAK-F'!Y54 -> 0 | AD54: ='PATRAK-F'!Z54 -> E | AE54: ='PATRAK-F'!AA54 -> 0 | AF54: ='PATRAK-F'!AB54 -> E | AG54: ='PATRAK-F'!AC54 -> 0 | AH54: ='PATRAK-F'!AD54 -> 0 | ... AW54: ='PATRAK-F'!AS54
Y55: 41 | Z55: 1 | AA55: ='PATRAK-F'!W55 -> 4 | AB55: ='PATRAK-F'!X55 | AC55: ='PATRAK-F'!Y55 -> 0 | AD55: ='PATRAK-F'!Z55 -> E | AE55: ='PATRAK-F'!AA55 -> 0 | AF55: ='PATRAK-F'!AB55 -> E | AG55: ='PATRAK-F'!AC55 -> 0 | AH55: ='PATRAK-F'!AD55 -> 0 | ... AW55: ='PATRAK-F'!AS55
Y56: 51 | Z56: 1 | AA56: ='PATRAK-F'!W56 -> 5 | AB56: ='PATRAK-F'!X56 | AC56: ='PATRAK-F'!Y56 -> 0 | AD56: ='PATRAK-F'!Z56 -> E | AE56: ='PATRAK-F'!AA56 -> 0 | AF56: ='PATRAK-F'!AB56 -> E | AG56: ='PATRAK-F'!AC56 -> 0 | AH56: ='PATRAK-F'!AD56 -> 0 | ... AW56: ='PATRAK-F'!AS56
Y57: 61 | Z57: 1 | AA57: ='PATRAK-F'!W57 -> 6 | AB57: ='PATRAK-F'!X57 | AC57: ='PATRAK-F'!Y57 -> 0 | AD57: ='PATRAK-F'!Z57 -> E | AE57: ='PATRAK-F'!AA57 -> 0 | AF57: ='PATRAK-F'!AB57 -> E | AG57: ='PATRAK-F'!AC57 -> 0 | AH57: ='PATRAK-F'!AD57 -> 0 | ... AW57: ='PATRAK-F'!AS57
Y58: 71 | Z58: 1 | AA58: ='PATRAK-F'!W58 -> 7 | AB58: ='PATRAK-F'!X58 | AC58: ='PATRAK-F'!Y58 -> 0 | AD58: ='PATRAK-F'!Z58 -> E | AE58: ='PATRAK-F'!AA58 -> 0 | AF58: ='PATRAK-F'!AB58 -> E | AG58: ='PATRAK-F'!AC58 -> 0 | AH58: ='PATRAK-F'!AD58 -> 0 | ... AW58: ='PATRAK-F'!AS58
Y59: 81 | Z59: 1 | AA59: ='PATRAK-F'!W59 -> 8 | AB59: ='PATRAK-F'!X59 | AC59: ='PATRAK-F'!Y59 -> 0 | AD59: ='PATRAK-F'!Z59 -> E | AE59: ='PATRAK-F'!AA59 -> 0 | AF59: ='PATRAK-F'!AB59 -> E | AG59: ='PATRAK-F'!AC59 -> 0 | AH59: ='PATRAK-F'!AD59 -> 0 | ... AW59: ='PATRAK-F'!AS59
Y60: 91 | Z60: 1 | AA60: ='PATRAK-F'!W60 -> 9 | AB60: ='PATRAK-F'!X60 | AC60: ='PATRAK-F'!Y60 -> 0 | AD60: ='PATRAK-F'!Z60 -> E | AE60: ='PATRAK-F'!AA60 -> 0 | AF60: ='PATRAK-F'!AB60 -> E | AG60: ='PATRAK-F'!AC60 -> 0 | AH60: ='PATRAK-F'!AD60 -> 0 | ... AW60: ='PATRAK-F'!AS60
Y61: 101 | Z61: 1 | AA61: ='PATRAK-F'!W61 -> 10 | AB61: ='PATRAK-F'!X61 | AC61: ='PATRAK-F'!Y61 -> 0 | AD61: ='PATRAK-F'!Z61 -> E | AE61: ='PATRAK-F'!AA61 -> 0 | AF61: ='PATRAK-F'!AB61 -> E | AG61: ='PATRAK-F'!AC61 -> 0 | AH61: ='PATRAK-F'!AD61 -> 0 | ... AW61: ='PATRAK-F'!AS61
Y62: 111 | Z62: 1 | AA62: ='PATRAK-F'!W62 -> 11 | AB62: ='PATRAK-F'!X62 | AC62: ='PATRAK-F'!Y62 -> 0 | AD62: ='PATRAK-F'!Z62 -> E | AE62: ='PATRAK-F'!AA62 -> 0 | AF62: ='PATRAK-F'!AB62 -> E | AG62: ='PATRAK-F'!AC62 -> 0 | AH62: ='PATRAK-F'!AD62 -> 0 | ... AW62: ='PATRAK-F'!AS62
Y63: 121 | Z63: 1 | AA63: ='PATRAK-F'!W63 -> 12 | AB63: ='PATRAK-F'!X63 | AC63: ='PATRAK-F'!Y63 -> 0 | AD63: ='PATRAK-F'!Z63 -> E | AE63: ='PATRAK-F'!AA63 -> 0 | AF63: ='PATRAK-F'!AB63 -> E | AG63: ='PATRAK-F'!AC63 -> 0 | AH63: ='PATRAK-F'!AD63 -> 0 | ... AW63: ='PATRAK-F'!AS63
... Y171: 602 | Z171: 2 | AA171: ='PATRAK-F'!W171 -> 60 | AB171: ='PATRAK-F'!X171 | AC171: ='PATRAK-F'!Y171 -> 0 | AD171: ='PATRAK-F'!Z171 -> E | AE171: ='PATRAK-F'!AA171 -> 0 | AF171: ='PATRAK-F'!AB171 -> E | AG171: ='PATRAK-F'!AC171 -> #REF! | AH171: ='PATRAK-F'!AD171 -> #REF! | ... AW171: ='PATRAK-F'!AS171

Sheet PRIVATE RESULT
A2: ='Data Entry'!D4&" "&'Data Entry'!D3&", સંચાલિત" -> જીલ્લા શિક્ષણ સમિતિ ગાંધીનગર, સંચાલિત | Q2: ='Data Entry'!J4 -> 60
A4: =IF('Data Entry'!B2="","",'Data Entry'!B2) -> કુવાદરા પ્રાથમિક શાળા | O4: વિકલાંગ છે ? | Q4: ના
A6: ="તાલુકો :-"&'Data Entry'!B3&", જિલ્લો :- "&'Data Entry'!D3 -> તાલુકો :-માણસા, જિલ્લો :- ગાંધીનગર
A8:  શાળાકીય સર્વગ્રાહી મૂલ્યાંકન 
A10: વિદ્યાર્થીનું નામ :- | C10: =IFERROR(IF(N10="","",VLOOKUP(N10,'PATRAK-C'!$A$8:$AQ$67,2,0)),"") -> પટેલ બ્રિજેશકુમાર કાળાભાઈ | H10: ધોરણ :- | I10: =IF('Data Entry'!J2="","",'Data Entry'!J2) -> 3 | J10: વર્ગ :- | K10: =IF('[1]Data Entry'!J3="","",'[1]Data Entry'!J3) -> અ | L10: હાજરી નંબર :- | N10: 1
A12: જી.આર.નંબર :- | C12: =IFERROR(IF(N10="","",VLOOKUP(N10,'PATRAK-C'!$A$8:$AQ$67,3,0)),"") -> 10251 | E12: જન્મ તારીખ :- | G12: =IFERROR(IF(N10="","",VLOOKUP(N10,'PATRAK-C'!$A$8:$AQ$67,4,0)),"") -> 40544 | J12: યુનિક આઈડી નંબર :- | L12: =IF(N10="","",LOOKUP(N10,'Data Entry'!A8:A67,'Data Entry'!M8:M67)) -> 24060404501 1510001 | Q12: =COUNTIF(N16:N20,"E") -> 0
A14: ક્રમ | B14: વિષય | C14: સત્ર : 1 | H14: સત્ર : 2 | M14: વાર્ષિક ગુણાંકન
C15: ત્રિમાસિક કસોટી (40) | D15: સત્રાંત મૂલ્યાંકન (40) | E15: સ્વ અધ્યયન મૂલ્યાંકન (20) | F15: મેળવેલ ગુણ (100) | G15: મેળવેલ ગ્રેડ | H15: ત્રિમાસિક કસોટી (40) | I15: સત્રાંત મૂલ્યાંકન (40) | J15: સ્વ અધ્યયન મૂલ્યાંકન (20) | K15: મેળવેલ ગુણ (100) | L15: મેળવેલ ગ્રેડ | M15: મેળવેલ ગુણ (200) | N15: મેળવેલ ગ્રેડ
A16: 1 | B16: ગુજરાતી | C16: =IFERROR(IF(N10="","",VLOOKUP(N10,'PATRAK-C'!$A$8:$AQ$67,5,0)),"") -> 32 | D16: =IFERROR(IF(N10="","",VLOOKUP(N10,'PATRAK-C'!$A$8:$AQ$67,6,0)),"") -> 36 | E16: =IFERROR(IF(N10="","",VLOOKUP(N10,'PATRAK-C'!$A$8:$AQ$67,7,0)),"") -> 18 | F16: =IF($N$10="","",SUM(C16:E16)) -> 86 | G16: =IF(F16="","",IF(F16>=80,"A",IF(F16>=65,"B",IF(F16>=50,"C",IF(F16>=35,"D",IF(F16<=34,"E")))))) -> A | H16: =IFERROR(IF(N10="","",VLOOKUP(N10,'PATRAK-C'!$A$8:$AQ$67,8,0)),"") -> 25 | I16: =IFERROR(IF(N10="","",VLOOKUP(N10,'PATRAK-C'!$A$8:$AQ$67,9,0)),"") -> 32 | J16: =IFERROR(IF(N10="","",VLOOKUP(N10,'PATRAK-C'!$A$8:$AQ$67,10,0)),"") -> 18 | K16: =IF($N$10="","",SUM(H16:J16)) -> 75 | L16: =IF(K16="","",IF(K16>=80,"A",IF(K16>=65,"B",IF(K16>=50,"C",IF(K16>=35,"D",IF(K16<=34,"E")))))) -> B | M16: =IFERROR(IF(N10="","",VLOOKUP(N10,'PATRAK-C'!$A$8:$AQ$67,11,0)),"") -> 161 | N16: =IFERROR(IF(N10="","",VLOOKUP(N10,'PATRAK-C'!$A$8:$AQ$67,12,0)),"") -> A
A17: 2 | B17: ગણિત | C17: =IFERROR(IF(N10="","",VLOOKUP(N10,'PATRAK-C'!$A$8:$AQ$67,13,0)),"") -> 40 | D17: =IFERROR(IF(N10="","",VLOOKUP(N10,'PATRAK-C'!$A$8:$AQ$67,14,0)),"") -> 28 | E17: =IFERROR(IF(N10="","",VLOOKUP(N10,'PATRAK-C'!$A$8:$AQ$67,15,0)),"") -> 12 | F17: =IF($N$10="","",SUM(C17:E17)) -> 80 | G17: =IF(F17="","",IF(F17>=80,"A",IF(F17>=65,"B",IF(F17>=50,"C",IF(F17>=35,"D",IF(F17<=34,"E")))))) -> A | H17: =IFERROR(IF(N10="","",VLOOKUP(N10,'PATRAK-C'!$A$8:$AQ$67,16,0)),"") -> 36 | I17: =IFERROR(IF(N10="","",VLOOKUP(N10,'PATRAK-C'!$A$8:$AQ$67,17,0)),"") -> 37 | J17: =IFERROR(IF(N10="","",VLOOKUP(N10,'PATRAK-C'!$A$8:$AQ$67,18,0)),"") -> 19 | K17: =IF($N$10="","",SUM(H17:J17)) -> 92 | L17: =IF(K17="","",IF(K17>=80,"A",IF(K17>=65,"B",IF(K17>=50,"C",IF(K17>=35,"D",IF(K17<=34,"E")))))) -> A | M17: =IFERROR(IF(N10="","",VLOOKUP(N10,'PATRAK-C'!$A$8:$AQ$67,19,0)),"") -> 172 | N17: =IFERROR(IF(N10="","",VLOOKUP(N10,'PATRAK-C'!$A$8:$AQ$67,20,0)),"") -> A
A18: 3 | B18: અંગ્રેજી | C18: =IFERROR(IF(N10="","",VLOOKUP(N10,'PATRAK-C'!$A$8:$AQ$67,21,0)),"") -> 35 | D18: =IFERROR(IF(N10="","",VLOOKUP(N10,'PATRAK-C'!$A$8:$AQ$67,22,0)),"") -> 36 | E18: =IFERROR(IF(N10="","",VLOOKUP(N10,'PATRAK-C'!$A$8:$AQ$67,23,0)),"") -> 18 | F18: =IF($N$10="","",SUM(C18:E18)) -> 89 | G18: =IF(F18="","",IF(F18>=80,"A",IF(F18>=65,"B",IF(F18>=50,"C",IF(F18>=35,"D",IF(F18<=34,"E")))))) -> A | H18: =IFERROR(IF(N10="","",VLOOKUP(N10,'PATRAK-C'!$A$8:$AQ$67,24,0)),"") -> 34 | I18: =IFERROR(IF(N10="","",VLOOKUP(N10,'PATRAK-C'!$A$8:$AQ$67,25,0)),"") -> 32 | J18: =IFERROR(IF(N10="","",VLOOKUP(N10,'PATRAK-C'!$A$8:$AQ$67,26,0)),"") -> 17 | K18: =IF($N$10="","",SUM(H18:J18)) -> 83 | L18: =IF(K18="","",IF(K18>=80,"A",IF(K18>=65,"B",IF(K18>=50,"C",IF(K18>=35,"D",IF(K18<=34,"E")))))) -> A | M18: =IFERROR(IF(N10="","",VLOOKUP(N10,'PATRAK-C'!$A$8:$AQ$67,27,0)),"") -> 172 | N18: =IFERROR(IF(N10="","",VLOOKUP(N10,'PATRAK-C'!$A$8:$AQ$67,28,0)),"") -> A
A19: 4 | B19: સૌની આસપાસ | C19: =IFERROR(IF(N10="","",VLOOKUP(N10,'PATRAK-C'!$A$8:$AQ$67,29,0)),"") -> 34 | D19: =IFERROR(IF(N10="","",VLOOKUP(N10,'PATRAK-C'!$A$8:$AQ$67,30,0)),"") -> 32 | E19: =IFERROR(IF(N10="","",VLOOKUP(N10,'PATRAK-C'!$A$8:$AQ$67,31,0)),"") -> 18 | F19: =IF($N$10="","",SUM(C19:E19)) -> 84 | G19: =IF(F19="","",IF(F19>=80,"A",IF(F19>=65,"B",IF(F19>=50,"C",IF(F19>=35,"D",IF(F19<=34,"E")))))) -> A | H19: =IFERROR(IF(N10="","",VLOOKUP(N10,'PATRAK-C'!$A$8:$AQ$67,32,0)),"") -> 40 | I19: =IFERROR(IF(N10="","",VLOOKUP(N10,'PATRAK-C'!$A$8:$AQ$67,33,0)),"") -> 39 | J19: =IFERROR(IF(N10="","",VLOOKUP(N10,'PATRAK-C'!$A$8:$AQ$67,34,0)),"") -> 19 | K19: =IF($N$10="","",SUM(H19:J19)) -> 98 | L19: =IF(K19="","",IF(K19>=80,"A",IF(K19>=65,"B",IF(K19>=50,"C",IF(K19>=35,"D",IF(K19<=34,"E")))))) -> A | M19: =IFERROR(IF(N10="","",VLOOKUP(N10,'PATRAK-C'!$A$8:$AQ$67,35,0)),"") -> 182 | N19: =IFERROR(IF(N10="","",VLOOKUP(N10,'PATRAK-C'!$A$8:$AQ$67,36,0)),"") -> A
A20: 5 | B20: વ્યક્તિત્વ વિકાસ | C20: 200 માંથી | F20: =IF(N10="","",LOOKUP(N10,'SEM1 PATRAK-B'!A6:A65,'SEM1 PATRAK-B'!AQ6:AQ65)) -> 172 | G20: =IF(F20="","",IF(F20>=160,"A",IF(F20>=130,"B",IF(F20>=100,"C",IF(F20>=70,"D",IF(F20<=69,"E")))))) -> A | H20: 200 માંથી | K20: =IF(N10="","",LOOKUP(N10,'SEM2 PATRAK-B'!A6:A65,'SEM2 PATRAK-B'!AQ6:AQ65)) -> 158 | L20: =IF(K20="","",IF(K20>=160,"A",IF(K20>=130,"B",IF(K20>=100,"C",IF(K20>=70,"D",IF(K20<=69,"E")))))) -> B | M20: =IFERROR(IF(N10="","",VLOOKUP(N10,'PATRAK-C'!$A$8:$AQ$67,37,0)),"") -> 165 | N20: =IFERROR(IF(N10="","",VLOOKUP(N10,'PATRAK-C'!$A$8:$AQ$67,38,0)),"") -> A
A21: મેળવેલ એકંદર કુલ | C21: 600 માંથી | F21: =IF(N10="","",SUM(F16:F20)) -> 511 | G21: =IF(F21="","",IF(F21>=480,"A",IF(F21>=390,"B",IF(F21>=300,"C",IF(F21>=210,"D",IF(F21<=209,"E")))))) -> A | H21: 600 માંથી | K21: =IF(N10="","",SUM(K16:K20)) -> 506 | L21: =IF(K21="","",IF(K21>=480,"A",IF(K21>=390,"B",IF(K21>=300,"C",IF(K21>=210,"D",IF(K21<=209,"E")))))) -> A | M21: =IFERROR(IF(N10="","",VLOOKUP(N10,'PATRAK-C'!$A$8:$AQ$67,39,0)),"") -> 852 | N21: =IFERROR(IF(N10="","",VLOOKUP(N10,'PATRAK-C'!$A$8:$AQ$67,40,0)),"") -> A
B23: મેળવેલ ટકા :- | C23: =IFERROR(IF(N10="","",VLOOKUP(N10,'PATRAK-C'!$A$8:$AQ$67,42,0)),"") -> 0.852 | F23: પાસ નંબર :- | H23: =IFERROR(IF(N10="","",VLOOKUP(N10,'PATRAK-C'!$A$8:$AQ$67,43,0)),"") -> 1 | K23: પરિણામ :- | M23: =IF(AND(Q4="હા",C23>20%),"પાસ",IF(N10="","",IF(COUNTIF(N16:N20,"E")>2,"વર્ગ બઢતી","પાસ"))) -> પાસ
B25: સ્થળ :- | C25: =IF('Data Entry'!D2="","",'Data Entry'!D2) -> કુવાદરા | F25: પરિણામ ની તારીખ :- | H25: =IF('Data Entry'!B4="","",'Data Entry'!B4) -> 45447 | K25: હાજરીના દિવસ :- | M25: =IFERROR(IF(N10="","",VLOOKUP(N10,'PATRAK-C'!$A$8:$AQ$67,41,0)),"") -> 200 | N25: ="/"&'Attandance Day'!$C$2 -> /233
B27: =" નોંધ :- નવા શૈક્ષણિક વર્ષમાં શાળા તારીખ :-"&'Data Entry'!Q2&" અને સમય :-"&'Data Entry'!T2&" વાગે ઉઘડશે." -> નોંધ :- નવા શૈક્ષણિક વર્ષમાં શાળા તારીખ :-09-06-2025 અને સમય :-07:00 AM વાગે ઉઘડશે.
B32: વાલીની સહી | F32: વર્ગ શિક્ષક ની સહી | K32: આચાર્ય ની સહી

Sheet School Grade
B3: =IF('Data Entry'!B2="","",'Data Entry'!B2) -> કુવાદરા પ્રાથમિક શાળા
B5: શાળાકીય ગ્રેડ ( સેમેસ્ટર - 1 )
B7: જાતિ | C7: રજીસ્ટર સખ્યા | E7: A | G7: B | I7: C | K7: D | M7: E
C8: કુમાર | D8: કન્યા | E8: કુમાર | F8: કન્યા | G8: કુમાર | H8: કન્યા | I8: કુમાર | J8: કન્યા | K8: કુમાર | L8: કન્યા | M8: કુમાર | N8: કન્યા
B9: SC | C9: ='Title-C'!AJ35 -> 0 | D9: ='Title-C'!AK35 -> 0 | E9: ='Title-C'!AL35 -> 0 | F9: ='Title-C'!AM35 -> 0 | G9: ='Title-C'!AN35 -> 0 | H9: ='Title-C'!AO35 -> 0 | I9: ='Title-C'!AP35 -> 0 | J9: ='Title-C'!AQ35 -> 0 | ... N9: ='Title-C'!AU35 -> 0
B10: ST | C10: ='Title-C'!AJ36 -> 0 | D10: ='Title-C'!AK36 -> 0 | E10: ='Title-C'!AL36 -> 0 | F10: ='Title-C'!AM36 -> 0 | G10: ='Title-C'!AN36 -> 0 | H10: ='Title-C'!AO36 -> 0 | I10: ='Title-C'!AP36 -> 0 | J10: ='Title-C'!AQ36 -> 0 | ... N10: ='Title-C'!AU36 -> 0
B11: OBC | C11: ='Title-C'!AJ37 -> 0 | D11: ='Title-C'!AK37 -> 0 | E11: ='Title-C'!AL37 -> 0 | F11: ='Title-C'!AM37 -> 0 | G11: ='Title-C'!AN37 -> 0 | H11: ='Title-C'!AO37 -> 0 | I11: ='Title-C'!AP37 -> 0 | J11: ='Title-C'!AQ37 -> 0 | ... N11: ='Title-C'!AU37 -> 0
B12: GEN | C12: ='Title-C'!AJ38 -> 1 | D12: ='Title-C'!AK38 -> 0 | E12: ='Title-C'!AL38 -> 1 | F12: ='Title-C'!AM38 -> 0 | G12: ='Title-C'!AN38 -> 0 | H12: ='Title-C'!AO38 -> 0 | I12: ='Title-C'!AP38 -> 0 | J12: ='Title-C'!AQ38 -> 0 | ... N12: ='Title-C'!AU38 -> 0
B14: શાળાકીય ગ્રેડ ( સેમેસ્ટર - 2 )
B16: જાતિ | C16: રજીસ્ટર સખ્યા | E16: A | G16: B | I16: C | K16: D | M16: E
C17: કુમાર | D17: કન્યા | E17: કુમાર | F17: કન્યા | G17: કુમાર | H17: કન્યા | I17: કુમાર | J17: કન્યા | K17: કુમાર | L17: કન્યા | M17: કુમાર | N17: કન્યા
B18: SC | C18: ='Title-C'!AJ39 -> 0 | D18: ='Title-C'!AK39 -> 0 | E18: ='Title-C'!AL39 -> 0 | F18: ='Title-C'!AM39 -> 0 | G18: ='Title-C'!AN39 -> 0 | H18: ='Title-C'!AO39 -> 0 | I18: ='Title-C'!AP39 -> 0 | J18: ='Title-C'!AQ39 -> 0 | ... N18: ='Title-C'!AU39 -> 0
B19: ST | C19: ='Title-C'!AJ40 -> 0 | D19: ='Title-C'!AK40 -> 0 | E19: ='Title-C'!AL40 -> 0 | F19: ='Title-C'!AM40 -> 0 | G19: ='Title-C'!AN40 -> 0 | H19: ='Title-C'!AO40 -> 0 | I19: ='Title-C'!AP40 -> 0 | J19: ='Title-C'!AQ40 -> 0 | ... N19: ='Title-C'!AU40 -> 0
B20: OBC | C20: ='Title-C'!AJ41 -> 0 | D20: ='Title-C'!AK41 -> 0 | E20: ='Title-C'!AL41 -> 0 | F20: ='Title-C'!AM41 -> 0 | G20: ='Title-C'!AN41 -> 0 | H20: ='Title-C'!AO41 -> 0 | I20: ='Title-C'!AP41 -> 0 | J20: ='Title-C'!AQ41 -> 0 | ... N20: ='Title-C'!AU41 -> 0
B21: GEN | C21: ='Title-C'!AJ42 -> 1 | D21: ='Title-C'!AK42 -> 0 | E21: ='Title-C'!AL42 -> 1 | F21: ='Title-C'!AM42 -> 0 | G21: ='Title-C'!AN42 -> 0 | H21: ='Title-C'!AO42 -> 0 | I21: ='Title-C'!AP42 -> 0 | J21: ='Title-C'!AQ42 -> 0 | ... N21: ='Title-C'!AU42 -> 0

Sheet Subject Grade
B2: ='Data Entry'!B2 -> કુવાદરા પ્રાથમિક શાળા
B3: =" તા.:- "&'Data Entry'!B3&" જી. :- "&'Data Entry'!D3 -> તા.:- માણસા જી. :- ગાંધીનગર
B4: વિષય વાઈઝ ગ્રેડ ( સત્ર - 1 )
B6: ગ્રેડ | C6: ગુજરાતી | D6: ગણિત | E6: અંગેજી | F6: સૌની આસપાસ | G6: વ્યક્તિત્વ વિકાસ | H6: સત્રાંત કુલ
B7: A | C7: =COUNTIF('SEM1 PATRAK-C'!$I$8:$I$67,'Subject Grade'!$B7) -> 1 | D7: =COUNTIF('SEM1 PATRAK-C'!$N$8:$N$67,'Subject Grade'!$B7) -> 1 | E7: =COUNTIF('SEM1 PATRAK-C'!$S$8:$S$67,'Subject Grade'!$B7) -> 1 | F7: =COUNTIF('SEM1 PATRAK-C'!$X$8:$X$67,'Subject Grade'!$B7) -> 1 | G7: =COUNTIF('SEM1 PATRAK-C'!$Z$8:$Z$67,'Subject Grade'!$B7) -> 1 | H7: =COUNTIF('SEM1 PATRAK-C'!$AB$8:$AB$67,'Subject Grade'!$B7) -> 1
B8: B | C8: =COUNTIF('SEM1 PATRAK-C'!$I$8:$I$67,'Subject Grade'!$B8) -> 0 | D8: =COUNTIF('SEM1 PATRAK-C'!$N$8:$N$67,'Subject Grade'!$B8) -> 0 | E8: =COUNTIF('SEM1 PATRAK-C'!$S$8:$S$67,'Subject Grade'!$B8) -> 0 | F8: =COUNTIF('SEM1 PATRAK-C'!$X$8:$X$67,'Subject Grade'!$B8) -> 0 | G8: =COUNTIF('SEM1 PATRAK-C'!$Z$8:$Z$67,'Subject Grade'!$B8) -> 0 | H8: =COUNTIF('SEM1 PATRAK-C'!$AB$8:$AB$67,'Subject Grade'!$B8) -> 0
B9: C | C9: =COUNTIF('SEM1 PATRAK-C'!$I$8:$I$67,'Subject Grade'!$B9) -> 0 | D9: =COUNTIF('SEM1 PATRAK-C'!$N$8:$N$67,'Subject Grade'!$B9) -> 0 | E9: =COUNTIF('SEM1 PATRAK-C'!$S$8:$S$67,'Subject Grade'!$B9) -> 0 | F9: =COUNTIF('SEM1 PATRAK-C'!$X$8:$X$67,'Subject Grade'!$B9) -> 0 | G9: =COUNTIF('SEM1 PATRAK-C'!$Z$8:$Z$67,'Subject Grade'!$B9) -> 0 | H9: =COUNTIF('SEM1 PATRAK-C'!$AB$8:$AB$67,'Subject Grade'!$B9) -> 0
B10: D | C10: =COUNTIF('SEM1 PATRAK-C'!$I$8:$I$67,'Subject Grade'!$B10) -> 0 | D10: =COUNTIF('SEM1 PATRAK-C'!$N$8:$N$67,'Subject Grade'!$B10) -> 0 | E10: =COUNTIF('SEM1 PATRAK-C'!$S$8:$S$67,'Subject Grade'!$B10) -> 0 | F10: =COUNTIF('SEM1 PATRAK-C'!$X$8:$X$67,'Subject Grade'!$B10) -> 0 | G10: =COUNTIF('SEM1 PATRAK-C'!$Z$8:$Z$67,'Subject Grade'!$B10) -> 0 | H10: =COUNTIF('SEM1 PATRAK-C'!$AB$8:$AB$67,'Subject Grade'!$B10) -> 0
B11: E | C11: =COUNTIF('SEM1 PATRAK-C'!$I$8:$I$67,'Subject Grade'!$B11) -> 59 | D11: =COUNTIF('SEM1 PATRAK-C'!$N$8:$N$67,'Subject Grade'!$B11) -> 59 | E11: =COUNTIF('SEM1 PATRAK-C'!$S$8:$S$67,'Subject Grade'!$B11) -> 59 | F11: =COUNTIF('SEM1 PATRAK-C'!$X$8:$X$67,'Subject Grade'!$B11) -> 59 | G11: =COUNTIF('SEM1 PATRAK-C'!$Z$8:$Z$67,'Subject Grade'!$B11) -> 0 | H11: =COUNTIF('SEM1 PATRAK-C'!$AB$8:$AB$67,'Subject Grade'!$B11) -> 0
B15: વિષય વાઈઝ ગ્રેડ ( સત્ર - 2 )
B17: ગ્રેડ | C17: ગુજરાતી | D17: ગણિત | E17: અંગેજી | F17: સૌની આસપાસ | G17: વ્યક્તિત્વ વિકાસ | H17: સત્રાંત કુલ
B18: A | C18: =COUNTIF('PATRAK-C'!$L$8:$L$67,'Subject Grade'!$B18) -> 1 | D18: =COUNTIF('PATRAK-C'!$T$8:$T$67,'Subject Grade'!$B18) -> 1 | E18: =COUNTIF('PATRAK-C'!$AB$8:$AB$67,'Subject Grade'!$B18) -> 1 | F18: =COUNTIF('PATRAK-C'!$AJ$8:$AJ$67,'Subject Grade'!$B18) -> 1 | G18: =COUNTIF('PATRAK-C'!$AL$8:$AL$67,'Subject Grade'!$B18) -> 1 | H18: =COUNTIF('PATRAK-C'!$AN$8:$AN$67,'Subject Grade'!$B18) -> 1
B19: B | C19: =COUNTIF('PATRAK-C'!$L$8:$L$67,'Subject Grade'!$B19) -> 0 | D19: =COUNTIF('PATRAK-C'!$T$8:$T$67,'Subject Grade'!$B19) -> 0 | E19: =COUNTIF('PATRAK-C'!$AB$8:$AB$67,'Subject Grade'!$B19) -> 0 | F19: =COUNTIF('PATRAK-C'!$AJ$8:$AJ$67,'Subject Grade'!$B19) -> 0 | G19: =COUNTIF('PATRAK-C'!$AL$8:$AL$67,'Subject Grade'!$B19) -> 0 | H19: =COUNTIF('PATRAK-C'!$AN$8:$AN$67,'Subject Grade'!$B19) -> 0
B20: C | C20: =COUNTIF('PATRAK-C'!$L$8:$L$67,'Subject Grade'!$B20) -> 0 | D20: =COUNTIF('PATRAK-C'!$T$8:$T$67,'Subject Grade'!$B20) -> 0 | E20: =COUNTIF('PATRAK-C'!$AB$8:$AB$67,'Subject Grade'!$B20) -> 0 | F20: =COUNTIF('PATRAK-C'!$AJ$8:$AJ$67,'Subject Grade'!$B20) -> 0 | G20: =COUNTIF('PATRAK-C'!$AL$8:$AL$67,'Subject Grade'!$B20) -> 0 | H20: =COUNTIF('PATRAK-C'!$AN$8:$AN$67,'Subject Grade'!$B20) -> 0
B21: D | C21: =COUNTIF('PATRAK-C'!$L$8:$L$67,'Subject Grade'!$B21) -> 0 | D21: =COUNTIF('PATRAK-C'!$T$8:$T$67,'Subject Grade'!$B21) -> 0 | E21: =COUNTIF('PATRAK-C'!$AB$8:$AB$67,'Subject Grade'!$B21) -> 0 | F21: =COUNTIF('PATRAK-C'!$AJ$8:$AJ$67,'Subject Grade'!$B21) -> 0 | G21: =COUNTIF('PATRAK-C'!$AL$8:$AL$67,'Subject Grade'!$B21) -> 0 | H21: =COUNTIF('PATRAK-C'!$AN$8:$AN$67,'Subject Grade'!$B21) -> 0
B22: E | C22: =COUNTIF('PATRAK-C'!$L$8:$L$67,'Subject Grade'!$B22) -> 59 | D22: =COUNTIF('PATRAK-C'!$T$8:$T$67,'Subject Grade'!$B22) -> 59 | E22: =COUNTIF('PATRAK-C'!$AB$8:$AB$67,'Subject Grade'!$B22) -> 59 | F22: =COUNTIF('PATRAK-C'!$AJ$8:$AJ$67,'Subject Grade'!$B22) -> 59 | G22: =COUNTIF('PATRAK-C'!$AL$8:$AL$67,'Subject Grade'!$B22) -> 0 | H22: =COUNTIF('PATRAK-C'!$AN$8:$AN$67,'Subject Grade'!$B22) -> 0

Sheet Pass No
B2: =IF('Data Entry'!B2="","",'Data Entry'!B2) -> કુવાદરા પ્રાથમિક શાળા
B3: ="ધોરણ :- "&'Data Entry'!J2&'Data Entry'!J3 -> ધોરણ :- 3અ
B4: પ્રથમ ત્રણ નંબર મેળવનારની યાદી ( સેમ - 1 )
B5: નંબર | C5: વિઘાર્થીનું નામ | D5: ગુણ | E5: ગ્રેડ | F5: ટકા
B6: 1 | C6: =IFERROR(VLOOKUP(B6,$M$53:$Q$112,2,0),"") -> પટેલ બ્રિજેશકુમાર કાળાભાઈ | D6: =IFERROR(VLOOKUP(B6,$M$53:$Q$112,3,0),"") -> 511 | E6: =IFERROR(VLOOKUP(B6,$M$53:$Q$112,4,0),"") -> A | F6: =IFERROR(VLOOKUP(B6,$M$53:$Q$112,5,0),"") -> 0.85166667
B7: 2 | C7: =IFERROR(VLOOKUP(B7,$M$53:$Q$112,2,0),"") | D7: =IFERROR(VLOOKUP(B7,$M$53:$Q$112,3,0),"") | E7: =IFERROR(VLOOKUP(B7,$M$53:$Q$112,4,0),"") | F7: =IFERROR(VLOOKUP(B7,$M$53:$Q$112,5,0),"")
B8: 3 | C8: =IFERROR(VLOOKUP(B8,$M$53:$Q$112,2,0),"") | D8: =IFERROR(VLOOKUP(B8,$M$53:$Q$112,3,0),"") | E8: =IFERROR(VLOOKUP(B8,$M$53:$Q$112,4,0),"") | F8: =IFERROR(VLOOKUP(B8,$M$53:$Q$112,5,0),"")
B12: પ્રથમ ત્રણ નંબર મેળવનારની યાદી ( સેમ - 2 )
B13: નંબર | C13: વિઘાર્થીનું નામ | D13: ગુણ | E13: ગ્રેડ | F13: ટકા
B14: 1 | C14: =IFERROR(VLOOKUP(B14,$S$53:$W$112,2,0),"") -> પટેલ બ્રિજેશકુમાર કાળાભાઈ | D14: =IFERROR(VLOOKUP(B14,$S$53:$W$112,3,0),"") -> 852 | E14: =IFERROR(VLOOKUP(B14,$S$53:$W$112,4,0),"") -> A | F14: =IFERROR(VLOOKUP(B14,$S$53:$W$112,5,0),"") -> 0.852
B15: 2 | C15: =IFERROR(VLOOKUP(B15,$S$53:$W$112,2,0),"") | D15: =IFERROR(VLOOKUP(B15,$S$53:$W$112,3,0),"") | E15: =IFERROR(VLOOKUP(B15,$S$53:$W$112,4,0),"") | F15: =IFERROR(VLOOKUP(B15,$S$53:$W$112,5,0),"")
B16: 3 | C16: =IFERROR(VLOOKUP(B16,$S$53:$W$112,2,0),"") | D16: =IFERROR(VLOOKUP(B16,$S$53:$W$112,3,0),"") | E16: =IFERROR(VLOOKUP(B16,$S$53:$W$112,4,0),"") | F16: =IFERROR(VLOOKUP(B16,$S$53:$W$112,5,0),"")
M52: નંબર | N52: વિઘાર્થીનું નામ | O52: ગુણ | P52: ગ્રેડ | Q52: ટકા | S52: નંબર | T52: વિઘાર્થીનું નામ | U52: ગુણ | V52: ગ્રેડ | W52: ટકા
M53: ='SEM1 PATRAK-C'!AE8 -> 1 | N53: ='SEM1 PATRAK-C'!B8 -> પટેલ બ્રિજેશકુમાર કાળાભાઈ | O53: ='SEM1 PATRAK-C'!AA8 -> 511 | P53: ='SEM1 PATRAK-C'!AB8 -> A | Q53: ='SEM1 PATRAK-C'!AD8 -> 0.85166667 | S53: ='PATRAK-C'!AQ8 -> 1 | T53: ='PATRAK-C'!B8 -> પટેલ બ્રિજેશકુમાર કાળાભાઈ | U53: ='PATRAK-C'!AM8 -> 852 | V53: ='PATRAK-C'!AN8 -> A | W53: ='PATRAK-C'!AP8 -> 0.852
M54: ='SEM1 PATRAK-C'!AE9 | N54: ='SEM1 PATRAK-C'!B9 | O54: ='SEM1 PATRAK-C'!AA9 | P54: ='SEM1 PATRAK-C'!AB9 | Q54: ='SEM1 PATRAK-C'!AD9 | S54: ='PATRAK-C'!AQ9 | T54: ='PATRAK-C'!B9 | U54: ='PATRAK-C'!AM9 | V54: ='PATRAK-C'!AN9 | W54: ='PATRAK-C'!AP9
M55: ='SEM1 PATRAK-C'!AE10 | N55: ='SEM1 PATRAK-C'!B10 | O55: ='SEM1 PATRAK-C'!AA10 | P55: ='SEM1 PATRAK-C'!AB10 | Q55: ='SEM1 PATRAK-C'!AD10 | S55: ='PATRAK-C'!AQ10 | T55: ='PATRAK-C'!B10 | U55: ='PATRAK-C'!AM10 | V55: ='PATRAK-C'!AN10 | W55: ='PATRAK-C'!AP10
M56: ='SEM1 PATRAK-C'!AE11 | N56: ='SEM1 PATRAK-C'!B11 | O56: ='SEM1 PATRAK-C'!AA11 | P56: ='SEM1 PATRAK-C'!AB11 | Q56: ='SEM1 PATRAK-C'!AD11 | S56: ='PATRAK-C'!AQ11 | T56: ='PATRAK-C'!B11 | U56: ='PATRAK-C'!AM11 | V56: ='PATRAK-C'!AN11 | W56: ='PATRAK-C'!AP11
M57: ='SEM1 PATRAK-C'!AE12 | N57: ='SEM1 PATRAK-C'!B12 | O57: ='SEM1 PATRAK-C'!AA12 | P57: ='SEM1 PATRAK-C'!AB12 | Q57: ='SEM1 PATRAK-C'!AD12 | S57: ='PATRAK-C'!AQ12 | T57: ='PATRAK-C'!B12 | U57: ='PATRAK-C'!AM12 | V57: ='PATRAK-C'!AN12 | W57: ='PATRAK-C'!AP12
M58: ='SEM1 PATRAK-C'!AE13 | N58: ='SEM1 PATRAK-C'!B13 | O58: ='SEM1 PATRAK-C'!AA13 | P58: ='SEM1 PATRAK-C'!AB13 | Q58: ='SEM1 PATRAK-C'!AD13 | S58: ='PATRAK-C'!AQ13 | T58: ='PATRAK-C'!B13 | U58: ='PATRAK-C'!AM13 | V58: ='PATRAK-C'!AN13 | W58: ='PATRAK-C'!AP13
M59: ='SEM1 PATRAK-C'!AE14 | N59: ='SEM1 PATRAK-C'!B14 | O59: ='SEM1 PATRAK-C'!AA14 | P59: ='SEM1 PATRAK-C'!AB14 | Q59: ='SEM1 PATRAK-C'!AD14 | S59: ='PATRAK-C'!AQ14 | T59: ='PATRAK-C'!B14 | U59: ='PATRAK-C'!AM14 | V59: ='PATRAK-C'!AN14 | W59: ='PATRAK-C'!AP14
M60: ='SEM1 PATRAK-C'!AE15 | N60: ='SEM1 PATRAK-C'!B15 | O60: ='SEM1 PATRAK-C'!AA15 | P60: ='SEM1 PATRAK-C'!AB15 | Q60: ='SEM1 PATRAK-C'!AD15 | S60: ='PATRAK-C'!AQ15 | T60: ='PATRAK-C'!B15 | U60: ='PATRAK-C'!AM15 | V60: ='PATRAK-C'!AN15 | W60: ='PATRAK-C'!AP15
M61: ='SEM1 PATRAK-C'!AE16 | N61: ='SEM1 PATRAK-C'!B16 | O61: ='SEM1 PATRAK-C'!AA16 | P61: ='SEM1 PATRAK-C'!AB16 | Q61: ='SEM1 PATRAK-C'!AD16 | S61: ='PATRAK-C'!AQ16 | T61: ='PATRAK-C'!B16 | U61: ='PATRAK-C'!AM16 | V61: ='PATRAK-C'!AN16 | W61: ='PATRAK-C'!AP16
M62: ='SEM1 PATRAK-C'!AE17 | N62: ='SEM1 PATRAK-C'!B17 | O62: ='SEM1 PATRAK-C'!AA17 | P62: ='SEM1 PATRAK-C'!AB17 | Q62: ='SEM1 PATRAK-C'!AD17 | S62: ='PATRAK-C'!AQ17 | T62: ='PATRAK-C'!B17 | U62: ='PATRAK-C'!AM17 | V62: ='PATRAK-C'!AN17 | W62: ='PATRAK-C'!AP17
M63: ='SEM1 PATRAK-C'!AE18 | N63: ='SEM1 PATRAK-C'!B18 | O63: ='SEM1 PATRAK-C'!AA18 | P63: ='SEM1 PATRAK-C'!AB18 | Q63: ='SEM1 PATRAK-C'!AD18 | S63: ='PATRAK-C'!AQ18 | T63: ='PATRAK-C'!B18 | U63: ='PATRAK-C'!AM18 | V63: ='PATRAK-C'!AN18 | W63: ='PATRAK-C'!AP18
M64: ='SEM1 PATRAK-C'!AE19 | N64: ='SEM1 PATRAK-C'!B19 | O64: ='SEM1 PATRAK-C'!AA19 | P64: ='SEM1 PATRAK-C'!AB19 | Q64: ='SEM1 PATRAK-C'!AD19 | S64: ='PATRAK-C'!AQ19 | T64: ='PATRAK-C'!B19 | U64: ='PATRAK-C'!AM19 | V64: ='PATRAK-C'!AN19 | W64: ='PATRAK-C'!AP19
... M112: ='SEM1 PATRAK-C'!AE67 | N112: ='SEM1 PATRAK-C'!B67 | O112: ='SEM1 PATRAK-C'!AA67 | P112: ='SEM1 PATRAK-C'!AB67 | Q112: ='SEM1 PATRAK-C'!AD67 | S112: ='PATRAK-C'!AQ67 | T112: ='PATRAK-C'!B67 | U112: ='PATRAK-C'!AM67 | V112: ='PATRAK-C'!AN67 | W112: ='PATRAK-C'!AP67

Sheet Action Plan
B2: =IF('Data Entry'!B2="","",'Data Entry'!B2) -> કુવાદરા પ્રાથમિક શાળા
B3: લેખિત કસોટીનું વિષયવાર ગુણ વર્ગીકરણ
B5: વિષય | C5: સેમેસ્ટર : ૧
C6: 40% થી ઓછા ગુણ મેળવનારની સંખ્યા | D6: 40% થી ઓછા ગુણ મેળવનારના ટકા | E6: 40% થી 80% ગુણ મેળવનારની સંખ્યા | F6: 40% થી 80% ગુણ મેળવનારના ટકા | G6: 80% થી ઉ૫ર ગુણ મેળવનારની સંખ્યા | H6: 80% થી ઉ૫ર ગુણ મેળવનારના ટકા
B7: ગુજરાતી | C7: =AN43 -> 59 | D7: =C7/'Data Entry'!$J$4 -> 0.98333333 | E7: =AO43 -> 0 | F7: =E7/'Data Entry'!$J$4 -> 0 | G7: =AP43 -> 1 | H7: =G7/'Data Entry'!$J$4 -> 0.016666667
B8: ગણિત | C8: =AN44 -> 59 | D8: =C8/'Data Entry'!$J$4 -> 0.98333333 | E8: =AO44 -> 0 | F8: =E8/'Data Entry'!$J$4 -> 0 | G8: =AP44 -> 1 | H8: =G8/'Data Entry'!$J$4 -> 0.016666667
B9: અંગ્રેજી | C9: =AN46 -> 59 | D9: =C9/'Data Entry'!$J$4 -> 0.98333333 | E9: =AO46 -> 0 | F9: =E9/'Data Entry'!$J$4 -> 0 | G9: =AP46 -> 1 | H9: =G9/'Data Entry'!$J$4 -> 0.016666667
B10: સૌની આસપાસ | C10: =AN47 -> 59 | D10: =C10/'Data Entry'!$J$4 -> 0.98333333 | E10: =AO47 -> 0 | F10: =E10/'Data Entry'!$J$4 -> 0 | G10: =AP47 -> 1 | H10: =G10/'Data Entry'!$J$4 -> 0.016666667
B11: Total | C11: =ROUND(SUM(C7:C10)/4,0) -> 59 | D11: =C11/'Data Entry'!$J$4 -> 0.98333333 | E11: =ROUND(SUM(E7:E10)/4,0) -> 0 | F11: =E11/'Data Entry'!$J$4 -> 0 | G11: =ROUND(SUM(G7:G10)/4,0) -> 1 | H11: =G11/'Data Entry'!$J$4 -> 0.016666667
B14: વિષય | C14: સેમેસ્ટર : ૨
C15: 40% થી ઓછા ગુણ મેળવનારની સંખ્યા | D15: 40% થી ઓછા ગુણ મેળવનારના ટકા | E15: 40% થી 80% ગુણ મેળવનારની સંખ્યા | F15: 40% થી 80% ગુણ મેળવનારના ટકા | G15: 80% થી ઉ૫ર ગુણ મેળવનારની સંખ્યા | H15: 80% થી ઉ૫ર ગુણ મેળવનારના ટકા
B16: ગુજરાતી | C16: =AQ43 -> 59 | D16: =C16/'Data Entry'!$J$4 -> 0.98333333 | E16: =AR43 -> 0 | F16: =E16/'Data Entry'!$J$4 -> 0 | G16: =AS43 -> 1 | H16: =G16/'Data Entry'!$J$4 -> 0.016666667
B17: ગણિત | C17: =AQ44 -> 59 | D17: =C17/'Data Entry'!$J$4 -> 0.98333333 | E17: =AR44 -> 0 | F17: =E17/'Data Entry'!$J$4 -> 0 | G17: =AS44 -> 1 | H17: =G17/'Data Entry'!$J$4 -> 0.016666667
B18: અંગ્રેજી | C18: =AQ46 -> 59 | D18: =C18/'Data Entry'!$J$4 -> 0.98333333 | E18: =AR46 -> 0 | F18: =E18/'Data Entry'!$J$4 -> 0 | G18: =AS46 -> 1 | H18: =G18/'Data Entry'!$J$4 -> 0.016666667
B19: વિજ્ઞાન | C19: =AQ47 -> 59 | D19: =C19/'Data Entry'!$J$4 -> 0.98333333 | E19: =AR47 -> 0 | F19: =E19/'Data Entry'!$J$4 -> 0 | G19: =AS47 -> 1 | H19: =G19/'Data Entry'!$J$4 -> 0.016666667
B20: Total | C20: =ROUND(SUM(C16:C19)/4,0) -> 59 | D20: =C20/'Data Entry'!$J$4 -> 0.98333333 | E20: =ROUND(SUM(E16:E19)/4,0) -> 0 | F20: =E20/'Data Entry'!$J$4 -> 0 | G20: =ROUND(SUM(G16:G19)/4,0) -> 1 | H20: =G20/'Data Entry'!$J$4 -> 0.016666667
O41: SEM1 | S41: SEM2 | W41: <40 | AE41: >80 | AN41: SEM1 | AQ41: SEM2
O42: ગુજરાતી | P42: ગણિત | Q42: અંગ્રેજી | R42: સૌની આસપાસ | S42: ગુજરાતી | T42: ગણિત | U42: અંગ્રેજી | V42: સૌની આસપાસ | W42: ગુજરાતી | X42: ગણિત | Y42: અંગ્રેજી | Z42: સૌની આસપાસ | AA42: ગુજરાતી | AB42: ગણિત | AC42: અંગ્રેજી | AD42: સૌની આસપાસ | AE42: ગુજરાતી | AF42: ગણિત | AG42: અંગ્રેજી | AH42: સૌની આસપાસ | AI42: ગુજરાતી | AJ42: ગણિત | AK42: અંગ્રેજી | AL42: સૌની આસપાસ | AN42: 40% થી ઓછા ગુણ મેળવનારની સંખ્યા | AO42: 40% થી 80% ગુણ મેળવનારની સંખ્યા | AP42: 80% થી ઉ૫ર ગુણ મેળવનારની સંખ્યા | AQ42: 40% થી ઓછા ગુણ મેળવનારની સંખ્યા | AR42: 40% થી 80% ગુણ મેળવનારની સંખ્યા | AS42: 80% થી ઉ૫ર ગુણ મેળવનારની સંખ્યા
N43: ='Data Entry'!A8 -> 1 | O43: ='SEM1 PATRAK-C'!H8 -> 86 | P43: ='SEM1 PATRAK-C'!M8 -> 80 | Q43: ='SEM1 PATRAK-C'!R8 -> 89 | R43: ='SEM1 PATRAK-C'!W8 -> 84 | S43: ='PATRAK-C'!K8 -> 161 | T43: ='PATRAK-C'!S8 -> 172 | U43: ='PATRAK-C'!AA8 -> 172 | V43: ='PATRAK-C'!AI8 -> 182 | W43: =IF($N43="","",IF(O43<=40,"1","")) | X43: =IF($N43="","",IF(P43<=40,"1","")) | Y43: =IF($N43="","",IF(Q43<=40,"1","")) | Z43: =IF($N43="","",IF(R43<=40,"1","")) | AA43: =IF($N43="","",IF(S43<=80,"1","")) | AB43: =IF($N43="","",IF(T43<=80,"1","")) | AC43: =IF($N43="","",IF(U43<=80,"1","")) | AD43: =IF($N43="","",IF(V43<=80,"1","")) | AE43: =IF($N43="","",IF(O43>=80,"1","")) -> 1 | AF43: =IF($N43="","",IF(P43>=80,"1","")) -> 1 | AG43: =IF($N43="","",IF(Q43>=80,"1","")) -> 1 | AH43: =IF($N43="","",IF(R43>=80,"1","")) -> 1 | AI43: =IF($N43="","",IF(S43>=160,"1","")) -> 1 | AJ43: =IF($N43="","",IF(T43>=160,"1","")) -> 1 | AK43: =IF($N43="","",IF(U43>=160,"1","")) -> 1 | AL43: =IF($N43="","",IF(V43>=160,"1","")) -> 1 | AM43: ગુજરાતી | AN43: =COUNTIF(W43:W102,1) -> 59 | AO43: ='Data Entry'!$J$4-(AN43+AP43) -> 0 | AP43: =COUNTIF(AE43:AE102,1) -> 1 | AQ43: =COUNTIF(AA43:AA102,1) -> 59 | AR43: ='Data Entry'!$J$4-(AQ43+AS43) -> 0 | AS43: =COUNTIF(AI43:AI102,1) -> 1
N44: ='Data Entry'!A9 -> 2 | O44: ='SEM1 PATRAK-C'!H9 -> 0 | P44: ='SEM1 PATRAK-C'!M9 -> 0 | Q44: ='SEM1 PATRAK-C'!R9 -> 0 | R44: ='SEM1 PATRAK-C'!W9 -> 0 | S44: ='PATRAK-C'!K9 -> 0 | T44: ='PATRAK-C'!S9 -> 0 | U44: ='PATRAK-C'!AA9 -> 0 | V44: ='PATRAK-C'!AI9 -> 0 | W44: =IF($N44="","",IF(O44<=40,"1","")) -> 1 | X44: =IF($N44="","",IF(P44<=40,"1","")) -> 1 | Y44: =IF($N44="","",IF(Q44<=40,"1","")) -> 1 | Z44: =IF($N44="","",IF(R44<=40,"1","")) -> 1 | AA44: =IF($N44="","",IF(S44<=80,"1","")) -> 1 | AB44: =IF($N44="","",IF(T44<=80,"1","")) -> 1 | AC44: =IF($N44="","",IF(U44<=80,"1","")) -> 1 | AD44: =IF($N44="","",IF(V44<=80,"1","")) -> 1 | AE44: =IF($N44="","",IF(O44>=80,"1","")) | AF44: =IF($N44="","",IF(P44>=80,"1","")) | AG44: =IF($N44="","",IF(Q44>=80,"1","")) | AH44: =IF($N44="","",IF(R44>=80,"1","")) | AI44: =IF($N44="","",IF(S44>=160,"1","")) | AJ44: =IF($N44="","",IF(T44>=160,"1","")) | AK44: =IF($N44="","",IF(U44>=160,"1","")) | AL44: =IF($N44="","",IF(V44>=160,"1","")) | AM44: ગણિત | AN44: =COUNTIF(X43:X102,1) -> 59 | AO44: ='Data Entry'!$J$4-(AN44+AP44) -> 0 | AP44: =COUNTIF(AF43:AF102,1) -> 1 | AQ44: =COUNTIF(AB43:AB102,1) -> 59 | AR44: ='Data Entry'!$J$4-(AQ44+AS44) -> 0 | AS44: =COUNTIF(AJ43:AJ102,1) -> 1
N45: ='Data Entry'!A10 -> 3 | O45: ='SEM1 PATRAK-C'!H10 -> 0 | P45: ='SEM1 PATRAK-C'!M10 -> 0 | Q45: ='SEM1 PATRAK-C'!R10 -> 0 | R45: ='SEM1 PATRAK-C'!W10 -> 0 | S45: ='PATRAK-C'!K10 -> 0 | T45: ='PATRAK-C'!S10 -> 0 | U45: ='PATRAK-C'!AA10 -> 0 | V45: ='PATRAK-C'!AI10 -> 0 | W45: =IF($N45="","",IF(O45<=40,"1","")) -> 1 | X45: =IF($N45="","",IF(P45<=40,"1","")) -> 1 | Y45: =IF($N45="","",IF(Q45<=40,"1","")) -> 1 | Z45: =IF($N45="","",IF(R45<=40,"1","")) -> 1 | AA45: =IF($N45="","",IF(S45<=80,"1","")) -> 1 | AB45: =IF($N45="","",IF(T45<=80,"1","")) -> 1 | AC45: =IF($N45="","",IF(U45<=80,"1","")) -> 1 | AD45: =IF($N45="","",IF(V45<=80,"1","")) -> 1 | AE45: =IF($N45="","",IF(O45>=80,"1","")) | AF45: =IF($N45="","",IF(P45>=80,"1","")) | AG45: =IF($N45="","",IF(Q45>=80,"1","")) | AH45: =IF($N45="","",IF(R45>=80,"1","")) | AI45: =IF($N45="","",IF(S45>=160,"1","")) | AJ45: =IF($N45="","",IF(T45>=160,"1","")) | AK45: =IF($N45="","",IF(U45>=160,"1","")) | AL45: =IF($N45="","",IF(V45>=160,"1","")) | AM45: હિન્દી
N46: ='Data Entry'!A11 -> 4 | O46: ='SEM1 PATRAK-C'!H11 -> 0 | P46: ='SEM1 PATRAK-C'!M11 -> 0 | Q46: ='SEM1 PATRAK-C'!R11 -> 0 | R46: ='SEM1 PATRAK-C'!W11 -> 0 | S46: ='PATRAK-C'!K11 -> 0 | T46: ='PATRAK-C'!S11 -> 0 | U46: ='PATRAK-C'!AA11 -> 0 | V46: ='PATRAK-C'!AI11 -> 0 | W46: =IF($N46="","",IF(O46<=40,"1","")) -> 1 | X46: =IF($N46="","",IF(P46<=40,"1","")) -> 1 | Y46: =IF($N46="","",IF(Q46<=40,"1","")) -> 1 | Z46: =IF($N46="","",IF(R46<=40,"1","")) -> 1 | AA46: =IF($N46="","",IF(S46<=80,"1","")) -> 1 | AB46: =IF($N46="","",IF(T46<=80,"1","")) -> 1 | AC46: =IF($N46="","",IF(U46<=80,"1","")) -> 1 | AD46: =IF($N46="","",IF(V46<=80,"1","")) -> 1 | AE46: =IF($N46="","",IF(O46>=80,"1","")) | AF46: =IF($N46="","",IF(P46>=80,"1","")) | AG46: =IF($N46="","",IF(Q46>=80,"1","")) | AH46: =IF($N46="","",IF(R46>=80,"1","")) | AI46: =IF($N46="","",IF(S46>=160,"1","")) | AJ46: =IF($N46="","",IF(T46>=160,"1","")) | AK46: =IF($N46="","",IF(U46>=160,"1","")) | AL46: =IF($N46="","",IF(V46>=160,"1","")) | AM46: અંગ્રેજી | AN46: =COUNTIF(Y43:Y102,1) -> 59 | AO46: ='Data Entry'!$J$4-(AN46+AP46) -> 0 | AP46: =COUNTIF(AG43:AG102,1) -> 1 | AQ46: =COUNTIF(AC43:AC102,1) -> 59 | AR46: ='Data Entry'!$J$4-(AQ46+AS46) -> 0 | AS46: =COUNTIF(AK43:AK102,1) -> 1
N47: ='Data Entry'!A12 -> 5 | O47: ='SEM1 PATRAK-C'!H12 -> 0 | P47: ='SEM1 PATRAK-C'!M12 -> 0 | Q47: ='SEM1 PATRAK-C'!R12 -> 0 | R47: ='SEM1 PATRAK-C'!W12 -> 0 | S47: ='PATRAK-C'!K12 -> 0 | T47: ='PATRAK-C'!S12 -> 0 | U47: ='PATRAK-C'!AA12 -> 0 | V47: ='PATRAK-C'!AI12 -> 0 | W47: =IF($N47="","",IF(O47<=40,"1","")) -> 1 | X47: =IF($N47="","",IF(P47<=40,"1","")) -> 1 | Y47: =IF($N47="","",IF(Q47<=40,"1","")) -> 1 | Z47: =IF($N47="","",IF(R47<=40,"1","")) -> 1 | AA47: =IF($N47="","",IF(S47<=80,"1","")) -> 1 | AB47: =IF($N47="","",IF(T47<=80,"1","")) -> 1 | AC47: =IF($N47="","",IF(U47<=80,"1","")) -> 1 | AD47: =IF($N47="","",IF(V47<=80,"1","")) -> 1 | AE47: =IF($N47="","",IF(O47>=80,"1","")) | AF47: =IF($N47="","",IF(P47>=80,"1","")) | AG47: =IF($N47="","",IF(Q47>=80,"1","")) | AH47: =IF($N47="","",IF(R47>=80,"1","")) | AI47: =IF($N47="","",IF(S47>=160,"1","")) | AJ47: =IF($N47="","",IF(T47>=160,"1","")) | AK47: =IF($N47="","",IF(U47>=160,"1","")) | AL47: =IF($N47="","",IF(V47>=160,"1","")) | AM47: સૌની આસપાસ | AN47: =COUNTIF(Z43:Z102,1) -> 59 | AO47: ='Data Entry'!$J$4-(AN47+AP47) -> 0 | AP47: =COUNTIF(AH43:AH102,1) -> 1 | AQ47: =COUNTIF(AD43:AD102,1) -> 59 | AR47: ='Data Entry'!$J$4-(AQ47+AS47) -> 0 | AS47: =COUNTIF(AL43:AL102,1) -> 1
N48: ='Data Entry'!A13 -> 6 | O48: ='SEM1 PATRAK-C'!H13 -> 0 | P48: ='SEM1 PATRAK-C'!M13 -> 0 | Q48: ='SEM1 PATRAK-C'!R13 -> 0 | R48: ='SEM1 PATRAK-C'!W13 -> 0 | S48: ='PATRAK-C'!K13 -> 0 | T48: ='PATRAK-C'!S13 -> 0 | U48: ='PATRAK-C'!AA13 -> 0 | V48: ='PATRAK-C'!AI13 -> 0 | W48: =IF($N48="","",IF(O48<=40,"1","")) -> 1 | X48: =IF($N48="","",IF(P48<=40,"1","")) -> 1 | Y48: =IF($N48="","",IF(Q48<=40,"1","")) -> 1 | Z48: =IF($N48="","",IF(R48<=40,"1","")) -> 1 | AA48: =IF($N48="","",IF(S48<=80,"1","")) -> 1 | AB48: =IF($N48="","",IF(T48<=80,"1","")) -> 1 | AC48: =IF($N48="","",IF(U48<=80,"1","")) -> 1 | AD48: =IF($N48="","",IF(V48<=80,"1","")) -> 1 | AE48: =IF($N48="","",IF(O48>=80,"1","")) | AF48: =IF($N48="","",IF(P48>=80,"1","")) | AG48: =IF($N48="","",IF(Q48>=80,"1","")) | AH48: =IF($N48="","",IF(R48>=80,"1","")) | AI48: =IF($N48="","",IF(S48>=160,"1","")) | AJ48: =IF($N48="","",IF(T48>=160,"1","")) | AK48: =IF($N48="","",IF(U48>=160,"1","")) | AL48: =IF($N48="","",IF(V48>=160,"1",""))
N49: ='Data Entry'!A14 -> 7 | O49: ='SEM1 PATRAK-C'!H14 -> 0 | P49: ='SEM1 PATRAK-C'!M14 -> 0 | Q49: ='SEM1 PATRAK-C'!R14 -> 0 | R49: ='SEM1 PATRAK-C'!W14 -> 0 | S49: ='PATRAK-C'!K14 -> 0 | T49: ='PATRAK-C'!S14 -> 0 | U49: ='PATRAK-C'!AA14 -> 0 | V49: ='PATRAK-C'!AI14 -> 0 | W49: =IF($N49="","",IF(O49<=40,"1","")) -> 1 | X49: =IF($N49="","",IF(P49<=40,"1","")) -> 1 | Y49: =IF($N49="","",IF(Q49<=40,"1","")) -> 1 | Z49: =IF($N49="","",IF(R49<=40,"1","")) -> 1 | AA49: =IF($N49="","",IF(S49<=80,"1","")) -> 1 | AB49: =IF($N49="","",IF(T49<=80,"1","")) -> 1 | AC49: =IF($N49="","",IF(U49<=80,"1","")) -> 1 | AD49: =IF($N49="","",IF(V49<=80,"1","")) -> 1 | AE49: =IF($N49="","",IF(O49>=80,"1","")) | AF49: =IF($N49="","",IF(P49>=80,"1","")) | AG49: =IF($N49="","",IF(Q49>=80,"1","")) | AH49: =IF($N49="","",IF(R49>=80,"1","")) | AI49: =IF($N49="","",IF(S49>=160,"1","")) | AJ49: =IF($N49="","",IF(T49>=160,"1","")) | AK49: =IF($N49="","",IF(U49>=160,"1","")) | AL49: =IF($N49="","",IF(V49>=160,"1",""))
N50: ='Data Entry'!A15 -> 8 | O50: ='SEM1 PATRAK-C'!H15 -> 0 | P50: ='SEM1 PATRAK-C'!M15 -> 0 | Q50: ='SEM1 PATRAK-C'!R15 -> 0 | R50: ='SEM1 PATRAK-C'!W15 -> 0 | S50: ='PATRAK-C'!K15 -> 0 | T50: ='PATRAK-C'!S15 -> 0 | U50: ='PATRAK-C'!AA15 -> 0 | V50: ='PATRAK-C'!AI15 -> 0 | W50: =IF($N50="","",IF(O50<=40,"1","")) -> 1 | X50: =IF($N50="","",IF(P50<=40,"1","")) -> 1 | Y50: =IF($N50="","",IF(Q50<=40,"1","")) -> 1 | Z50: =IF($N50="","",IF(R50<=40,"1","")) -> 1 | AA50: =IF($N50="","",IF(S50<=80,"1","")) -> 1 | AB50: =IF($N50="","",IF(T50<=80,"1","")) -> 1 | AC50: =IF($N50="","",IF(U50<=80,"1","")) -> 1 | AD50: =IF($N50="","",IF(V50<=80,"1","")) -> 1 | AE50: =IF($N50="","",IF(O50>=80,"1","")) | AF50: =IF($N50="","",IF(P50>=80,"1","")) | AG50: =IF($N50="","",IF(Q50>=80,"1","")) | AH50: =IF($N50="","",IF(R50>=80,"1","")) | AI50: =IF($N50="","",IF(S50>=160,"1","")) | AJ50: =IF($N50="","",IF(T50>=160,"1","")) | AK50: =IF($N50="","",IF(U50>=160,"1","")) | AL50: =IF($N50="","",IF(V50>=160,"1",""))
N51: ='Data Entry'!A16 -> 9 | O51: ='SEM1 PATRAK-C'!H16 -> 0 | P51: ='SEM1 PATRAK-C'!M16 -> 0 | Q51: ='SEM1 PATRAK-C'!R16 -> 0 | R51: ='SEM1 PATRAK-C'!W16 -> 0 | S51: ='PATRAK-C'!K16 -> 0 | T51: ='PATRAK-C'!S16 -> 0 | U51: ='PATRAK-C'!AA16 -> 0 | V51: ='PATRAK-C'!AI16 -> 0 | W51: =IF($N51="","",IF(O51<=40,"1","")) -> 1 | X51: =IF($N51="","",IF(P51<=40,"1","")) -> 1 | Y51: =IF($N51="","",IF(Q51<=40,"1","")) -> 1 | Z51: =IF($N51="","",IF(R51<=40,"1","")) -> 1 | AA51: =IF($N51="","",IF(S51<=80,"1","")) -> 1 | AB51: =IF($N51="","",IF(T51<=80,"1","")) -> 1 | AC51: =IF($N51="","",IF(U51<=80,"1","")) -> 1 | AD51: =IF($N51="","",IF(V51<=80,"1","")) -> 1 | AE51: =IF($N51="","",IF(O51>=80,"1","")) | AF51: =IF($N51="","",IF(P51>=80,"1","")) | AG51: =IF($N51="","",IF(Q51>=80,"1","")) | AH51: =IF($N51="","",IF(R51>=80,"1","")) | AI51: =IF($N51="","",IF(S51>=160,"1","")) | AJ51: =IF($N51="","",IF(T51>=160,"1","")) | AK51: =IF($N51="","",IF(U51>=160,"1","")) | AL51: =IF($N51="","",IF(V51>=160,"1",""))
N52: ='Data Entry'!A17 -> 10 | O52: ='SEM1 PATRAK-C'!H17 -> 0 | P52: ='SEM1 PATRAK-C'!M17 -> 0 | Q52: ='SEM1 PATRAK-C'!R17 -> 0 | R52: ='SEM1 PATRAK-C'!W17 -> 0 | S52: ='PATRAK-C'!K17 -> 0 | T52: ='PATRAK-C'!S17 -> 0 | U52: ='PATRAK-C'!AA17 -> 0 | V52: ='PATRAK-C'!AI17 -> 0 | W52: =IF($N52="","",IF(O52<=40,"1","")) -> 1 | X52: =IF($N52="","",IF(P52<=40,"1","")) -> 1 | Y52: =IF($N52="","",IF(Q52<=40,"1","")) -> 1 | Z52: =IF($N52="","",IF(R52<=40,"1","")) -> 1 | AA52: =IF($N52="","",IF(S52<=80,"1","")) -> 1 | AB52: =IF($N52="","",IF(T52<=80,"1","")) -> 1 | AC52: =IF($N52="","",IF(U52<=80,"1","")) -> 1 | AD52: =IF($N52="","",IF(V52<=80,"1","")) -> 1 | AE52: =IF($N52="","",IF(O52>=80,"1","")) | AF52: =IF($N52="","",IF(P52>=80,"1","")) | AG52: =IF($N52="","",IF(Q52>=80,"1","")) | AH52: =IF($N52="","",IF(R52>=80,"1","")) | AI52: =IF($N52="","",IF(S52>=160,"1","")) | AJ52: =IF($N52="","",IF(T52>=160,"1","")) | AK52: =IF($N52="","",IF(U52>=160,"1","")) | AL52: =IF($N52="","",IF(V52>=160,"1",""))
N53: ='Data Entry'!A18 -> 11 | O53: ='SEM1 PATRAK-C'!H18 -> 0 | P53: ='SEM1 PATRAK-C'!M18 -> 0 | Q53: ='SEM1 PATRAK-C'!R18 -> 0 | R53: ='SEM1 PATRAK-C'!W18 -> 0 | S53: ='PATRAK-C'!K18 -> 0 | T53: ='PATRAK-C'!S18 -> 0 | U53: ='PATRAK-C'!AA18 -> 0 | V53: ='PATRAK-C'!AI18 -> 0 | W53: =IF($N53="","",IF(O53<=40,"1","")) -> 1 | X53: =IF($N53="","",IF(P53<=40,"1","")) -> 1 | Y53: =IF($N53="","",IF(Q53<=40,"1","")) -> 1 | Z53: =IF($N53="","",IF(R53<=40,"1","")) -> 1 | AA53: =IF($N53="","",IF(S53<=80,"1","")) -> 1 | AB53: =IF($N53="","",IF(T53<=80,"1","")) -> 1 | AC53: =IF($N53="","",IF(U53<=80,"1","")) -> 1 | AD53: =IF($N53="","",IF(V53<=80,"1","")) -> 1 | AE53: =IF($N53="","",IF(O53>=80,"1","")) | AF53: =IF($N53="","",IF(P53>=80,"1","")) | AG53: =IF($N53="","",IF(Q53>=80,"1","")) | AH53: =IF($N53="","",IF(R53>=80,"1","")) | AI53: =IF($N53="","",IF(S53>=160,"1","")) | AJ53: =IF($N53="","",IF(T53>=160,"1","")) | AK53: =IF($N53="","",IF(U53>=160,"1","")) | AL53: =IF($N53="","",IF(V53>=160,"1",""))
N54: ='Data Entry'!A19 -> 12 | O54: ='SEM1 PATRAK-C'!H19 -> 0 | P54: ='SEM1 PATRAK-C'!M19 -> 0 | Q54: ='SEM1 PATRAK-C'!R19 -> 0 | R54: ='SEM1 PATRAK-C'!W19 -> 0 | S54: ='PATRAK-C'!K19 -> 0 | T54: ='PATRAK-C'!S19 -> 0 | U54: ='PATRAK-C'!AA19 -> 0 | V54: ='PATRAK-C'!AI19 -> 0 | W54: =IF($N54="","",IF(O54<=40,"1","")) -> 1 | X54: =IF($N54="","",IF(P54<=40,"1","")) -> 1 | Y54: =IF($N54="","",IF(Q54<=40,"1","")) -> 1 | Z54: =IF($N54="","",IF(R54<=40,"1","")) -> 1 | AA54: =IF($N54="","",IF(S54<=80,"1","")) -> 1 | AB54: =IF($N54="","",IF(T54<=80,"1","")) -> 1 | AC54: =IF($N54="","",IF(U54<=80,"1","")) -> 1 | AD54: =IF($N54="","",IF(V54<=80,"1","")) -> 1 | AE54: =IF($N54="","",IF(O54>=80,"1","")) | AF54: =IF($N54="","",IF(P54>=80,"1","")) | AG54: =IF($N54="","",IF(Q54>=80,"1","")) | AH54: =IF($N54="","",IF(R54>=80,"1","")) | AI54: =IF($N54="","",IF(S54>=160,"1","")) | AJ54: =IF($N54="","",IF(T54>=160,"1","")) | AK54: =IF($N54="","",IF(U54>=160,"1","")) | AL54: =IF($N54="","",IF(V54>=160,"1",""))
N55: ='Data Entry'!A20 -> 13 | O55: ='SEM1 PATRAK-C'!H20 -> 0 | P55: ='SEM1 PATRAK-C'!M20 -> 0 | Q55: ='SEM1 PATRAK-C'!R20 -> 0 | R55: ='SEM1 PATRAK-C'!W20 -> 0 | S55: ='PATRAK-C'!K20 -> 0 | T55: ='PATRAK-C'!S20 -> 0 | U55: ='PATRAK-C'!AA20 -> 0 | V55: ='PATRAK-C'!AI20 -> 0 | W55: =IF($N55="","",IF(O55<=40,"1","")) -> 1 | X55: =IF($N55="","",IF(P55<=40,"1","")) -> 1 | Y55: =IF($N55="","",IF(Q55<=40,"1","")) -> 1 | Z55: =IF($N55="","",IF(R55<=40,"1","")) -> 1 | AA55: =IF($N55="","",IF(S55<=80,"1","")) -> 1 | AB55: =IF($N55="","",IF(T55<=80,"1","")) -> 1 | AC55: =IF($N55="","",IF(U55<=80,"1","")) -> 1 | AD55: =IF($N55="","",IF(V55<=80,"1","")) -> 1 | AE55: =IF($N55="","",IF(O55>=80,"1","")) | AF55: =IF($N55="","",IF(P55>=80,"1","")) | AG55: =IF($N55="","",IF(Q55>=80,"1","")) | AH55: =IF($N55="","",IF(R55>=80,"1","")) | AI55: =IF($N55="","",IF(S55>=160,"1","")) | AJ55: =IF($N55="","",IF(T55>=160,"1","")) | AK55: =IF($N55="","",IF(U55>=160,"1","")) | AL55: =IF($N55="","",IF(V55>=160,"1",""))
N56: ='Data Entry'!A21 -> 14 | O56: ='SEM1 PATRAK-C'!H21 -> 0 | P56: ='SEM1 PATRAK-C'!M21 -> 0 | Q56: ='SEM1 PATRAK-C'!R21 -> 0 | R56: ='SEM1 PATRAK-C'!W21 -> 0 | S56: ='PATRAK-C'!K21 -> 0 | T56: ='PATRAK-C'!S21 -> 0 | U56: ='PATRAK-C'!AA21 -> 0 | V56: ='PATRAK-C'!AI21 -> 0 | W56: =IF($N56="","",IF(O56<=40,"1","")) -> 1 | X56: =IF($N56="","",IF(P56<=40,"1","")) -> 1 | Y56: =IF($N56="","",IF(Q56<=40,"1","")) -> 1 | Z56: =IF($N56="","",IF(R56<=40,"1","")) -> 1 | AA56: =IF($N56="","",IF(S56<=80,"1","")) -> 1 | AB56: =IF($N56="","",IF(T56<=80,"1","")) -> 1 | AC56: =IF($N56="","",IF(U56<=80,"1","")) -> 1 | AD56: =IF($N56="","",IF(V56<=80,"1","")) -> 1 | AE56: =IF($N56="","",IF(O56>=80,"1","")) | AF56: =IF($N56="","",IF(P56>=80,"1","")) | AG56: =IF($N56="","",IF(Q56>=80,"1","")) | AH56: =IF($N56="","",IF(R56>=80,"1","")) | AI56: =IF($N56="","",IF(S56>=160,"1","")) | AJ56: =IF($N56="","",IF(T56>=160,"1","")) | AK56: =IF($N56="","",IF(U56>=160,"1","")) | AL56: =IF($N56="","",IF(V56>=160,"1",""))
N57: ='Data Entry'!A22 -> 15 | O57: ='SEM1 PATRAK-C'!H22 -> 0 | P57: ='SEM1 PATRAK-C'!M22 -> 0 | Q57: ='SEM1 PATRAK-C'!R22 -> 0 | R57: ='SEM1 PATRAK-C'!W22 -> 0 | S57: ='PATRAK-C'!K22 -> 0 | T57: ='PATRAK-C'!S22 -> 0 | U57: ='PATRAK-C'!AA22 -> 0 | V57: ='PATRAK-C'!AI22 -> 0 | W57: =IF($N57="","",IF(O57<=40,"1","")) -> 1 | X57: =IF($N57="","",IF(P57<=40,"1","")) -> 1 | Y57: =IF($N57="","",IF(Q57<=40,"1","")) -> 1 | Z57: =IF($N57="","",IF(R57<=40,"1","")) -> 1 | AA57: =IF($N57="","",IF(S57<=80,"1","")) -> 1 | AB57: =IF($N57="","",IF(T57<=80,"1","")) -> 1 | AC57: =IF($N57="","",IF(U57<=80,"1","")) -> 1 | AD57: =IF($N57="","",IF(V57<=80,"1","")) -> 1 | AE57: =IF($N57="","",IF(O57>=80,"1","")) | AF57: =IF($N57="","",IF(P57>=80,"1","")) | AG57: =IF($N57="","",IF(Q57>=80,"1","")) | AH57: =IF($N57="","",IF(R57>=80,"1","")) | AI57: =IF($N57="","",IF(S57>=160,"1","")) | AJ57: =IF($N57="","",IF(T57>=160,"1","")) | AK57: =IF($N57="","",IF(U57>=160,"1","")) | AL57: =IF($N57="","",IF(V57>=160,"1",""))
N58: ='Data Entry'!A23 -> 16 | O58: ='SEM1 PATRAK-C'!H23 -> 0 | P58: ='SEM1 PATRAK-C'!M23 -> 0 | Q58: ='SEM1 PATRAK-C'!R23 -> 0 | R58: ='SEM1 PATRAK-C'!W23 -> 0 | S58: ='PATRAK-C'!K23 -> 0 | T58: ='PATRAK-C'!S23 -> 0 | U58: ='PATRAK-C'!AA23 -> 0 | V58: ='PATRAK-C'!AI23 -> 0 | W58: =IF($N58="","",IF(O58<=40,"1","")) -> 1 | X58: =IF($N58="","",IF(P58<=40,"1","")) -> 1 | Y58: =IF($N58="","",IF(Q58<=40,"1","")) -> 1 | Z58: =IF($N58="","",IF(R58<=40,"1","")) -> 1 | AA58: =IF($N58="","",IF(S58<=80,"1","")) -> 1 | AB58: =IF($N58="","",IF(T58<=80,"1","")) -> 1 | AC58: =IF($N58="","",IF(U58<=80,"1","")) -> 1 | AD58: =IF($N58="","",IF(V58<=80,"1","")) -> 1 | AE58: =IF($N58="","",IF(O58>=80,"1","")) | AF58: =IF($N58="","",IF(P58>=80,"1","")) | AG58: =IF($N58="","",IF(Q58>=80,"1","")) | AH58: =IF($N58="","",IF(R58>=80,"1","")) | AI58: =IF($N58="","",IF(S58>=160,"1","")) | AJ58: =IF($N58="","",IF(T58>=160,"1","")) | AK58: =IF($N58="","",IF(U58>=160,"1","")) | AL58: =IF($N58="","",IF(V58>=160,"1",""))
N59: ='Data Entry'!A24 -> 17 | O59: ='SEM1 PATRAK-C'!H24 -> 0 | P59: ='SEM1 PATRAK-C'!M24 -> 0 | Q59: ='SEM1 PATRAK-C'!R24 -> 0 | R59: ='SEM1 PATRAK-C'!W24 -> 0 | S59: ='PATRAK-C'!K24 -> 0 | T59: ='PATRAK-C'!S24 -> 0 | U59: ='PATRAK-C'!AA24 -> 0 | V59: ='PATRAK-C'!AI24 -> 0 | W59: =IF($N59="","",IF(O59<=40,"1","")) -> 1 | X59: =IF($N59="","",IF(P59<=40,"1","")) -> 1 | Y59: =IF($N59="","",IF(Q59<=40,"1","")) -> 1 | Z59: =IF($N59="","",IF(R59<=40,"1","")) -> 1 | AA59: =IF($N59="","",IF(S59<=80,"1","")) -> 1 | AB59: =IF($N59="","",IF(T59<=80,"1","")) -> 1 | AC59: =IF($N59="","",IF(U59<=80,"1","")) -> 1 | AD59: =IF($N59="","",IF(V59<=80,"1","")) -> 1 | AE59: =IF($N59="","",IF(O59>=80,"1","")) | AF59: =IF($N59="","",IF(P59>=80,"1","")) | AG59: =IF($N59="","",IF(Q59>=80,"1","")) | AH59: =IF($N59="","",IF(R59>=80,"1","")) | AI59: =IF($N59="","",IF(S59>=160,"1","")) | AJ59: =IF($N59="","",IF(T59>=160,"1","")) | AK59: =IF($N59="","",IF(U59>=160,"1","")) | AL59: =IF($N59="","",IF(V59>=160,"1",""))
... N102: ='Data Entry'!A67 -> 60 | O102: ='SEM1 PATRAK-C'!H67 -> 0 | P102: ='SEM1 PATRAK-C'!M67 -> 0 | Q102: ='SEM1 PATRAK-C'!R67 -> 0 | R102: ='SEM1 PATRAK-C'!W67 -> 0 | S102: ='PATRAK-C'!K67 -> 0 | T102: ='PATRAK-C'!S67 -> 0 | U102: ='PATRAK-C'!AA67 -> 0 | V102: ='PATRAK-C'!AI67 -> 0 | W102: =IF($N102="","",IF(O102<=40,"1","")) -> 1 | X102: =IF($N102="","",IF(P102<=40,"1","")) -> 1 | Y102: =IF($N102="","",IF(Q102<=40,"1","")) -> 1 | Z102: =IF($N102="","",IF(R102<=40,"1","")) -> 1 | AA102: =IF($N102="","",IF(S102<=80,"1","")) -> 1 | AB102: =IF($N102="","",IF(T102<=80,"1","")) -> 1 | AC102: =IF($N102="","",IF(U102<=80,"1","")) -> 1 | AD102: =IF($N102="","",IF(V102<=80,"1","")) -> 1 | AE102: =IF($N102="","",IF(O102>=80,"1","")) | AF102: =IF($N102="","",IF(P102>=80,"1","")) | AG102: =IF($N102="","",IF(Q102>=80,"1","")) | AH102: =IF($N102="","",IF(R102>=80,"1","")) | AI102: =IF($N102="","",IF(S102>=160,"1","")) | AJ102: =IF($N102="","",IF(T102>=160,"1","")) | AK102: =IF($N102="","",IF(U102>=160,"1","")) | AL102: =IF($N102="","",IF(V102>=160,"1",""))
