Workbook

Sheet Index_Brijesh
M1: Current Version | N1: 3
M2: Made On :- | N2: 45575
M3: Update On :- | N3: 45940
A4: 1 | B4: આકષર્ક તમામ પ્રિન્ટ પેજ બોર્ડર સાથે સૌ પ્રથમ વાર Excel માં. | D4: 1.આ સોફ્ટવેરમાં ફોન્ટ SHREE_GUJ_OTF_0750 વાપરવામાં આવેલ છે. જેથી ફોન્ટ સૌ પ્રથમ ડાઉનલોડ કરી પછી જ ફાઈલ open કરવી.
M5: આવી અલગ અલગ ફાઈલ તેમજ અપડેટ ફાઈલ મેળવવા નીચેની લિંક પર ક્લિક કરી વોટ્સ અપ ગ્રુપમાં જોઈન થઇ જાઓ.
A6: 2 | B6: જ્યાં માહિતી ભરવાની થાય છે ત્યાં પ્રત્યેક cell માં સમજૂતી આપેલ છે. | D6: 2. દરેક શીટ પર જવા માટે બાજુમાં આપેલ બટનનો ઉપયોગ કરવો.
A8: 3 | B8: તમામ માહિતી માટે ખૂબ જ ચોક્કસાઈ રહે તે માટે યોગ્ય ડેટા એન્ટ્રી પરcell વાઈઝ પ્રોટેકશન રાખવામાં આવેલ છે. | D8: 3. સૌ પ્રથમ DataEntry શીટ પર જવું | M8: https://chat.whatsapp.com/DNQ8guLr9uGFARwSJZrYMu
A10: 4 | B10: રજીસ્ટર સંખ્યા મુજબ જ દરેક ધોરણ ની રો ખૂલશે. | D10: 4. ત્યારબાદ DataEntry શીટ પરની માહિતી ચોકસાઈ પૂર્વક ભરવી.
A12: 5 | B12: રજીસ્ટર સંખ્યા મુજબ જ દરેક ધોરણ ની રો ખૂલશે. | D12: 5. ત્યારબાદ વિકાસાત્મક ઉદ્દેશ : - ૦૧ થી ૦૩ની માહિતી ભરવી.
A14: 6 | B14: યોગ્ય પ્રગતિ પત્રક દરેક વિદ્યાર્થીનું | D14: 6. ત્યારબાદ જ તમામ પત્રકો અને પ્રગતિ પત્રક પ્રિન્ટ કરવા.
D16: 7. માહિતી કોપી પેસ્ટ કરવાની થાય ત્યારે Paste Special માં Paste Value કરવું.
D18: 8. દરેક Cell પર આપવામાં આવેલ Comments અવશ્ય વાંચવી અને તેને અનુસરવું.
D20: 9. જો તારીખ લખવામાં એરર આવે તો તમારા કમ્પ્યુટરનું તારીખ ફોરમેટ DD-MM-YYYY કરી દો.

Sheet PROBLEMS
A2: સોફ્ટવેર વાપરતી વખતે આવતી સમસ્યાઓ અને તેની સામે નિવારણ
A4: સમસ્યા - જન્મ તારીખ DD MM YYYY પ્રમાણે લેતું નથી
A5: ઉકેલ - તમારા કોમ્પ્યુટરનું તારીખ નું ફોર્મેટ DD MM YYYY મુજબ કરો.
A7: સમસ્યા - પત્રક C મા ટકાવારી 100 કરતા વધારે બતાવે છે.
A8: ઉકેલ - નવી અદ્યતન ફાઈલ વાપરો.
A10: સમસ્યા - પત્રક F માં જિલ્લા શિક્ષણ સમિતિ ગાંધીનગર જ રહે છે
A11: ઉકેલ - નવી અદ્યતન ફાઈલ વાપરો.
A13: સમસ્યા - પત્રક C માં ટકાવારી અને પાસ નંબર પ્રિન્ટમાં આવતી નથી
A14: ઉકેલ - જીસીઇઆરટી ના નિયમ મુજબ તે પ્રિન્ટમાં લઈ શકાય નહીં.
A16: સમસ્યા - પત્રક C ના ફ્રન્ટ પેજમાં ગ્રેડ અલગ અલગ આવે છે.
A17: ઉકેલ - સત્ર 1 છે ત્યાં સત્ર 2 કરો.
A19: સમસ્યા - સત્ર 1 અને સત્ર 2 ના ગ્રેડ સરાસરી 0 કે ખોટી બતાવે છે.
... A53: By Brijesh Patel

Sheet Data Entry
A2: શાળા નું નામ :- | B2: કુવાદરા પ્રાથમિક શાળા | C2: ગામ/શહેર નું નામ :- | D2: કુવાદરા | E2: પે સેન્ટર નું નામ :- | F2: લોદરા | G2: સી.આર.સી. :- | H2: લોદરા | I2: ધોરણ :- | J2: 2 | K2: વર્ગ શિક્ષકશ્રીનું નામ :- | L2: પટેલ બ્રિજેશકુમાર કે. | O2: શાળા ઉઘડવાની તારીખ :- | Q2: 09-06-2025 | R2: શાળા ઉઘડવાનો સમય :- | T2: 07:00 AM
A3: તાલુકો :- | B3: માણસા | C3: જિલ્લો :- | D3: ગાંધીનગર | E3: વર્ષ :- | F3: 2025 | G3: - | H3: 2026 | I3: વર્ગ :- | J3: અ | K3: કુલ કાર્ય દિવસ :- | L3: 233
A4: પરિણામની તારીખ :- | B4: 45780 | C4: સમિતિ | D4: જીલ્લા શિક્ષણ સમિતિ | F4: શાળા ડાયસ કોડ :- | G4: 24060404501 | I4: વર્ગની રજીસ્ટર સંખ્યા :- | J4: 60
A5: માહિતી Copy-Paste ના કરશો. માહિતી Copy કરીને Paste Special પર જઈ Value and Value Formatrs કરવું.
A7: ક્રમ | B7: વિદ્યાર્થીનું નામ | C7: જી.આર.નંબર | D7: જન્મ તારીખ | E7: સરનામું | F7: હાજર દિવસ | G7: માતા નું નામ | H7: સંપર્ક નંબર | I7: યુનિક આઈડી નંબર (શરૂના ૧૧ અંક) | J7: યુનિક આઈડી નંબર (છેલ્લા ૭ અંક) | K7: જાતિ | L7: કુમાર/કન્યા
A8: =IF(J4>0,1,"") -> 1 | B8: પટેલ બ્રિજેશકુમાર કાળાભાઈ | C8: 10251 | D8: 40544 | E8: અંબિકાનગર | F8: 212 | G8: કોકિલાબેન | H8: 7778031603 | I8: 24060404501 | J8: 1510001 | K8: GEN | L8: Boy | M8: =I8&" "&J8 -> 24060404501 1510001
A9: =IF($J$4>A8,A8+1,"") -> 2 | K9: SC | L9: Girl | M9: =I9&" "&J9
A10: =IF($J$4>A9,A9+1,"") -> 3 | K10: ST | L10: Girl | M10: =I10&" "&J10
A11: =IF($J$4>A10,A10+1,"") -> 4 | K11: OBC | L11: Boy | M11: =I11&" "&J11
A12: =IF($J$4>A11,A11+1,"") -> 5 | M12: =I12&" "&J12
A13: =IF($J$4>A12,A12+1,"") -> 6 | M13: =I13&" "&J13
A14: =IF($J$4>A13,A13+1,"") -> 7 | M14: =I14&" "&J14
A15: =IF($J$4>A14,A14+1,"") -> 8 | M15: =I15&" "&J15
A16: =IF($J$4>A15,A15+1,"") -> 9 | M16: =I16&" "&J16
A17: =IF($J$4>A16,A16+1,"") -> 10 | M17: =I17&" "&J17
A18: =IF($J$4>A17,A17+1,"") -> 11 | M18: =I18&" "&J18
A19: =IF($J$4>A18,A18+1,"") -> 12 | M19: =I19&" "&J19
A20: =IF($J$4>A19,A19+1,"") -> 13 | M20: =I20&" "&J20
A21: =IF($J$4>A20,A20+1,"") -> 14 | M21: =I21&" "&J21
A22: =IF($J$4>A21,A21+1,"") -> 15 | M22: =I22&" "&J22
A23: =IF($J$4>A22,A22+1,"") -> 16 | M23: =I23&" "&J23
... A67: =IF($J$4>A66,A66+1,"") -> 60 | M67: =I67&" "&J67

Sheet D4 BHASHA PARYAVARAN
A1: અ.નં. | B1: વિદ્યાર્થીનું નામ | C1: જનરલ રજીસ્ટર નંબર | D1: હાજર દિવસ | E1: ભાષા - પર્યાવરણના અભ્યાસક્રમનું વિષયવસ્તુ
E2: અમુક પ્રકારના ગીતો અનેક કવિતાઓ સાંભળવામા રસ બતાવે છે. બે થી ત્રણ અંતરના ગીત/કવિતાઓ ગાય છે પઠણ કરે છે. | F2: પોતાના શબ્દોમાં સ્વતંત્ર રીતે ટૂંકી કવિતા / જોડકણા બનાવે છે. | G2: વિવિધ વિષયોમાં વાતચીતમાં વાતના મુખ્ય દૂરને જાળવી રાખે છે. | H2: જે તે મુદ્દાની ચર્ચામાં ભાગ લે, ચર્ચા દરમિયાન પ્રશ્નો પૂછે અને પ્રશ્નોના જવાબ આપે છે. | I2: શરતો સમાવતી સૂચનાઓ અનુસરે છે. | J2: ચોક્કસ દિશાઓ, સ્થળ, પરિણામ જેવી ગણિતિક બાબતોને સમાવતી સ્પષ્ટ સૂચના આપે છે. | K2: એક વાર્તા પરથી બીજી વાર્તા બનાવે છે. | L2: વધુ પાત્રો સાથેની વાર્તાઓ જૂથમાં બનાવે છે. | M2: લખાણમાના અપરિચિત શબ્દોના અર્થો જાણવા માટે બાળ શબ્દકોશનો ઉપયોગ કરે છે. | N2: સાદા વિરામ ચિન્હોનો યોગય ઉપયોગ કરે છે. (પૂર્ણવિરામ, પ્રશ્નાર્થ ચિન્હ) | O2: જોડાક્ષર સહિત તમામ અક્ષરોને ઓળખે છે અને તેમને અનુરૂપ ધ્વનિ સાથે જોડે છે અને અર્થવિહીન શબ્દોને ચોકસાઈથી વાંચે છે. | P2: નાના ફકરઓ શુદ્ધ ઉચ્ચારણ અને યોગ્ય આરોહ-અવરોહ સાથે વાંચે છે. | Q2: દ્રશ્ય સામગ્રી કરતાં વધુ પાઠ્યક્રમ સામગ્રી વાળા પુસ્તકોની સ્વતંત્ર રીતે વાંચવાનું શરૂ કરે અને વાર્તાના પાત્રો ,ઘટનાક્રમને ઓળખે છે. | R2: ટૂંકી કવિતાઓ વાંચે છે અને કલ્પનાનું અનુમાન કરે છે. | S2: ટૂંકા સમાચાર અને પ્રચારપત્રિકાઓ વાંચે છે અને તેમનું વિષયવસ્તુ સમજાવે છે. | T2: ટૂંકા વાક્યો લખે છે. ( શ્રુત લેખન) | U2: ચિત્રોની ક્રમમાં ગોઠવે છે અને ચોકસાઈથી ચિત્રો સાથે ટૂંકા વાક્યો લખે છે. | V2: ચિત્ર પુસ્તક પરથી અનુમાન કરીને વાર્તા લખે અને ઘટનાઓ,અનુભવને લેખિત તરીકે ટૂંકમાં વર્ણવે છે. | W2: કાલ્પનિક અને વાસ્તવિક એમ બંને પ્રકારના પુસ્તકો વાંચવા માટે દર્શાવે છે. | X2: શાળા પુસ્તકાલયના પુસ્તકોની મરામત કરે છે અને વ્યવસ્થિત રીતે ગોઠવે છે. | AB2: સત્રાંતે વિદ્યાર્થીઓએ મેળવેલ જે તે નિશાનીઓની સંખ્યા
E3: 1 | F3: 2 | G3: 3 | H3: 4 | I3: 5 | J3: 6 | K3: 7 | L3: 8 | M3: 9 | N3: 10 | O3: 11 | P3: 12 | Q3: 13 | R3: 14 | S3: 15 | T3: 16 | U3: 17 | V3: 18 | W3: 19 | X3: 20 | Y3: 21 | Z3: 22 | AA3: 23 | AB3: A | AC3: B | AD3: C | AF3: =(COUNTA(E4:AA4)*3) -> 69
A4: =IF('Data Entry'!A8="","",'Data Entry'!A8) -> 1 | B4: =IF('Data Entry'!B8="","",'Data Entry'!B8) -> પટેલ બ્રિજેશકુમાર કાળાભાઈ | C4: =IF('Data Entry'!C8="","",'Data Entry'!C8) -> 10251 | D4: =IF('Data Entry'!F8="","",'Data Entry'!F8) -> 212 | E4: A | F4: A | G4: A | H4: A | I4: A | J4: B | K4: B | L4: A | M4: C | N4: A | O4: C | P4: B | Q4: B | R4: B | S4: B | T4: B | U4: B | V4: B | W4: B | X4: B | Y4: B | Z4: A | AA4: A | AB4: =IF($AI$1=1,"",IF(A4="","",COUNTIF(E4:AA4,$AB$3))) -> 9 | AC4: =IF($AI$1=1,"",IF(A4="","",COUNTIF(E4:AA4,$AC$3))) -> 12 | AD4: =IF($AI$1=1,"",IF(A4="","",COUNTIF(E4:AA4,$AD$3))) -> 2 | AE4: =(AB4*3)+(AC4*2)+(AD4*1) -> 53 | AF4: =IF(A4="","",ROUND(AE4*100/$AF$3,0)) -> 77 | AG4: =IF(A4="","",IF(AF4>=80,"A",IF(AF4>=65,"B",IF(AF4>=50,"C",IF(AF4>=35,"D",IF(AF4<=34,"E")))))) -> B
A5: =IF('Data Entry'!A9="","",'Data Entry'!A9) -> 2 | B5: =IF('Data Entry'!B9="","",'Data Entry'!B9) | C5: =IF('Data Entry'!C9="","",'Data Entry'!C9) | D5: =IF('Data Entry'!F9="","",'Data Entry'!F9) | AB5: =IF($AI$1=1,"",IF(A5="","",COUNTIF(E5:AA5,$AB$3))) -> 0 | AC5: =IF($AI$1=1,"",IF(A5="","",COUNTIF(E5:AA5,$AC$3))) -> 0 | AD5: =IF($AI$1=1,"",IF(A5="","",COUNTIF(E5:AA5,$AD$3))) -> 0 | AE5: =(AB5*3)+(AC5*2)+(AD5*1) -> 0 | AF5: =IF(A5="","",ROUND(AE5*100/$AF$3,0)) -> 0 | AG5: =IF(A5="","",IF(AF5>=80,"A",IF(AF5>=65,"B",IF(AF5>=50,"C",IF(AF5>=35,"D",IF(AF5<=34,"E")))))) -> E
A6: =IF('Data Entry'!A10="","",'Data Entry'!A10) -> 3 | B6: =IF('Data Entry'!B10="","",'Data Entry'!B10) | C6: =IF('Data Entry'!C10="","",'Data Entry'!C10) | D6: =IF('Data Entry'!F10="","",'Data Entry'!F10) | AB6: =IF($AI$1=1,"",IF(A6="","",COUNTIF(E6:AA6,$AB$3))) -> 0 | AC6: =IF($AI$1=1,"",IF(A6="","",COUNTIF(E6:AA6,$AC$3))) -> 0 | AD6: =IF($AI$1=1,"",IF(A6="","",COUNTIF(E6:AA6,$AD$3))) -> 0 | AE6: =(AB6*3)+(AC6*2)+(AD6*1) -> 0 | AF6: =IF(A6="","",ROUND(AE6*100/$AF$3,0)) -> 0 | AG6: =IF(A6="","",IF(AF6>=80,"A",IF(AF6>=65,"B",IF(AF6>=50,"C",IF(AF6>=35,"D",IF(AF6<=34,"E")))))) -> E
A7: =IF('Data Entry'!A11="","",'Data Entry'!A11) -> 4 | B7: =IF('Data Entry'!B11="","",'Data Entry'!B11) | C7: =IF('Data Entry'!C11="","",'Data Entry'!C11) | D7: =IF('Data Entry'!F11="","",'Data Entry'!F11) | AB7: =IF($AI$1=1,"",IF(A7="","",COUNTIF(E7:AA7,$AB$3))) -> 0 | AC7: =IF($AI$1=1,"",IF(A7="","",COUNTIF(E7:AA7,$AC$3))) -> 0 | AD7: =IF($AI$1=1,"",IF(A7="","",COUNTIF(E7:AA7,$AD$3))) -> 0 | AE7: =(AB7*3)+(AC7*2)+(AD7*1) -> 0 | AF7: =IF(A7="","",ROUND(AE7*100/$AF$3,0)) -> 0 | AG7: =IF(A7="","",IF(AF7>=80,"A",IF(AF7>=65,"B",IF(AF7>=50,"C",IF(AF7>=35,"D",IF(AF7<=34,"E")))))) -> E
A8: =IF('Data Entry'!A12="","",'Data Entry'!A12) -> 5 | B8: =IF('Data Entry'!B12="","",'Data Entry'!B12) | C8: =IF('Data Entry'!C12="","",'Data Entry'!C12) | D8: =IF('Data Entry'!F12="","",'Data Entry'!F12) | AB8: =IF($AI$1=1,"",IF(A8="","",COUNTIF(E8:AA8,$AB$3))) -> 0 | AC8: =IF($AI$1=1,"",IF(A8="","",COUNTIF(E8:AA8,$AC$3))) -> 0 | AD8: =IF($AI$1=1,"",IF(A8="","",COUNTIF(E8:AA8,$AD$3))) -> 0 | AE8: =(AB8*3)+(AC8*2)+(AD8*1) -> 0 | AF8: =IF(A8="","",ROUND(AE8*100/$AF$3,0)) -> 0 | AG8: =IF(A8="","",IF(AF8>=80,"A",IF(AF8>=65,"B",IF(AF8>=50,"C",IF(AF8>=35,"D",IF(AF8<=34,"E")))))) -> E
A9: =IF('Data Entry'!A13="","",'Data Entry'!A13) -> 6 | B9: =IF('Data Entry'!B13="","",'Data Entry'!B13) | C9: =IF('Data Entry'!C13="","",'Data Entry'!C13) | D9: =IF('Data Entry'!F13="","",'Data Entry'!F13) | AB9: =IF($AI$1=1,"",IF(A9="","",COUNTIF(E9:AA9,$AB$3))) -> 0 | AC9: =IF($AI$1=1,"",IF(A9="","",COUNTIF(E9:AA9,$AC$3))) -> 0 | AD9: =IF($AI$1=1,"",IF(A9="","",COUNTIF(E9:AA9,$AD$3))) -> 0 | AE9: =(AB9*3)+(AC9*2)+(AD9*1) -> 0 | AF9: =IF(A9="","",ROUND(AE9*100/$AF$3,0)) -> 0 | AG9: =IF(A9="","",IF(AF9>=80,"A",IF(AF9>=65,"B",IF(AF9>=50,"C",IF(AF9>=35,"D",IF(AF9<=34,"E")))))) -> E
A10: =IF('Data Entry'!A14="","",'Data Entry'!A14) -> 7 | B10: =IF('Data Entry'!B14="","",'Data Entry'!B14) | C10: =IF('Data Entry'!C14="","",'Data Entry'!C14) | D10: =IF('Data Entry'!F14="","",'Data Entry'!F14) | AB10: =IF($AI$1=1,"",IF(A10="","",COUNTIF(E10:AA10,$AB$3))) -> 0 | AC10: =IF($AI$1=1,"",IF(A10="","",COUNTIF(E10:AA10,$AC$3))) -> 0 | AD10: =IF($AI$1=1,"",IF(A10="","",COUNTIF(E10:AA10,$AD$3))) -> 0 | AE10: =(AB10*3)+(AC10*2)+(AD10*1) -> 0 | AF10: =IF(A10="","",ROUND(AE10*100/$AF$3,0)) -> 0 | AG10: =IF(A10="","",IF(AF10>=80,"A",IF(AF10>=65,"B",IF(AF10>=50,"C",IF(AF10>=35,"D",IF(AF10<=34,"E")))))) -> E
A11: =IF('Data Entry'!A15="","",'Data Entry'!A15) -> 8 | B11: =IF('Data Entry'!B15="","",'Data Entry'!B15) | C11: =IF('Data Entry'!C15="","",'Data Entry'!C15) | D11: =IF('Data Entry'!F15="","",'Data Entry'!F15) | AB11: =IF($AI$1=1,"",IF(A11="","",COUNTIF(E11:AA11,$AB$3))) -> 0 | AC11: =IF($AI$1=1,"",IF(A11="","",COUNTIF(E11:AA11,$AC$3))) -> 0 | AD11: =IF($AI$1=1,"",IF(A11="","",COUNTIF(E11:AA11,$AD$3))) -> 0 | AE11: =(AB11*3)+(AC11*2)+(AD11*1) -> 0 | AF11: =IF(A11="","",ROUND(AE11*100/$AF$3,0)) -> 0 | AG11: =IF(A11="","",IF(AF11>=80,"A",IF(AF11>=65,"B",IF(AF11>=50,"C",IF(AF11>=35,"D",IF(AF11<=34,"E")))))) -> E
A12: =IF('Data Entry'!A16="","",'Data Entry'!A16) -> 9 | B12: =IF('Data Entry'!B16="","",'Data Entry'!B16) | C12: =IF('Data Entry'!C16="","",'Data Entry'!C16) | D12: =IF('Data Entry'!F16="","",'Data Entry'!F16) | AB12: =IF($AI$1=1,"",IF(A12="","",COUNTIF(E12:AA12,$AB$3))) -> 0 | AC12: =IF($AI$1=1,"",IF(A12="","",COUNTIF(E12:AA12,$AC$3))) -> 0 | AD12: =IF($AI$1=1,"",IF(A12="","",COUNTIF(E12:AA12,$AD$3))) -> 0 | AE12: =(AB12*3)+(AC12*2)+(AD12*1) -> 0 | AF12: =IF(A12="","",ROUND(AE12*100/$AF$3,0)) -> 0 | AG12: =IF(A12="","",IF(AF12>=80,"A",IF(AF12>=65,"B",IF(AF12>=50,"C",IF(AF12>=35,"D",IF(AF12<=34,"E")))))) -> E
A13: =IF('Data Entry'!A17="","",'Data Entry'!A17) -> 10 | B13: =IF('Data Entry'!B17="","",'Data Entry'!B17) | C13: =IF('Data Entry'!C17="","",'Data Entry'!C17) | D13: =IF('Data Entry'!F17="","",'Data Entry'!F17) | AB13: =IF($AI$1=1,"",IF(A13="","",COUNTIF(E13:AA13,$AB$3))) -> 0 | AC13: =IF($AI$1=1,"",IF(A13="","",COUNTIF(E13:AA13,$AC$3))) -> 0 | AD13: =IF($AI$1=1,"",IF(A13="","",COUNTIF(E13:AA13,$AD$3))) -> 0 | AE13: =(AB13*3)+(AC13*2)+(AD13*1) -> 0 | AF13: =IF(A13="","",ROUND(AE13*100/$AF$3,0)) -> 0 | AG13: =IF(A13="","",IF(AF13>=80,"A",IF(AF13>=65,"B",IF(AF13>=50,"C",IF(AF13>=35,"D",IF(AF13<=34,"E")))))) -> E
A14: =IF('Data Entry'!A18="","",'Data Entry'!A18) -> 11 | B14: =IF('Data Entry'!B18="","",'Data Entry'!B18) | C14: =IF('Data Entry'!C18="","",'Data Entry'!C18) | D14: =IF('Data Entry'!F18="","",'Data Entry'!F18) | AB14: =IF($AI$1=1,"",IF(A14="","",COUNTIF(E14:AA14,$AB$3))) -> 0 | AC14: =IF($AI$1=1,"",IF(A14="","",COUNTIF(E14:AA14,$AC$3))) -> 0 | AD14: =IF($AI$1=1,"",IF(A14="","",COUNTIF(E14:AA14,$AD$3))) -> 0 | AE14: =(AB14*3)+(AC14*2)+(AD14*1) -> 0 | AF14: =IF(A14="","",ROUND(AE14*100/$AF$3,0)) -> 0 | AG14: =IF(A14="","",IF(AF14>=80,"A",IF(AF14>=65,"B",IF(AF14>=50,"C",IF(AF14>=35,"D",IF(AF14<=34,"E")))))) -> E
A15: =IF('Data Entry'!A19="","",'Data Entry'!A19) -> 12 | B15: =IF('Data Entry'!B19="","",'Data Entry'!B19) | C15: =IF('Data Entry'!C19="","",'Data Entry'!C19) | D15: =IF('Data Entry'!F19="","",'Data Entry'!F19) | AB15: =IF($AI$1=1,"",IF(A15="","",COUNTIF(E15:AA15,$AB$3))) -> 0 | AC15: =IF($AI$1=1,"",IF(A15="","",COUNTIF(E15:AA15,$AC$3))) -> 0 | AD15: =IF($AI$1=1,"",IF(A15="","",COUNTIF(E15:AA15,$AD$3))) -> 0 | AE15: =(AB15*3)+(AC15*2)+(AD15*1) -> 0 | AF15: =IF(A15="","",ROUND(AE15*100/$AF$3,0)) -> 0 | AG15: =IF(A15="","",IF(AF15>=80,"A",IF(AF15>=65,"B",IF(AF15>=50,"C",IF(AF15>=35,"D",IF(AF15<=34,"E")))))) -> E
A16: =IF('Data Entry'!A20="","",'Data Entry'!A20) -> 13 | B16: =IF('Data Entry'!B20="","",'Data Entry'!B20) | C16: =IF('Data Entry'!C20="","",'Data Entry'!C20) | D16: =IF('Data Entry'!F20="","",'Data Entry'!F20) | AB16: =IF($AI$1=1,"",IF(A16="","",COUNTIF(E16:AA16,$AB$3))) -> 0 | AC16: =IF($AI$1=1,"",IF(A16="","",COUNTIF(E16:AA16,$AC$3))) -> 0 | AD16: =IF($AI$1=1,"",IF(A16="","",COUNTIF(E16:AA16,$AD$3))) -> 0 | AE16: =(AB16*3)+(AC16*2)+(AD16*1) -> 0 | AF16: =IF(A16="","",ROUND(AE16*100/$AF$3,0)) -> 0 | AG16: =IF(A16="","",IF(AF16>=80,"A",IF(AF16>=65,"B",IF(AF16>=50,"C",IF(AF16>=35,"D",IF(AF16<=34,"E")))))) -> E
... A63: =IF('Data Entry'!A67="","",'Data Entry'!A67) -> 60 | B63: =IF('Data Entry'!B67="","",'Data Entry'!B67) | C63: =IF('Data Entry'!C67="","",'Data Entry'!C67) | D63: =IF('Data Entry'!F67="","",'Data Entry'!F67) | AB63: =IF($AI$1=1,"",IF(A63="","",COUNTIF(E63:AA63,$AB$3))) -> 0 | AC63: =IF($AI$1=1,"",IF(A63="","",COUNTIF(E63:AA63,$AC$3))) -> 0 | AD63: =IF($AI$1=1,"",IF(A63="","",COUNTIF(E63:AA63,$AD$3))) -> 0 | AE63: =(AB63*3)+(AC63*2)+(AD63*1) -> 0 | AF63: =IF(A63="","",ROUND(AE63*100/$AF$3,0)) -> 0 | AG63: =IF(A63="","",IF(AF63>=80,"A",IF(AF63>=65,"B",IF(AF63>=50,"C",IF(AF63>=35,"D",IF(AF63<=34,"E")))))) -> E

Sheet D4 GANIT
A1: અ.નં. | B1: વિદ્યાર્થીનું નામ | C1: જનરલ રજીસ્ટર નંબર | D1: હાજર દિવસ | E1: ગણિતના અભ્યાસક્રમનું વિષયવસ્તુ
E2: વસ્તુઓની જૂથો અને પેટા જૂથમાં વર્ગીકૃત કરે છે. | F2: પેટર્નના નિયમોનું વર્ણન કરે છે અને અંક અને સંકેતો જેવી અમૃત પેટર્ન પર એ નિયમોને લાગુ કરે છે. | G2: ૯૯ સુધીની સંખ્યાઓને એકમ અને દશકના સ્થાનના આધારે વાંચે છે અને લખે છે. | H2: ૯૯ સુધીની સંખ્યાને ૧૦, ૨૦, ૩૦ ના જૂથમાં ગણે અને બે જૂથમાં વહેંચી શકે છે. ( ૧૦ ના બે જૂથને ૨૦ બને ) | I2: સંખ્યાઓને ચડતા ને ઉતરતા ક્રમમાં ગોઠવે છે. | J2: સંખ્યારેખા પર બે અને ત્રણના કૂદકા દ્વાર ગણે છે. | K2: ૯૯ સુધીની સંખ્યાને સ્થાનકિંમતની સમજ સાથે ઓળખે છે વાંચે છે અને લખે છે. અને સૌથી નાની સૌથી મોટી સંખ્યા વિશે જણાવે છે. | L2: સરવાળા અને બાદબાકી કરવા લવચીક પદ્ધતિઓનો ઉપયોગ કરે છે. | M2: સરવાળા અને બાદબાકી વચ્ચેના સંબંધને ઓળખે છે અને તેનો ઉપયોગ કરે છે. | N2: સાદા કોયડાઓને સમજે છે અને ઉકેલે છે. | O2: ૯૯ સુધીના સરળ ગુણાકારના પ્રશ્નો ઉકેલવા માટે પુનરાવર્તિત સરવાળાનો ઉપયોગ કરે છે. | P2: ભાગાકારના પ્રશ્નો ઉકેલવા માટે કેટલા જૂથ છે તે શોધવા માટે પુનરાવર્તિત બાદબાકીનો ઉપયોગ કરે છે. | Q2: ત્રિપરિમાણીય અને દ્રિપરિમાણીય આકારોને તેમના નામ દ્વારા ઓળખે છે. | R2: સિધી અને વક્ર રેખાઓ વચ્ચે તફાવત કરે છે અને વિવિધ દિશાઓમાં સીધી રેખાઓ દોરે છે. | S2: એક સમાન એકમોનો ઉપયોગ કરીને ટૂંકા અને લાંબા અંતરને માપે છે જે લાંબી લંબાઈ સુધી વિસ્તરે છે. | T2: એક સમાન બિન પ્રમાણિત એકમોનો ઉપયોગ કરીને પાત્રની લંબાઈ/ અંતર અને ગુંજાશનો અંદાજ કાઢે છે અને માપે છે. | U2: સાદી તુલાનો ઉપયોગ કરીને આપેલ વસ્તુઓના વજનની સરખામણી કરે છે. | V2: ઋતુઓનો ક્રમ સમજે છે અને દિવસો, કલાકો જેવા માન્ય એકમોનો ઉપયોગ કરીને સમયની આવધિ માપે છે. | W2: કુલ ૧૦૦ રૂપિયા થાય એ રીતે નોટ અથવા સિક્કા ભેગા કરે છે. | X2: લેખિત સામગ્રીને સમજે છે લખાણમાં સમાવિષ્ઠ સરળ ગાણિતિક પ્રશ્નો તારવે છે અને ઉખાણા અને કોયડા બનાવે છે. | Y2: સત્રાંતે વિદ્યાર્થીઓએ મેળવેલ જે તે નિશાનીઓની સંખ્યા
E3: 1 | F3: 2 | G3: 3 | H3: 4 | I3: 5 | J3: 6 | K3: 7 | L3: 8 | M3: 9 | N3: 10 | O3: 11 | P3: 12 | Q3: 13 | R3: 14 | S3: 15 | T3: 16 | U3: 17 | V3: 18 | W3: 19 | X3: 20 | Y3: A | Z3: B | AA3: C | AC3: =(COUNTA(E4:X4)*3) -> 60
A4: =IF('Data Entry'!A8="","",'Data Entry'!A8) -> 1 | B4: =IF('Data Entry'!B8="","",'Data Entry'!B8) -> પટેલ બ્રિજેશકુમાર કાળાભાઈ | C4: =IF('Data Entry'!C8="","",'Data Entry'!C8) -> 10251 | D4: =IF('Data Entry'!F8="","",'Data Entry'!F8) -> 212 | E4: A | F4: A | G4: A | H4: A | I4: A | J4: A | K4: B | L4: B | M4: B | N4: C | O4: C | P4: A | Q4: B | R4: B | S4: B | T4: C | U4: C | V4: A | W4: A | X4: A | Y4: =IF($AE$1=1,"",IF(A4="","",COUNTIF(E4:X4,$Y$3))) -> 10 | Z4: =IF($AE$1=1,"",IF(A4="","",COUNTIF(E4:X4,$Z$3))) -> 6 | AA4: =IF($AE$1=1,"",IF(A4="","",COUNTIF(E4:X4,$AA$3))) -> 4 | AB4: =(Y4*3)+(Z4*2)+(AA4*1) -> 46 | AC4: =IF(A4="","",ROUND(AB4*100/$AC$3,0)) -> 77 | AD4: =IF(A4="","",IF(AC4>=80,"A",IF(AC4>=65,"B",IF(AC4>=50,"C",IF(AC4>=35,"D",IF(AC4<=34,"E")))))) -> B
A5: =IF('Data Entry'!A9="","",'Data Entry'!A9) -> 2 | B5: =IF('Data Entry'!B9="","",'Data Entry'!B9) | C5: =IF('Data Entry'!C9="","",'Data Entry'!C9) | D5: =IF('Data Entry'!F9="","",'Data Entry'!F9) | Y5: =IF($AE$1=1,"",IF(A5="","",COUNTIF(E5:X5,$Y$3))) -> 0 | Z5: =IF($AE$1=1,"",IF(A5="","",COUNTIF(E5:X5,$Z$3))) -> 0 | AA5: =IF($AE$1=1,"",IF(A5="","",COUNTIF(E5:X5,$AA$3))) -> 0 | AB5: =(Y5*3)+(Z5*2)+(AA5*1) -> 0 | AC5: =IF(A5="","",ROUND(AB5*100/$AC$3,0)) -> 0 | AD5: =IF(A5="","",IF(AC5>=80,"A",IF(AC5>=65,"B",IF(AC5>=50,"C",IF(AC5>=35,"D",IF(AC5<=34,"E")))))) -> E
A6: =IF('Data Entry'!A10="","",'Data Entry'!A10) -> 3 | B6: =IF('Data Entry'!B10="","",'Data Entry'!B10) | C6: =IF('Data Entry'!C10="","",'Data Entry'!C10) | D6: =IF('Data Entry'!F10="","",'Data Entry'!F10) | Y6: =IF($AE$1=1,"",IF(A6="","",COUNTIF(E6:X6,$Y$3))) -> 0 | Z6: =IF($AE$1=1,"",IF(A6="","",COUNTIF(E6:X6,$Z$3))) -> 0 | AA6: =IF($AE$1=1,"",IF(A6="","",COUNTIF(E6:X6,$AA$3))) -> 0 | AB6: =(Y6*3)+(Z6*2)+(AA6*1) -> 0 | AC6: =IF(A6="","",ROUND(AB6*100/$AC$3,0)) -> 0 | AD6: =IF(A6="","",IF(AC6>=80,"A",IF(AC6>=65,"B",IF(AC6>=50,"C",IF(AC6>=35,"D",IF(AC6<=34,"E")))))) -> E
A7: =IF('Data Entry'!A11="","",'Data Entry'!A11) -> 4 | B7: =IF('Data Entry'!B11="","",'Data Entry'!B11) | C7: =IF('Data Entry'!C11="","",'Data Entry'!C11) | D7: =IF('Data Entry'!F11="","",'Data Entry'!F11) | Y7: =IF($AE$1=1,"",IF(A7="","",COUNTIF(E7:X7,$Y$3))) -> 0 | Z7: =IF($AE$1=1,"",IF(A7="","",COUNTIF(E7:X7,$Z$3))) -> 0 | AA7: =IF($AE$1=1,"",IF(A7="","",COUNTIF(E7:X7,$AA$3))) -> 0 | AB7: =(Y7*3)+(Z7*2)+(AA7*1) -> 0 | AC7: =IF(A7="","",ROUND(AB7*100/$AC$3,0)) -> 0 | AD7: =IF(A7="","",IF(AC7>=80,"A",IF(AC7>=65,"B",IF(AC7>=50,"C",IF(AC7>=35,"D",IF(AC7<=34,"E")))))) -> E
A8: =IF('Data Entry'!A12="","",'Data Entry'!A12) -> 5 | B8: =IF('Data Entry'!B12="","",'Data Entry'!B12) | C8: =IF('Data Entry'!C12="","",'Data Entry'!C12) | D8: =IF('Data Entry'!F12="","",'Data Entry'!F12) | Y8: =IF($AE$1=1,"",IF(A8="","",COUNTIF(E8:X8,$Y$3))) -> 0 | Z8: =IF($AE$1=1,"",IF(A8="","",COUNTIF(E8:X8,$Z$3))) -> 0 | AA8: =IF($AE$1=1,"",IF(A8="","",COUNTIF(E8:X8,$AA$3))) -> 0 | AB8: =(Y8*3)+(Z8*2)+(AA8*1) -> 0 | AC8: =IF(A8="","",ROUND(AB8*100/$AC$3,0)) -> 0 | AD8: =IF(A8="","",IF(AC8>=80,"A",IF(AC8>=65,"B",IF(AC8>=50,"C",IF(AC8>=35,"D",IF(AC8<=34,"E")))))) -> E
A9: =IF('Data Entry'!A13="","",'Data Entry'!A13) -> 6 | B9: =IF('Data Entry'!B13="","",'Data Entry'!B13) | C9: =IF('Data Entry'!C13="","",'Data Entry'!C13) | D9: =IF('Data Entry'!F13="","",'Data Entry'!F13) | Y9: =IF($AE$1=1,"",IF(A9="","",COUNTIF(E9:X9,$Y$3))) -> 0 | Z9: =IF($AE$1=1,"",IF(A9="","",COUNTIF(E9:X9,$Z$3))) -> 0 | AA9: =IF($AE$1=1,"",IF(A9="","",COUNTIF(E9:X9,$AA$3))) -> 0 | AB9: =(Y9*3)+(Z9*2)+(AA9*1) -> 0 | AC9: =IF(A9="","",ROUND(AB9*100/$AC$3,0)) -> 0 | AD9: =IF(A9="","",IF(AC9>=80,"A",IF(AC9>=65,"B",IF(AC9>=50,"C",IF(AC9>=35,"D",IF(AC9<=34,"E")))))) -> E
A10: =IF('Data Entry'!A14="","",'Data Entry'!A14) -> 7 | B10: =IF('Data Entry'!B14="","",'Data Entry'!B14) | C10: =IF('Data Entry'!C14="","",'Data Entry'!C14) | D10: =IF('Data Entry'!F14="","",'Data Entry'!F14) | Y10: =IF($AE$1=1,"",IF(A10="","",COUNTIF(E10:X10,$Y$3))) -> 0 | Z10: =IF($AE$1=1,"",IF(A10="","",COUNTIF(E10:X10,$Z$3))) -> 0 | AA10: =IF($AE$1=1,"",IF(A10="","",COUNTIF(E10:X10,$AA$3))) -> 0 | AB10: =(Y10*3)+(Z10*2)+(AA10*1) -> 0 | AC10: =IF(A10="","",ROUND(AB10*100/$AC$3,0)) -> 0 | AD10: =IF(A10="","",IF(AC10>=80,"A",IF(AC10>=65,"B",IF(AC10>=50,"C",IF(AC10>=35,"D",IF(AC10<=34,"E")))))) -> E
A11: =IF('Data Entry'!A15="","",'Data Entry'!A15) -> 8 | B11: =IF('Data Entry'!B15="","",'Data Entry'!B15) | C11: =IF('Data Entry'!C15="","",'Data Entry'!C15) | D11: =IF('Data Entry'!F15="","",'Data Entry'!F15) | Y11: =IF($AE$1=1,"",IF(A11="","",COUNTIF(E11:X11,$Y$3))) -> 0 | Z11: =IF($AE$1=1,"",IF(A11="","",COUNTIF(E11:X11,$Z$3))) -> 0 | AA11: =IF($AE$1=1,"",IF(A11="","",COUNTIF(E11:X11,$AA$3))) -> 0 | AB11: =(Y11*3)+(Z11*2)+(AA11*1) -> 0 | AC11: =IF(A11="","",ROUND(AB11*100/$AC$3,0)) -> 0 | AD11: =IF(A11="","",IF(AC11>=80,"A",IF(AC11>=65,"B",IF(AC11>=50,"C",IF(AC11>=35,"D",IF(AC11<=34,"E")))))) -> E
A12: =IF('Data Entry'!A16="","",'Data Entry'!A16) -> 9 | B12: =IF('Data Entry'!B16="","",'Data Entry'!B16) | C12: =IF('Data Entry'!C16="","",'Data Entry'!C16) | D12: =IF('Data Entry'!F16="","",'Data Entry'!F16) | Y12: =IF($AE$1=1,"",IF(A12="","",COUNTIF(E12:X12,$Y$3))) -> 0 | Z12: =IF($AE$1=1,"",IF(A12="","",COUNTIF(E12:X12,$Z$3))) -> 0 | AA12: =IF($AE$1=1,"",IF(A12="","",COUNTIF(E12:X12,$AA$3))) -> 0 | AB12: =(Y12*3)+(Z12*2)+(AA12*1) -> 0 | AC12: =IF(A12="","",ROUND(AB12*100/$AC$3,0)) -> 0 | AD12: =IF(A12="","",IF(AC12>=80,"A",IF(AC12>=65,"B",IF(AC12>=50,"C",IF(AC12>=35,"D",IF(AC12<=34,"E")))))) -> E
A13: =IF('Data Entry'!A17="","",'Data Entry'!A17) -> 10 | B13: =IF('Data Entry'!B17="","",'Data Entry'!B17) | C13: =IF('Data Entry'!C17="","",'Data Entry'!C17) | D13: =IF('Data Entry'!F17="","",'Data Entry'!F17) | Y13: =IF($AE$1=1,"",IF(A13="","",COUNTIF(E13:X13,$Y$3))) -> 0 | Z13: =IF($AE$1=1,"",IF(A13="","",COUNTIF(E13:X13,$Z$3))) -> 0 | AA13: =IF($AE$1=1,"",IF(A13="","",COUNTIF(E13:X13,$AA$3))) -> 0 | AB13: =(Y13*3)+(Z13*2)+(AA13*1) -> 0 | AC13: =IF(A13="","",ROUND(AB13*100/$AC$3,0)) -> 0 | AD13: =IF(A13="","",IF(AC13>=80,"A",IF(AC13>=65,"B",IF(AC13>=50,"C",IF(AC13>=35,"D",IF(AC13<=34,"E")))))) -> E
A14: =IF('Data Entry'!A18="","",'Data Entry'!A18) -> 11 | B14: =IF('Data Entry'!B18="","",'Data Entry'!B18) | C14: =IF('Data Entry'!C18="","",'Data Entry'!C18) | D14: =IF('Data Entry'!F18="","",'Data Entry'!F18) | Y14: =IF($AE$1=1,"",IF(A14="","",COUNTIF(E14:X14,$Y$3))) -> 0 | Z14: =IF($AE$1=1,"",IF(A14="","",COUNTIF(E14:X14,$Z$3))) -> 0 | AA14: =IF($AE$1=1,"",IF(A14="","",COUNTIF(E14:X14,$AA$3))) -> 0 | AB14: =(Y14*3)+(Z14*2)+(AA14*1) -> 0 | AC14: =IF(A14="","",ROUND(AB14*100/$AC$3,0)) -> 0 | AD14: =IF(A14="","",IF(AC14>=80,"A",IF(AC14>=65,"B",IF(AC14>=50,"C",IF(AC14>=35,"D",IF(AC14<=34,"E")))))) -> E
A15: =IF('Data Entry'!A19="","",'Data Entry'!A19) -> 12 | B15: =IF('Data Entry'!B19="","",'Data Entry'!B19) | C15: =IF('Data Entry'!C19="","",'Data Entry'!C19) | D15: =IF('Data Entry'!F19="","",'Data Entry'!F19) | Y15: =IF($AE$1=1,"",IF(A15="","",COUNTIF(E15:X15,$Y$3))) -> 0 | Z15: =IF($AE$1=1,"",IF(A15="","",COUNTIF(E15:X15,$Z$3))) -> 0 | AA15: =IF($AE$1=1,"",IF(A15="","",COUNTIF(E15:X15,$AA$3))) -> 0 | AB15: =(Y15*3)+(Z15*2)+(AA15*1) -> 0 | AC15: =IF(A15="","",ROUND(AB15*100/$AC$3,0)) -> 0 | AD15: =IF(A15="","",IF(AC15>=80,"A",IF(AC15>=65,"B",IF(AC15>=50,"C",IF(AC15>=35,"D",IF(AC15<=34,"E")))))) -> E
A16: =IF('Data Entry'!A20="","",'Data Entry'!A20) -> 13 | B16: =IF('Data Entry'!B20="","",'Data Entry'!B20) | C16: =IF('Data Entry'!C20="","",'Data Entry'!C20) | D16: =IF('Data Entry'!F20="","",'Data Entry'!F20) | Y16: =IF($AE$1=1,"",IF(A16="","",COUNTIF(E16:X16,$Y$3))) -> 0 | Z16: =IF($AE$1=1,"",IF(A16="","",COUNTIF(E16:X16,$Z$3))) -> 0 | AA16: =IF($AE$1=1,"",IF(A16="","",COUNTIF(E16:X16,$AA$3))) -> 0 | AB16: =(Y16*3)+(Z16*2)+(AA16*1) -> 0 | AC16: =IF(A16="","",ROUND(AB16*100/$AC$3,0)) -> 0 | AD16: =IF(A16="","",IF(AC16>=80,"A",IF(AC16>=65,"B",IF(AC16>=50,"C",IF(AC16>=35,"D",IF(AC16<=34,"E")))))) -> E
... A63: =IF('Data Entry'!A67="","",'Data Entry'!A67) -> 60 | B63: =IF('Data Entry'!B67="","",'Data Entry'!B67) | C63: =IF('Data Entry'!C67="","",'Data Entry'!C67) | D63: =IF('Data Entry'!F67="","",'Data Entry'!F67) | Y63: =IF($AE$1=1,"",IF(A63="","",COUNTIF(E63:X63,$Y$3))) -> 0 | Z63: =IF($AE$1=1,"",IF(A63="","",COUNTIF(E63:X63,$Z$3))) -> 0 | AA63: =IF($AE$1=1,"",IF(A63="","",COUNTIF(E63:X63,$AA$3))) -> 0 | AB63: =(Y63*3)+(Z63*2)+(AA63*1) -> 0 | AC63: =IF(A63="","",ROUND(AB63*100/$AC$3,0)) -> 0 | AD63: =IF(A63="","",IF(AC63>=80,"A",IF(AC63>=65,"B",IF(AC63>=50,"C",IF(AC63>=35,"D",IF(AC63<=34,"E")))))) -> E

Sheet VYAKTITV VIKAS
A1: વ્યક્તિત્વ વિકાસ પત્રક મૂલ્યાંકન
A2: અ.નં. | B2: વિદ્યાર્થીનું નામ | C2: સમયસર અને નિયમિત રીતે શાળામાં આવે છે. | D2: શરીરની અને પહેરેલા કપડાની સ્વચ્છતા રાખે છે. | E2: વર્ગમાં અન્ય બાળકો સાથે હળી મળીને રહે છે. | F2: વર્ગ અને શાળાની સફાઈમાં ભાગ લે છે. | G2: ઉત્સવો અને રાષ્ટ્રીય પર્વોની ઉજવણીમાં ભાગ લે છે. | H2: રમતો અને પ્રવૃતિમાં ઉત્સાહ પૂર્વક ભાગ લે છે. | I2: પ્રાર્થના સંમેલનમાં જોડાય છે. | J2: રસ પૂર્વક અવલોકન / નિરીક્ષાણ કરે છે. | K2: નવું જાણવાની જીજ્ઞાસા ધરાવે છે. | L2: પશુ પક્ષીઓ તરફ પ્રેમભાવ રાખે છે. | M2: વૃક્ષા અને ફૂલછોડને ઉછેરે છે અને તેમની માવજત કરે છે. | N2: પોતાને ભાગે આવેલું કાર્ય ઉત્સાહ પૂર્વક કરે છે. | O2: સત્રાંતે વિદ્યાર્થીઓએ મેળવેલ જે તે નિશાનીઓની સંખ્યા | U2: ખાસ નોંધ :- જી.સી.ઈ.આર.ટી. ના નિયમો અનુસાર આ પત્રક ફરજિયાત નથી.
C3: 1 | D3: 2 | E3: 3 | F3: 4 | G3: 5 | H3: 6 | I3: 7 | J3: 8 | K3: 9 | L3: 10 | M3: 11 | N3: 12 | O3: A | P3: B | Q3: C | S3: =(COUNTA(C4:N4)*3) -> 36
A4: =IF('Data Entry'!A8="","",'Data Entry'!A8) -> 1 | B4: =IF('Data Entry'!B8="","",'Data Entry'!B8) -> પટેલ બ્રિજેશકુમાર કાળાભાઈ | C4: A | D4: A | E4: A | F4: B | G4: B | H4: C | I4: C | J4: A | K4: C | L4: B | M4: C | N4: B | O4: =IF($S$1=1,"",IF(A4="","",COUNTIF(C4:N4,$O$3))) -> 4 | P4: =IF($S$1=1,"",IF(A4="","",COUNTIF(C4:N4,$P$3))) -> 4 | Q4: =IF($S$1=1,"",IF(A4="","",COUNTIF(C4:N4,$Q$3))) -> 4 | R4: =(O4*3)+(P4*2)+(Q4*1) -> 24 | S4: =IF(A4="","",ROUND(R4*100/$S$3,0)) -> 67 | T4: =IF(A4="","",IF(S4>=80,"A",IF(S4>=65,"B",IF(S4>=50,"C",IF(S4>=35,"D",IF(S4<=34,"E")))))) -> B
A5: =IF('Data Entry'!A9="","",'Data Entry'!A9) -> 2 | B5: =IF('Data Entry'!B9="","",'Data Entry'!B9) | O5: =IF($S$1=1,"",IF(A5="","",COUNTIF(C5:N5,$O$3))) -> 0 | P5: =IF($S$1=1,"",IF(A5="","",COUNTIF(C5:N5,$P$3))) -> 0 | Q5: =IF($S$1=1,"",IF(A5="","",COUNTIF(C5:N5,$Q$3))) -> 0 | R5: =(O5*3)+(P5*2)+(Q5*1) -> 0 | S5: =IF(A5="","",ROUND(R5*100/$S$3,0)) -> 0 | T5: =IF(A5="","",IF(S5>=80,"A",IF(S5>=65,"B",IF(S5>=50,"C",IF(S5>=35,"D",IF(S5<=34,"E")))))) -> E
A6: =IF('Data Entry'!A10="","",'Data Entry'!A10) -> 3 | B6: =IF('Data Entry'!B10="","",'Data Entry'!B10) | O6: =IF($S$1=1,"",IF(A6="","",COUNTIF(C6:N6,$O$3))) -> 0 | P6: =IF($S$1=1,"",IF(A6="","",COUNTIF(C6:N6,$P$3))) -> 0 | Q6: =IF($S$1=1,"",IF(A6="","",COUNTIF(C6:N6,$Q$3))) -> 0 | R6: =(O6*3)+(P6*2)+(Q6*1) -> 0 | S6: =IF(A6="","",ROUND(R6*100/$S$3,0)) -> 0 | T6: =IF(A6="","",IF(S6>=80,"A",IF(S6>=65,"B",IF(S6>=50,"C",IF(S6>=35,"D",IF(S6<=34,"E")))))) -> E
A7: =IF('Data Entry'!A11="","",'Data Entry'!A11) -> 4 | B7: =IF('Data Entry'!B11="","",'Data Entry'!B11) | O7: =IF($S$1=1,"",IF(A7="","",COUNTIF(C7:N7,$O$3))) -> 0 | P7: =IF($S$1=1,"",IF(A7="","",COUNTIF(C7:N7,$P$3))) -> 0 | Q7: =IF($S$1=1,"",IF(A7="","",COUNTIF(C7:N7,$Q$3))) -> 0 | R7: =(O7*3)+(P7*2)+(Q7*1) -> 0 | S7: =IF(A7="","",ROUND(R7*100/$S$3,0)) -> 0 | T7: =IF(A7="","",IF(S7>=80,"A",IF(S7>=65,"B",IF(S7>=50,"C",IF(S7>=35,"D",IF(S7<=34,"E")))))) -> E
A8: =IF('Data Entry'!A12="","",'Data Entry'!A12) -> 5 | B8: =IF('Data Entry'!B12="","",'Data Entry'!B12) | O8: =IF($S$1=1,"",IF(A8="","",COUNTIF(C8:N8,$O$3))) -> 0 | P8: =IF($S$1=1,"",IF(A8="","",COUNTIF(C8:N8,$P$3))) -> 0 | Q8: =IF($S$1=1,"",IF(A8="","",COUNTIF(C8:N8,$Q$3))) -> 0 | R8: =(O8*3)+(P8*2)+(Q8*1) -> 0 | S8: =IF(A8="","",ROUND(R8*100/$S$3,0)) -> 0 | T8: =IF(A8="","",IF(S8>=80,"A",IF(S8>=65,"B",IF(S8>=50,"C",IF(S8>=35,"D",IF(S8<=34,"E")))))) -> E
A9: =IF('Data Entry'!A13="","",'Data Entry'!A13) -> 6 | B9: =IF('Data Entry'!B13="","",'Data Entry'!B13) | O9: =IF($S$1=1,"",IF(A9="","",COUNTIF(C9:N9,$O$3))) -> 0 | P9: =IF($S$1=1,"",IF(A9="","",COUNTIF(C9:N9,$P$3))) -> 0 | Q9: =IF($S$1=1,"",IF(A9="","",COUNTIF(C9:N9,$Q$3))) -> 0 | R9: =(O9*3)+(P9*2)+(Q9*1) -> 0 | S9: =IF(A9="","",ROUND(R9*100/$S$3,0)) -> 0 | T9: =IF(A9="","",IF(S9>=80,"A",IF(S9>=65,"B",IF(S9>=50,"C",IF(S9>=35,"D",IF(S9<=34,"E")))))) -> E
A10: =IF('Data Entry'!A14="","",'Data Entry'!A14) -> 7 | B10: =IF('Data Entry'!B14="","",'Data Entry'!B14) | O10: =IF($S$1=1,"",IF(A10="","",COUNTIF(C10:N10,$O$3))) -> 0 | P10: =IF($S$1=1,"",IF(A10="","",COUNTIF(C10:N10,$P$3))) -> 0 | Q10: =IF($S$1=1,"",IF(A10="","",COUNTIF(C10:N10,$Q$3))) -> 0 | R10: =(O10*3)+(P10*2)+(Q10*1) -> 0 | S10: =IF(A10="","",ROUND(R10*100/$S$3,0)) -> 0 | T10: =IF(A10="","",IF(S10>=80,"A",IF(S10>=65,"B",IF(S10>=50,"C",IF(S10>=35,"D",IF(S10<=34,"E")))))) -> E
A11: =IF('Data Entry'!A15="","",'Data Entry'!A15) -> 8 | B11: =IF('Data Entry'!B15="","",'Data Entry'!B15) | O11: =IF($S$1=1,"",IF(A11="","",COUNTIF(C11:N11,$O$3))) -> 0 | P11: =IF($S$1=1,"",IF(A11="","",COUNTIF(C11:N11,$P$3))) -> 0 | Q11: =IF($S$1=1,"",IF(A11="","",COUNTIF(C11:N11,$Q$3))) -> 0 | R11: =(O11*3)+(P11*2)+(Q11*1) -> 0 | S11: =IF(A11="","",ROUND(R11*100/$S$3,0)) -> 0 | T11: =IF(A11="","",IF(S11>=80,"A",IF(S11>=65,"B",IF(S11>=50,"C",IF(S11>=35,"D",IF(S11<=34,"E")))))) -> E
A12: =IF('Data Entry'!A16="","",'Data Entry'!A16) -> 9 | B12: =IF('Data Entry'!B16="","",'Data Entry'!B16) | O12: =IF($S$1=1,"",IF(A12="","",COUNTIF(C12:N12,$O$3))) -> 0 | P12: =IF($S$1=1,"",IF(A12="","",COUNTIF(C12:N12,$P$3))) -> 0 | Q12: =IF($S$1=1,"",IF(A12="","",COUNTIF(C12:N12,$Q$3))) -> 0 | R12: =(O12*3)+(P12*2)+(Q12*1) -> 0 | S12: =IF(A12="","",ROUND(R12*100/$S$3,0)) -> 0 | T12: =IF(A12="","",IF(S12>=80,"A",IF(S12>=65,"B",IF(S12>=50,"C",IF(S12>=35,"D",IF(S12<=34,"E")))))) -> E
A13: =IF('Data Entry'!A17="","",'Data Entry'!A17) -> 10 | B13: =IF('Data Entry'!B17="","",'Data Entry'!B17) | O13: =IF($S$1=1,"",IF(A13="","",COUNTIF(C13:N13,$O$3))) -> 0 | P13: =IF($S$1=1,"",IF(A13="","",COUNTIF(C13:N13,$P$3))) -> 0 | Q13: =IF($S$1=1,"",IF(A13="","",COUNTIF(C13:N13,$Q$3))) -> 0 | R13: =(O13*3)+(P13*2)+(Q13*1) -> 0 | S13: =IF(A13="","",ROUND(R13*100/$S$3,0)) -> 0 | T13: =IF(A13="","",IF(S13>=80,"A",IF(S13>=65,"B",IF(S13>=50,"C",IF(S13>=35,"D",IF(S13<=34,"E")))))) -> E
A14: =IF('Data Entry'!A18="","",'Data Entry'!A18) -> 11 | B14: =IF('Data Entry'!B18="","",'Data Entry'!B18) | O14: =IF($S$1=1,"",IF(A14="","",COUNTIF(C14:N14,$O$3))) -> 0 | P14: =IF($S$1=1,"",IF(A14="","",COUNTIF(C14:N14,$P$3))) -> 0 | Q14: =IF($S$1=1,"",IF(A14="","",COUNTIF(C14:N14,$Q$3))) -> 0 | R14: =(O14*3)+(P14*2)+(Q14*1) -> 0 | S14: =IF(A14="","",ROUND(R14*100/$S$3,0)) -> 0 | T14: =IF(A14="","",IF(S14>=80,"A",IF(S14>=65,"B",IF(S14>=50,"C",IF(S14>=35,"D",IF(S14<=34,"E")))))) -> E
A15: =IF('Data Entry'!A19="","",'Data Entry'!A19) -> 12 | B15: =IF('Data Entry'!B19="","",'Data Entry'!B19) | O15: =IF($S$1=1,"",IF(A15="","",COUNTIF(C15:N15,$O$3))) -> 0 | P15: =IF($S$1=1,"",IF(A15="","",COUNTIF(C15:N15,$P$3))) -> 0 | Q15: =IF($S$1=1,"",IF(A15="","",COUNTIF(C15:N15,$Q$3))) -> 0 | R15: =(O15*3)+(P15*2)+(Q15*1) -> 0 | S15: =IF(A15="","",ROUND(R15*100/$S$3,0)) -> 0 | T15: =IF(A15="","",IF(S15>=80,"A",IF(S15>=65,"B",IF(S15>=50,"C",IF(S15>=35,"D",IF(S15<=34,"E")))))) -> E
A16: =IF('Data Entry'!A20="","",'Data Entry'!A20) -> 13 | B16: =IF('Data Entry'!B20="","",'Data Entry'!B20) | O16: =IF($S$1=1,"",IF(A16="","",COUNTIF(C16:N16,$O$3))) -> 0 | P16: =IF($S$1=1,"",IF(A16="","",COUNTIF(C16:N16,$P$3))) -> 0 | Q16: =IF($S$1=1,"",IF(A16="","",COUNTIF(C16:N16,$Q$3))) -> 0 | R16: =(O16*3)+(P16*2)+(Q16*1) -> 0 | S16: =IF(A16="","",ROUND(R16*100/$S$3,0)) -> 0 | T16: =IF(A16="","",IF(S16>=80,"A",IF(S16>=65,"B",IF(S16>=50,"C",IF(S16>=35,"D",IF(S16<=34,"E")))))) -> E
... A63: =IF('Data Entry'!A67="","",'Data Entry'!A67) -> 60 | B63: =IF('Data Entry'!B67="","",'Data Entry'!B67) | O63: =IF($S$1=1,"",IF(A63="","",COUNTIF(C63:N63,$O$3))) -> 0 | P63: =IF($S$1=1,"",IF(A63="","",COUNTIF(C63:N63,$P$3))) -> 0 | Q63: =IF($S$1=1,"",IF(A63="","",COUNTIF(C63:N63,$Q$3))) -> 0 | R63: =(O63*3)+(P63*2)+(Q63*1) -> 0 | S63: =IF(A63="","",ROUND(R63*100/$S$3,0)) -> 0 | T63: =IF(A63="","",IF(S63>=80,"A",IF(S63>=65,"B",IF(S63>=50,"C",IF(S63>=35,"D",IF(S63<=34,"E")))))) -> E

Sheet D3 FRONT SIDE
D3: : વાલીશ્રીઓને સુચના : | O3: પત્રક : D-3 | AC3: હાજરી નંબર નીચે લખો.
O4: =IF('Data Entry'!D4="","",'Data Entry'!D4&" , "&'Data Entry'!D3) -> જીલ્લા શિક્ષણ સમિતિ , ગાંધીનગર
C5: ૧. આ વિકાસપત્રક છે.તમારા બાળકે શાળામાં એક વર્ષ દરમ્યાન વિવિધ બાબતોમાં | O5: ધોરણ :- 2 | S5: પ્રગતિ પત્રક | X5: વર્ષ : | Y5: =IF('Data Entry'!F3="","",'Data Entry'!F3&" - "&'Data Entry'!H3) -> 2025 - 2026
C6: કેટલા પ્રમાણમાં વિકાસ સાધ્યો છે તેની નોંધ આ પત્રકમાં છે. | O6: વિદ્યાર્થીનું નામ : | R6: =IF($AC$6="","",VLOOKUP($AC$6,'Data Entry'!$A$8:$L$67,2,0)) -> પટેલ બ્રિજેશકુમાર કાળાભાઈ | X6: જી.આર.નંબર : | Z6: =IF($AC$6="","",VLOOKUP($AC$6,'Data Entry'!$A$8:$L$67,3,0)) -> 10251 | AC6: 1
C7: ર. પત્રકમાં જયાં સાધારણ એવો ઉલ્લેખ હોય તો તમારું બાળક ઠોઠ છે એમ માની ન લેશો. | O7: શાળાનું નામ : | R7: =IF('Data Entry'!B2="","",'Data Entry'!B2) -> કુવાદરા પ્રાથમિક શાળા
C8: ''સાધારણ'' એવી નોંધ તેને તમારી કે ઘરના ભણેલા અન્ય સભ્યોની મદદની કયાં જરૂર | O8: વર્ગ : | P8: =IF('Data Entry'!J3="","",'Data Entry'!J3) -> અ | Q8: ક્રમાંક : | R8: =IF($AC$6="","",$AC$6) -> 1 | S8: હાજર દિવસ : | U8: =IF($AC$6="","",VLOOKUP($AC$6,'Data Entry'!$A$8:$L$67,6,0)) -> 212 | X8: કાર્ય દિવસ : | Z8: =IF('Data Entry'!L3="","",'Data Entry'!L3) -> 233
C9: છે. તે સૂચવવા માટે કરેલ છે. વેકેશનમાં તેની કચાશ દૂર કરવા તમે તે પ્રયત્ન કરજો. | O9: ( લાગુ પડતા ખાનામાં √ ની નિશાની કરવી )
C10: તમારી થોડી મદદથી બાળકની ઘણી કચાશ દૂર કરી શકાશે. અને તે આવતા વર્ષમાં | O10: ભાષા અને પર્યાવરણ
C11: અભ્યાસક્રમ શીખવા માટે પરિપકવતા પ્રાપ્ત કરશે. | O11: ક્રમ | P11: વિધાન | X11: સારૂ-A | Y11: મધ્યમ-B | Z11: સાધારણ-C
C12: ૩. વેકેશનમાં બાળકોને ખૂબ રમવા દેજો. પણ વર્ષ દરમ્યાન શીખેલું ભુલી ન જાય તે માટે | O12: 1 | P12: =IF('D4 BHASHA PARYAVARAN'!E2="","",'D4 BHASHA PARYAVARAN'!E2) -> અમુક પ્રકારના ગીતો અનેક કવિતાઓ સાંભળવામા રસ બતાવે છે. બે થી ત્રણ અંતરના ગીત/કવિતાઓ ગાય છે પઠણ કરે છે. | X12: =IF($AC$6="","",IF($AC12="A","√","")) -> √ | Y12: =IF($AC$6="","",IF($AC12="B","√","")) | Z12: =IF($AC$6="","",IF($AC12="C","√","")) | AB12: 5 | AC12: =IF($AC$6="","",VLOOKUP($AC$6,'D4 BHASHA PARYAVARAN'!$A$4:$AD$63,'D3 FRONT SIDE'!$AB12,0)) -> A
C13: તેણે શીખેલી બાબતો યાદ કરાવવા રોજ થોડો સમય તમારી પાસે બેસાડજો. | O13: 2 | P13: =IF('D4 BHASHA PARYAVARAN'!F2="","",'D4 BHASHA PARYAVARAN'!F2) -> પોતાના શબ્દોમાં સ્વતંત્ર રીતે ટૂંકી કવિતા / જોડકણા બનાવે છે. | X13: =IF($AC$6="","",IF($AC13="A","√","")) -> √ | Y13: =IF($AC$6="","",IF($AC13="B","√","")) | Z13: =IF($AC$6="","",IF($AC13="C","√","")) | AB13: 6 | AC13: =IF($AC$6="","",VLOOKUP($AC$6,'D4 BHASHA PARYAVARAN'!$A$4:$AD$63,'D3 FRONT SIDE'!$AB13,0)) -> A
C14: ૪. ઘરની નાની મોટી ખરીદીના કામ તેને સોંપજો અથવા તેને તમારી સાથે રાખશો, એ | O14: 3 | P14: =IF('D4 BHASHA PARYAVARAN'!G2="","",'D4 BHASHA PARYAVARAN'!G2) -> વિવિધ વિષયોમાં વાતચીતમાં વાતના મુખ્ય દૂરને જાળવી રાખે છે. | X14: =IF($AC$6="","",IF($AC14="A","√","")) -> √ | Y14: =IF($AC$6="","",IF($AC14="B","√","")) | Z14: =IF($AC$6="","",IF($AC14="C","√","")) | AB14: 7 | AC14: =IF($AC$6="","",VLOOKUP($AC$6,'D4 BHASHA PARYAVARAN'!$A$4:$AD$63,'D3 FRONT SIDE'!$AB14,0)) -> A
C15: દ્રારા પણ તેને શેખેલી ઘણી બધી બાબતો દ્રૃઢ થશે. | O15: 4 | P15: =IF('D4 BHASHA PARYAVARAN'!H2="","",'D4 BHASHA PARYAVARAN'!H2) -> જે તે મુદ્દાની ચર્ચામાં ભાગ લે, ચર્ચા દરમિયાન પ્રશ્નો પૂછે અને પ્રશ્નોના જવાબ આપે છે. | X15: =IF($AC$6="","",IF($AC15="A","√","")) -> √ | Y15: =IF($AC$6="","",IF($AC15="B","√","")) | Z15: =IF($AC$6="","",IF($AC15="C","√","")) | AB15: 8 | AC15: =IF($AC$6="","",VLOOKUP($AC$6,'D4 BHASHA PARYAVARAN'!$A$4:$AD$63,'D3 FRONT SIDE'!$AB15,0)) -> A
C16: પ. તમારા બાળકની પ્રગતિ માટે કઈ કઈ બાબતોની કાળજી તમારે લેવાની છે. એ નીચેના | O16: 5 | P16: =IF('D4 BHASHA PARYAVARAN'!I2="","",'D4 BHASHA PARYAVARAN'!I2) -> શરતો સમાવતી સૂચનાઓ અનુસરે છે. | X16: =IF($AC$6="","",IF($AC16="A","√","")) -> √ | Y16: =IF($AC$6="","",IF($AC16="B","√","")) | Z16: =IF($AC$6="","",IF($AC16="C","√","")) | AB16: 9 | AC16: =IF($AC$6="","",VLOOKUP($AC$6,'D4 BHASHA PARYAVARAN'!$A$4:$AD$63,'D3 FRONT SIDE'!$AB16,0)) -> A
C17: વિભાગમાં વર્ગ શિક્ષકે જણાવ્યું છે. શિક્ષકે સૂચવેલી બાબતો અંગે વેકેશનમાં વિશેષ | O17: 6 | P17: =IF('D4 BHASHA PARYAVARAN'!J2="","",'D4 BHASHA PARYAVARAN'!J2) -> ચોક્કસ દિશાઓ, સ્થળ, પરિણામ જેવી ગણિતિક બાબતોને સમાવતી સ્પષ્ટ સૂચના આપે છે. | X17: =IF($AC$6="","",IF($AC17="A","√","")) | Y17: =IF($AC$6="","",IF($AC17="B","√","")) -> √ | Z17: =IF($AC$6="","",IF($AC17="C","√","")) | AB17: 10 | AC17: =IF($AC$6="","",VLOOKUP($AC$6,'D4 BHASHA PARYAVARAN'!$A$4:$AD$63,'D3 FRONT SIDE'!$AB17,0)) -> B
C18: કાળજી લેશો. | O18: 7 | P18: =IF('D4 BHASHA PARYAVARAN'!K2="","",'D4 BHASHA PARYAVARAN'!K2) -> એક વાર્તા પરથી બીજી વાર્તા બનાવે છે. | X18: =IF($AC$6="","",IF($AC18="A","√","")) | Y18: =IF($AC$6="","",IF($AC18="B","√","")) -> √ | Z18: =IF($AC$6="","",IF($AC18="C","√","")) | AB18: 11 | AC18: =IF($AC$6="","",VLOOKUP($AC$6,'D4 BHASHA PARYAVARAN'!$A$4:$AD$63,'D3 FRONT SIDE'!$AB18,0)) -> B
C19: ૬. વેકેશન ખૂલે ત્યારે તમારૂ બાળક ઉત્સાહભેર શાળાએ જાય એ માટે તમે તેને પ્રોત્સાહન | O19: 8 | P19: =IF('D4 BHASHA PARYAVARAN'!L2="","",'D4 BHASHA PARYAVARAN'!L2) -> વધુ પાત્રો સાથેની વાર્તાઓ જૂથમાં બનાવે છે. | X19: =IF($AC$6="","",IF($AC19="A","√","")) -> √ | Y19: =IF($AC$6="","",IF($AC19="B","√","")) | Z19: =IF($AC$6="","",IF($AC19="C","√","")) | AB19: 12 | AC19: =IF($AC$6="","",VLOOKUP($AC$6,'D4 BHASHA PARYAVARAN'!$A$4:$AD$63,'D3 FRONT SIDE'!$AB19,0)) -> A
C20: આપશો. બને તો આવતા વર્ષે અવાર નવાર વર્ગ શિક્ષકને બાળકની પ્રગતિ અંગે પૂછતા | O20: 9 | P20: =IF('D4 BHASHA PARYAVARAN'!M2="","",'D4 BHASHA PARYAVARAN'!M2) -> લખાણમાના અપરિચિત શબ્દોના અર્થો જાણવા માટે બાળ શબ્દકોશનો ઉપયોગ કરે છે. | X20: =IF($AC$6="","",IF($AC20="A","√","")) | Y20: =IF($AC$6="","",IF($AC20="B","√","")) | Z20: =IF($AC$6="","",IF($AC20="C","√","")) -> √ | AB20: 13 | AC20: =IF($AC$6="","",VLOOKUP($AC$6,'D4 BHASHA PARYAVARAN'!$A$4:$AD$63,'D3 FRONT SIDE'!$AB20,0)) -> C
C21: રહેશો. | O21: 10 | P21: =IF('D4 BHASHA PARYAVARAN'!N2="","",'D4 BHASHA PARYAVARAN'!N2) -> સાદા વિરામ ચિન્હોનો યોગય ઉપયોગ કરે છે. (પૂર્ણવિરામ, પ્રશ્નાર્થ ચિન્હ) | X21: =IF($AC$6="","",IF($AC21="A","√","")) -> √ | Y21: =IF($AC$6="","",IF($AC21="B","√","")) | Z21: =IF($AC$6="","",IF($AC21="C","√","")) | AB21: 14 | AC21: =IF($AC$6="","",VLOOKUP($AC$6,'D4 BHASHA PARYAVARAN'!$A$4:$AD$63,'D3 FRONT SIDE'!$AB21,0)) -> A
C22: નોંધ : શિક્ષકે વાલીને આપવાની વિશેષ સૂચના | O22: 11 | P22: =IF('D4 BHASHA PARYAVARAN'!O2="","",'D4 BHASHA PARYAVARAN'!O2) -> જોડાક્ષર સહિત તમામ અક્ષરોને ઓળખે છે અને તેમને અનુરૂપ ધ્વનિ સાથે જોડે છે અને અર્થવિહીન શબ્દોને ચોકસાઈથી વાંચે છે. | X22: =IF($AC$6="","",IF($AC22="A","√","")) | Y22: =IF($AC$6="","",IF($AC22="B","√","")) | Z22: =IF($AC$6="","",IF($AC22="C","√","")) -> √ | AB22: 15 | AC22: =IF($AC$6="","",VLOOKUP($AC$6,'D4 BHASHA PARYAVARAN'!$A$4:$AD$63,'D3 FRONT SIDE'!$AB22,0)) -> C
O23: 12 | P23: =IF('D4 BHASHA PARYAVARAN'!P2="","",'D4 BHASHA PARYAVARAN'!P2) -> નાના ફકરઓ શુદ્ધ ઉચ્ચારણ અને યોગ્ય આરોહ-અવરોહ સાથે વાંચે છે. | X23: =IF($AC$6="","",IF($AC23="A","√","")) | Y23: =IF($AC$6="","",IF($AC23="B","√","")) -> √ | Z23: =IF($AC$6="","",IF($AC23="C","√","")) | AB23: 16 | AC23: =IF($AC$6="","",VLOOKUP($AC$6,'D4 BHASHA PARYAVARAN'!$A$4:$AD$63,'D3 FRONT SIDE'!$AB23,0)) -> B
O24: 13 | P24: =IF('D4 BHASHA PARYAVARAN'!Q2="","",'D4 BHASHA PARYAVARAN'!Q2) -> દ્રશ્ય સામગ્રી કરતાં વધુ પાઠ્યક્રમ સામગ્રી વાળા પુસ્તકોની સ્વતંત્ર રીતે વાંચવાનું શરૂ કરે અને વાર્તાના પાત્રો ,ઘટનાક્રમને ઓળખે છે. | X24: =IF($AC$6="","",IF($AC24="A","√","")) | Y24: =IF($AC$6="","",IF($AC24="B","√","")) -> √ | Z24: =IF($AC$6="","",IF($AC24="C","√","")) | AB24: 17 | AC24: =IF($AC$6="","",VLOOKUP($AC$6,'D4 BHASHA PARYAVARAN'!$A$4:$AD$63,'D3 FRONT SIDE'!$AB24,0)) -> B
O25: 14 | P25: =IF('D4 BHASHA PARYAVARAN'!R2="","",'D4 BHASHA PARYAVARAN'!R2) -> ટૂંકી કવિતાઓ વાંચે છે અને કલ્પનાનું અનુમાન કરે છે. | X25: =IF($AC$6="","",IF($AC25="A","√","")) | Y25: =IF($AC$6="","",IF($AC25="B","√","")) -> √ | Z25: =IF($AC$6="","",IF($AC25="C","√","")) | AB25: 18 | AC25: =IF($AC$6="","",VLOOKUP($AC$6,'D4 BHASHA PARYAVARAN'!$A$4:$AD$63,'D3 FRONT SIDE'!$AB25,0)) -> B
O26: 15 | P26: =IF('D4 BHASHA PARYAVARAN'!S2="","",'D4 BHASHA PARYAVARAN'!S2) -> ટૂંકા સમાચાર અને પ્રચારપત્રિકાઓ વાંચે છે અને તેમનું વિષયવસ્તુ સમજાવે છે. | X26: =IF($AC$6="","",IF($AC26="A","√","")) | Y26: =IF($AC$6="","",IF($AC26="B","√","")) -> √ | Z26: =IF($AC$6="","",IF($AC26="C","√","")) | AB26: 19 | AC26: =IF($AC$6="","",VLOOKUP($AC$6,'D4 BHASHA PARYAVARAN'!$A$4:$AD$63,'D3 FRONT SIDE'!$AB26,0)) -> B
O27: 16 | P27: =IF('D4 BHASHA PARYAVARAN'!T2="","",'D4 BHASHA PARYAVARAN'!T2) -> ટૂંકા વાક્યો લખે છે. ( શ્રુત લેખન) | X27: =IF($AC$6="","",IF($AC27="A","√","")) | Y27: =IF($AC$6="","",IF($AC27="B","√","")) -> √ | Z27: =IF($AC$6="","",IF($AC27="C","√","")) | AB27: 20 | AC27: =IF($AC$6="","",VLOOKUP($AC$6,'D4 BHASHA PARYAVARAN'!$A$4:$AD$63,'D3 FRONT SIDE'!$AB27,0)) -> B
O28: 17 | P28: =IF('D4 BHASHA PARYAVARAN'!U2="","",'D4 BHASHA PARYAVARAN'!U2) -> ચિત્રોની ક્રમમાં ગોઠવે છે અને ચોકસાઈથી ચિત્રો સાથે ટૂંકા વાક્યો લખે છે. | X28: =IF($AC$6="","",IF($AC28="A","√","")) | Y28: =IF($AC$6="","",IF($AC28="B","√","")) -> √ | Z28: =IF($AC$6="","",IF($AC28="C","√","")) | AB28: 21 | AC28: =IF($AC$6="","",VLOOKUP($AC$6,'D4 BHASHA PARYAVARAN'!$A$4:$AD$63,'D3 FRONT SIDE'!$AB28,0)) -> B
O29: 18 | P29: =IF('D4 BHASHA PARYAVARAN'!V2="","",'D4 BHASHA PARYAVARAN'!V2) -> ચિત્ર પુસ્તક પરથી અનુમાન કરીને વાર્તા લખે અને ઘટનાઓ,અનુભવને લેખિત તરીકે ટૂંકમાં વર્ણવે છે. | X29: =IF($AC$6="","",IF($AC29="A","√","")) | Y29: =IF($AC$6="","",IF($AC29="B","√","")) -> √ | Z29: =IF($AC$6="","",IF($AC29="C","√","")) | AB29: 22 | AC29: =IF($AC$6="","",VLOOKUP($AC$6,'D4 BHASHA PARYAVARAN'!$A$4:$AD$63,'D3 FRONT SIDE'!$AB29,0)) -> B
O30: 19 | P30: =IF('D4 BHASHA PARYAVARAN'!W2="","",'D4 BHASHA PARYAVARAN'!W2) -> કાલ્પનિક અને વાસ્તવિક એમ બંને પ્રકારના પુસ્તકો વાંચવા માટે દર્શાવે છે. | X30: =IF($AC$6="","",IF($AC30="A","√","")) | Y30: =IF($AC$6="","",IF($AC30="B","√","")) -> √ | Z30: =IF($AC$6="","",IF($AC30="C","√","")) | AB30: 23 | AC30: =IF($AC$6="","",VLOOKUP($AC$6,'D4 BHASHA PARYAVARAN'!$A$4:$AD$63,'D3 FRONT SIDE'!$AB30,0)) -> B
O31: 20 | P31: =IF('D4 BHASHA PARYAVARAN'!X2="","",'D4 BHASHA PARYAVARAN'!X2) -> શાળા પુસ્તકાલયના પુસ્તકોની મરામત કરે છે અને વ્યવસ્થિત રીતે ગોઠવે છે. | X31: =IF($AC$6="","",IF($AC31="A","√","")) | Y31: =IF($AC$6="","",IF($AC31="B","√","")) -> √ | Z31: =IF($AC$6="","",IF($AC31="C","√","")) | AB31: 24 | AC31: =IF($AC$6="","",VLOOKUP($AC$6,'D4 BHASHA PARYAVARAN'!$A$4:$AD$63,'D3 FRONT SIDE'!$AB31,0)) -> B
O32: 21 | P32: =IF('D4 BHASHA PARYAVARAN'!Y2="","",'D4 BHASHA PARYAVARAN'!Y2) | X32: =IF($AC$6="","",IF($AC32="A","√","")) | Y32: =IF($AC$6="","",IF($AC32="B","√","")) -> √ | Z32: =IF($AC$6="","",IF($AC32="C","√","")) | AB32: 25 | AC32: =IF($AC$6="","",VLOOKUP($AC$6,'D4 BHASHA PARYAVARAN'!$A$4:$AD$63,'D3 FRONT SIDE'!$AB32,0)) -> B
O33: 22 | P33: =IF('D4 BHASHA PARYAVARAN'!Z2="","",'D4 BHASHA PARYAVARAN'!Z2) | X33: =IF($AC$6="","",IF($AC33="A","√","")) -> √ | Y33: =IF($AC$6="","",IF($AC33="B","√","")) | Z33: =IF($AC$6="","",IF($AC33="C","√","")) | AB33: 26 | AC33: =IF($AC$6="","",VLOOKUP($AC$6,'D4 BHASHA PARYAVARAN'!$A$4:$AD$63,'D3 FRONT SIDE'!$AB33,0)) -> A
D34: વાલીની સહી | O34: 23 | P34: =IF('D4 BHASHA PARYAVARAN'!AA2="","",'D4 BHASHA PARYAVARAN'!AA2) | X34: =IF($AC$6="","",IF($AC34="A","√","")) -> √ | Y34: =IF($AC$6="","",IF($AC34="B","√","")) | Z34: =IF($AC$6="","",IF($AC34="C","√","")) | AB34: 27 | AC34: =IF($AC$6="","",VLOOKUP($AC$6,'D4 BHASHA PARYAVARAN'!$A$4:$AD$63,'D3 FRONT SIDE'!$AB34,0)) -> A

Sheet D3 BACK SIDE
R1: હાજરી નંબર નીચે લખો.
C3: વિષયવસ્તુ અંગેની સમજ | K3: ક્રમ | L3: વિધાન | M3: સારૂ-A | N3: મધ્યમ-B | O3: સાધારણ -C
C4: ગણિતનું વિષયવસ્તુ | K4: 17 | L4: =IF('D4 GANIT'!U2="","",'D4 GANIT'!U2) -> સાદી તુલાનો ઉપયોગ કરીને આપેલ વસ્તુઓના વજનની સરખામણી કરે છે. | M4: =IF($R$4="","",IF($S22="A","√","")) | N4: =IF($R$4="","",IF($S22="B","√","")) | O4: =IF($R$4="","",IF($S22="C","√","")) -> √ | R4: 1
C5: ક્રમ | D5: વિધાન | E5: સારૂ-A | F5: મધ્યમ-B | G5: સાધારણ -C
K6: 18 | L6: =IF('D4 GANIT'!V2="","",'D4 GANIT'!V2) -> ઋતુઓનો ક્રમ સમજે છે અને દિવસો, કલાકો જેવા માન્ય એકમોનો ઉપયોગ કરીને સમયની આવધિ માપે છે. | M6: =IF($R$4="","",IF($S23="A","√","")) -> √ | N6: =IF($R$4="","",IF($S23="B","√","")) | O6: =IF($R$4="","",IF($S23="C","√","")) | R6: 5 | S6: =IF($R$4="","",VLOOKUP($R$4,'D4 GANIT'!$A$4:$AA$63,'D3 BACK SIDE'!$R6,0)) -> A
C7: 1 | D7: =IF('D4 GANIT'!E2="","",'D4 GANIT'!E2) -> વસ્તુઓની જૂથો અને પેટા જૂથમાં વર્ગીકૃત કરે છે. | E7: =IF($R$4="","",IF($S6="A","√","")) -> √ | F7: =IF($R$4="","",IF($S6="B","√","")) | G7: =IF($R$4="","",IF($S6="C","√","")) | K7: 19 | L7: =IF('D4 GANIT'!W2="","",'D4 GANIT'!W2) -> કુલ ૧૦૦ રૂપિયા થાય એ રીતે નોટ અથવા સિક્કા ભેગા કરે છે. | M7: =IF($R$4="","",IF($S24="A","√","")) -> √ | N7: =IF($R$4="","",IF($S24="B","√","")) | O7: =IF($R$4="","",IF($S24="C","√","")) | R7: 6 | S7: =IF($R$4="","",VLOOKUP($R$4,'D4 GANIT'!$A$4:$AA$63,'D3 BACK SIDE'!$R7,0)) -> A
C8: 2 | D8: =IF('D4 GANIT'!F2="","",'D4 GANIT'!F2) -> પેટર્નના નિયમોનું વર્ણન કરે છે અને અંક અને સંકેતો જેવી અમૃત પેટર્ન પર એ નિયમોને લાગુ કરે છે. | E8: =IF($R$4="","",IF($S7="A","√","")) -> √ | F8: =IF($R$4="","",IF($S7="B","√","")) | G8: =IF($R$4="","",IF($S7="C","√","")) | R8: 7 | S8: =IF($R$4="","",VLOOKUP($R$4,'D4 GANIT'!$A$4:$AA$63,'D3 BACK SIDE'!$R8,0)) -> A
K9: 20 | L9: =IF('D4 GANIT'!X2="","",'D4 GANIT'!X2) -> લેખિત સામગ્રીને સમજે છે લખાણમાં સમાવિષ્ઠ સરળ ગાણિતિક પ્રશ્નો તારવે છે અને ઉખાણા અને કોયડા બનાવે છે. | M9: =IF($R$4="","",IF($S25="A","√","")) -> √ | N9: =IF($R$4="","",IF($S25="B","√","")) | O9: =IF($R$4="","",IF($S25="C","√","")) | R9: 8 | S9: =IF($R$4="","",VLOOKUP($R$4,'D4 GANIT'!$A$4:$AA$63,'D3 BACK SIDE'!$R9,0)) -> A
C10: 3 | D10: =IF('D4 GANIT'!G2="","",'D4 GANIT'!G2) -> ૯૯ સુધીની સંખ્યાઓને એકમ અને દશકના સ્થાનના આધારે વાંચે છે અને લખે છે. | E10: =IF($R$4="","",IF($S8="A","√","")) -> √ | F10: =IF($R$4="","",IF($S8="B","√","")) | G10: =IF($R$4="","",IF($S8="C","√","")) | K10: વ્યકિતત્વ વિકાસને લગતા વિધાનો | R10: 9 | S10: =IF($R$4="","",VLOOKUP($R$4,'D4 GANIT'!$A$4:$AA$63,'D3 BACK SIDE'!$R10,0)) -> A
C11: 4 | D11: =IF('D4 GANIT'!H2="","",'D4 GANIT'!H2) -> ૯૯ સુધીની સંખ્યાને ૧૦, ૨૦, ૩૦ ના જૂથમાં ગણે અને બે જૂથમાં વહેંચી શકે છે. ( ૧૦ ના બે જૂથને ૨૦ બને ) | E11: =IF($R$4="","",IF($S9="A","√","")) -> √ | F11: =IF($R$4="","",IF($S9="B","√","")) | G11: =IF($R$4="","",IF($S9="C","√","")) | R11: 10 | S11: =IF($R$4="","",VLOOKUP($R$4,'D4 GANIT'!$A$4:$AA$63,'D3 BACK SIDE'!$R11,0)) -> A
K12: ક્રમ | L12: વિધાન | M12: હંમેશા | N12: મોટે ભાગે | O12: ભાગ્યે જ | R12: 11 | S12: =IF($R$4="","",VLOOKUP($R$4,'D4 GANIT'!$A$4:$AA$63,'D3 BACK SIDE'!$R12,0)) -> B
C13: 5 | D13: =IF('D4 GANIT'!I2="","",'D4 GANIT'!I2) -> સંખ્યાઓને ચડતા ને ઉતરતા ક્રમમાં ગોઠવે છે. | E13: =IF($R$4="","",IF($S10="A","√","")) -> √ | F13: =IF($R$4="","",IF($S10="B","√","")) | G13: =IF($R$4="","",IF($S10="C","√","")) | R13: 12 | S13: =IF($R$4="","",VLOOKUP($R$4,'D4 GANIT'!$A$4:$AA$63,'D3 BACK SIDE'!$R13,0)) -> B
C14: 6 | D14: =IF('D4 GANIT'!J2="","",'D4 GANIT'!J2) -> સંખ્યારેખા પર બે અને ત્રણના કૂદકા દ્વાર ગણે છે. | E14: =IF($R$4="","",IF($S11="A","√","")) -> √ | F14: =IF($R$4="","",IF($S11="B","√","")) | G14: =IF($R$4="","",IF($S11="C","√","")) | K14: 1 | L14: =IF('VYAKTITV VIKAS'!C2="","",'VYAKTITV VIKAS'!C2) -> સમયસર અને નિયમિત રીતે શાળામાં આવે છે. | M14: =IF($R$4="","",IF($V14="A","√","")) -> √ | N14: =IF($R$4="","",IF($V14="B","√","")) | O14: =IF($R$4="","",IF($V14="C","√","")) | R14: 13 | S14: =IF($R$4="","",VLOOKUP($R$4,'D4 GANIT'!$A$4:$AA$63,'D3 BACK SIDE'!$R14,0)) -> B | U14: 3 | V14: =IF($R$4="","",VLOOKUP($R$4,'VYAKTITV VIKAS'!$A$4:$N$63,$U14,0)) -> A
C15: 7 | D15: =IF('D4 GANIT'!K2="","",'D4 GANIT'!K2) -> ૯૯ સુધીની સંખ્યાને સ્થાનકિંમતની સમજ સાથે ઓળખે છે વાંચે છે અને લખે છે. અને સૌથી નાની સૌથી મોટી સંખ્યા વિશે જણાવે છે. | E15: =IF($R$4="","",IF($S12="A","√","")) | F15: =IF($R$4="","",IF($S12="B","√","")) -> √ | G15: =IF($R$4="","",IF($S12="C","√","")) | K15: 2 | L15: =IF('VYAKTITV VIKAS'!D2="","",'VYAKTITV VIKAS'!D2) -> શરીરની અને પહેરેલા કપડાની સ્વચ્છતા રાખે છે. | M15: =IF($R$4="","",IF($V15="A","√","")) -> √ | N15: =IF($R$4="","",IF($V15="B","√","")) | O15: =IF($R$4="","",IF($V15="C","√","")) | R15: 14 | S15: =IF($R$4="","",VLOOKUP($R$4,'D4 GANIT'!$A$4:$AA$63,'D3 BACK SIDE'!$R15,0)) -> C | U15: 4 | V15: =IF($R$4="","",VLOOKUP($R$4,'VYAKTITV VIKAS'!$A$4:$N$63,$U15,0)) -> A
C16: 8 | D16: =IF('D4 GANIT'!L2="","",'D4 GANIT'!L2) -> સરવાળા અને બાદબાકી કરવા લવચીક પદ્ધતિઓનો ઉપયોગ કરે છે. | E16: =IF($R$4="","",IF($S13="A","√","")) | F16: =IF($R$4="","",IF($S13="B","√","")) -> √ | G16: =IF($R$4="","",IF($S13="C","√","")) | K16: 3 | L16: =IF('VYAKTITV VIKAS'!E2="","",'VYAKTITV VIKAS'!E2) -> વર્ગમાં અન્ય બાળકો સાથે હળી મળીને રહે છે. | M16: =IF($R$4="","",IF($V16="A","√","")) -> √ | N16: =IF($R$4="","",IF($V16="B","√","")) | O16: =IF($R$4="","",IF($V16="C","√","")) | R16: 15 | S16: =IF($R$4="","",VLOOKUP($R$4,'D4 GANIT'!$A$4:$AA$63,'D3 BACK SIDE'!$R16,0)) -> C | U16: 5 | V16: =IF($R$4="","",VLOOKUP($R$4,'VYAKTITV VIKAS'!$A$4:$N$63,$U16,0)) -> A
C17: 9 | D17: =IF('D4 GANIT'!M2="","",'D4 GANIT'!M2) -> સરવાળા અને બાદબાકી વચ્ચેના સંબંધને ઓળખે છે અને તેનો ઉપયોગ કરે છે. | E17: =IF($R$4="","",IF($S14="A","√","")) | F17: =IF($R$4="","",IF($S14="B","√","")) -> √ | G17: =IF($R$4="","",IF($S14="C","√","")) | K17: 4 | L17: =IF('VYAKTITV VIKAS'!F2="","",'VYAKTITV VIKAS'!F2) -> વર્ગ અને શાળાની સફાઈમાં ભાગ લે છે. | M17: =IF($R$4="","",IF($V17="A","√","")) | N17: =IF($R$4="","",IF($V17="B","√","")) -> √ | O17: =IF($R$4="","",IF($V17="C","√","")) | R17: 16 | S17: =IF($R$4="","",VLOOKUP($R$4,'D4 GANIT'!$A$4:$AA$63,'D3 BACK SIDE'!$R17,0)) -> A | U17: 6 | V17: =IF($R$4="","",VLOOKUP($R$4,'VYAKTITV VIKAS'!$A$4:$N$63,$U17,0)) -> B
C18: 10 | D18: =IF('D4 GANIT'!N2="","",'D4 GANIT'!N2) -> સાદા કોયડાઓને સમજે છે અને ઉકેલે છે. | E18: =IF($R$4="","",IF($S15="A","√","")) | F18: =IF($R$4="","",IF($S15="B","√","")) | G18: =IF($R$4="","",IF($S15="C","√","")) -> √ | K18: 5 | L18: =IF('VYAKTITV VIKAS'!G2="","",'VYAKTITV VIKAS'!G2) -> ઉત્સવો અને રાષ્ટ્રીય પર્વોની ઉજવણીમાં ભાગ લે છે. | M18: =IF($R$4="","",IF($V18="A","√","")) | N18: =IF($R$4="","",IF($V18="B","√","")) -> √ | O18: =IF($R$4="","",IF($V18="C","√","")) | R18: 17 | S18: =IF($R$4="","",VLOOKUP($R$4,'D4 GANIT'!$A$4:$AA$63,'D3 BACK SIDE'!$R18,0)) -> B | U18: 7 | V18: =IF($R$4="","",VLOOKUP($R$4,'VYAKTITV VIKAS'!$A$4:$N$63,$U18,0)) -> B
K19: 6 | L19: =IF('VYAKTITV VIKAS'!H2="","",'VYAKTITV VIKAS'!H2) -> રમતો અને પ્રવૃતિમાં ઉત્સાહ પૂર્વક ભાગ લે છે. | M19: =IF($R$4="","",IF($V19="A","√","")) | N19: =IF($R$4="","",IF($V19="B","√","")) | O19: =IF($R$4="","",IF($V19="C","√","")) -> √ | R19: 18 | S19: =IF($R$4="","",VLOOKUP($R$4,'D4 GANIT'!$A$4:$AA$63,'D3 BACK SIDE'!$R19,0)) -> B | U19: 8 | V19: =IF($R$4="","",VLOOKUP($R$4,'VYAKTITV VIKAS'!$A$4:$N$63,$U19,0)) -> C
C20: 11 | D20: =IF('D4 GANIT'!O2="","",'D4 GANIT'!O2) -> ૯૯ સુધીના સરળ ગુણાકારના પ્રશ્નો ઉકેલવા માટે પુનરાવર્તિત સરવાળાનો ઉપયોગ કરે છે. | E20: =IF($R$4="","",IF($S16="A","√","")) | F20: =IF($R$4="","",IF($S16="B","√","")) | G20: =IF($R$4="","",IF($S16="C","√","")) -> √ | K20: 7 | L20: =IF('VYAKTITV VIKAS'!I2="","",'VYAKTITV VIKAS'!I2) -> પ્રાર્થના સંમેલનમાં જોડાય છે. | M20: =IF($R$4="","",IF($V20="A","√","")) | N20: =IF($R$4="","",IF($V20="B","√","")) | O20: =IF($R$4="","",IF($V20="C","√","")) -> √ | R20: 19 | S20: =IF($R$4="","",VLOOKUP($R$4,'D4 GANIT'!$A$4:$AA$63,'D3 BACK SIDE'!$R20,0)) -> B | U20: 9 | V20: =IF($R$4="","",VLOOKUP($R$4,'VYAKTITV VIKAS'!$A$4:$N$63,$U20,0)) -> C
C21: 12 | D21: =IF('D4 GANIT'!P2="","",'D4 GANIT'!P2) -> ભાગાકારના પ્રશ્નો ઉકેલવા માટે કેટલા જૂથ છે તે શોધવા માટે પુનરાવર્તિત બાદબાકીનો ઉપયોગ કરે છે. | E21: =IF($R$4="","",IF($S17="A","√","")) -> √ | F21: =IF($R$4="","",IF($S17="B","√","")) | G21: =IF($R$4="","",IF($S17="C","√","")) | K21: 8 | L21: =IF('VYAKTITV VIKAS'!J2="","",'VYAKTITV VIKAS'!J2) -> રસ પૂર્વક અવલોકન / નિરીક્ષાણ કરે છે. | M21: =IF($R$4="","",IF($V21="A","√","")) -> √ | N21: =IF($R$4="","",IF($V21="B","√","")) | O21: =IF($R$4="","",IF($V21="C","√","")) | R21: 20 | S21: =IF($R$4="","",VLOOKUP($R$4,'D4 GANIT'!$A$4:$AA$63,'D3 BACK SIDE'!$R21,0)) -> C | U21: 10 | V21: =IF($R$4="","",VLOOKUP($R$4,'VYAKTITV VIKAS'!$A$4:$N$63,$U21,0)) -> A
K22: 9 | L22: =IF('VYAKTITV VIKAS'!K2="","",'VYAKTITV VIKAS'!K2) -> નવું જાણવાની જીજ્ઞાસા ધરાવે છે. | M22: =IF($R$4="","",IF($V22="A","√","")) | N22: =IF($R$4="","",IF($V22="B","√","")) | O22: =IF($R$4="","",IF($V22="C","√","")) -> √ | R22: 21 | S22: =IF($R$4="","",VLOOKUP($R$4,'D4 GANIT'!$A$4:$AA$63,'D3 BACK SIDE'!$R22,0)) -> C | U22: 11 | V22: =IF($R$4="","",VLOOKUP($R$4,'VYAKTITV VIKAS'!$A$4:$N$63,$U22,0)) -> C
C23: 13 | D23: =IF('D4 GANIT'!Q2="","",'D4 GANIT'!Q2) -> ત્રિપરિમાણીય અને દ્રિપરિમાણીય આકારોને તેમના નામ દ્વારા ઓળખે છે. | E23: =IF($R$4="","",IF($S18="A","√","")) | F23: =IF($R$4="","",IF($S18="B","√","")) -> √ | G23: =IF($R$4="","",IF($S18="C","√","")) | K23: 10 | L23: =IF('VYAKTITV VIKAS'!L2="","",'VYAKTITV VIKAS'!L2) -> પશુ પક્ષીઓ તરફ પ્રેમભાવ રાખે છે. | M23: =IF($R$4="","",IF($V23="A","√","")) | N23: =IF($R$4="","",IF($V23="B","√","")) -> √ | O23: =IF($R$4="","",IF($V23="C","√","")) | R23: 22 | S23: =IF($R$4="","",VLOOKUP($R$4,'D4 GANIT'!$A$4:$AA$63,'D3 BACK SIDE'!$R23,0)) -> A | U23: 12 | V23: =IF($R$4="","",VLOOKUP($R$4,'VYAKTITV VIKAS'!$A$4:$N$63,$U23,0)) -> B
C24: 14 | D24: =IF('D4 GANIT'!R2="","",'D4 GANIT'!R2) -> સિધી અને વક્ર રેખાઓ વચ્ચે તફાવત કરે છે અને વિવિધ દિશાઓમાં સીધી રેખાઓ દોરે છે. | E24: =IF($R$4="","",IF($S19="A","√","")) | F24: =IF($R$4="","",IF($S19="B","√","")) -> √ | G24: =IF($R$4="","",IF($S19="C","√","")) | K24: 11 | L24: =IF('VYAKTITV VIKAS'!M2="","",'VYAKTITV VIKAS'!M2) -> વૃક્ષા અને ફૂલછોડને ઉછેરે છે અને તેમની માવજત કરે છે. | M24: =IF($R$4="","",IF($V24="A","√","")) | N24: =IF($R$4="","",IF($V24="B","√","")) | O24: =IF($R$4="","",IF($V24="C","√","")) -> √ | R24: 23 | S24: =IF($R$4="","",VLOOKUP($R$4,'D4 GANIT'!$A$4:$AA$63,'D3 BACK SIDE'!$R24,0)) -> A | U24: 13 | V24: =IF($R$4="","",VLOOKUP($R$4,'VYAKTITV VIKAS'!$A$4:$N$63,$U24,0)) -> C
K25: 12 | L25: =IF('VYAKTITV VIKAS'!N2="","",'VYAKTITV VIKAS'!N2) -> પોતાને ભાગે આવેલું કાર્ય ઉત્સાહ પૂર્વક કરે છે. | M25: =IF($R$4="","",IF($V25="A","√","")) | N25: =IF($R$4="","",IF($V25="B","√","")) -> √ | O25: =IF($R$4="","",IF($V25="C","√","")) | R25: 24 | S25: =IF($R$4="","",VLOOKUP($R$4,'D4 GANIT'!$A$4:$AA$63,'D3 BACK SIDE'!$R25,0)) -> A | U25: 14 | V25: =IF($R$4="","",VLOOKUP($R$4,'VYAKTITV VIKAS'!$A$4:$N$63,$U25,0)) -> B
C26: 15 | D26: =IF('D4 GANIT'!S2="","",'D4 GANIT'!S2) -> એક સમાન એકમોનો ઉપયોગ કરીને ટૂંકા અને લાંબા અંતરને માપે છે જે લાંબી લંબાઈ સુધી વિસ્તરે છે. | E26: =IF($R$4="","",IF($S20="A","√","")) | F26: =IF($R$4="","",IF($S20="B","√","")) -> √ | G26: =IF($R$4="","",IF($S20="C","√","")) | K26: તારીખ :- | L26: =IF('Data Entry'!B4="","",'Data Entry'!B4) -> 45780
K27: વર્ગ શિક્ષકની સહી આચાર્યશ્રીની સહી/સિક્કો
C28: 16 | D28: =IF('D4 GANIT'!T2="","",'D4 GANIT'!T2) -> એક સમાન બિન પ્રમાણિત એકમોનો ઉપયોગ કરીને પાત્રની લંબાઈ/ અંતર અને ગુંજાશનો અંદાજ કાઢે છે અને માપે છે. | E28: =IF($R$4="","",IF($S21="A","√","")) | F28: =IF($R$4="","",IF($S21="B","√","")) | G28: =IF($R$4="","",IF($S21="C","√","")) -> √

Sheet D4
A1: પત્રક : D-4 | C1: શાળાકીય સર્વગ્રાહી મૂલ્યાંકન | P1: વર્ષ : | Q1: =IF('Data Entry'!F3="","",'Data Entry'!F3&" - "&'Data Entry'!H3) -> 2025 - 2026
A2: ધોરણ :- 2
A3: પરિણામ પત્રક
A4: શાળાનું નામ : | C4: =IF('Data Entry'!B2="","",'Data Entry'!B2) -> કુવાદરા પ્રાથમિક શાળા | K4: તાલુકો : | N4: =IF('Data Entry'!B3="","",'Data Entry'!B3) -> માણસા
A6: ગામ : | C6: =IF('Data Entry'!D2="","",'Data Entry'!D2) -> કુવાદરા | K6: જિલ્લો : | N6: =IF('Data Entry'!D3="","",'Data Entry'!D3) -> ગાંધીનગર
A8: ધોરણ : | C8: =IF('Data Entry'!J2="","",'Data Entry'!J2) -> 2 | G8: વર્ગ : | I8: =IF('Data Entry'!J3="","",'Data Entry'!J3) -> અ | K8: પરિણામ તારીખ : | N8: =IF('Data Entry'!B4="","",'Data Entry'!B4) -> 45780
A10: વર્ગ શિક્ષક : | C10: =IF('Data Entry'!L2="","",'Data Entry'!L2) -> પટેલ બ્રિજેશકુમાર કે. | K10: સી.આર.સી. : | N10: =IF('Data Entry'!H2="","",'Data Entry'!H2) -> લોદરા
A12: જાતિ | C12: અનુ.જાતિ | F12: અનુ.જ.જાતિ | I12: બક્ષીપંચ | L12: અન્ય | O12: કુલ | R12: નોંધ
C13: કુમાર | D13: કન્યા | E13: કુલ | F13: કુમાર | G13: કન્યા | H13: કુલ | I13: કુમાર | J13: કન્યા | K13: કુલ | L13: કુમાર | M13: કન્યા | N13: કુલ | O13: કુમાર | P13: કન્યા | Q13: કુલ
A14: સંખ્યા | C14: =COUNTIFS('Data Entry'!$K$8:$K$67,"SC",'Data Entry'!$L$8:$L$67,"Boy") -> 0 | D14: =COUNTIFS('Data Entry'!$K$8:$K$67,"SC",'Data Entry'!$L$8:$L$67,"Girl") -> 1 | E14: =IF(AND(C14="",D14=""),"",C14+D14) -> 1 | F14: =COUNTIFS('Data Entry'!$K$8:$K$67,"ST",'Data Entry'!$L$8:$L$67,"Boy") -> 0 | G14: =COUNTIFS('Data Entry'!$K$8:$K$67,"ST",'Data Entry'!$L$8:$L$67,"Girl") -> 1 | H14: =IF(AND(F14="",G14=""),"",F14+G14) -> 1 | I14: =COUNTIFS('Data Entry'!$K$8:$K$67,"OBC",'Data Entry'!$L$8:$L$67,"Boy") -> 1 | J14: =COUNTIFS('Data Entry'!$K$8:$K$67,"OBC",'Data Entry'!$L$8:$L$67,"Girl") -> 0 | K14: =IF(AND(I14="",J14=""),"",I14+J14) -> 1 | L14: =COUNTIFS('Data Entry'!$K$8:$K$67,"GEN",'Data Entry'!$L$8:$L$67,"Boy") -> 1 | M14: =COUNTIFS('Data Entry'!$K$8:$K$67,"GEN",'Data Entry'!$L$8:$L$67,"Girl") -> 0 | N14: =IF(AND(L14="",M14=""),"",L14+M14) -> 1 | O14: =IF(AND(C14="",F14="",I14="",L14=""),"",C14+F14+I14+L14) -> 2 | P14: =IF(AND(D14="",G14="",J14="",M14=""),"",D14+G14+J14+M14) -> 2 | Q14: =IF(AND(O14="",P14=""),"",O14+P14) -> 4
A16: વર્ષ દરમ્યાન કરાવેલ શાળા તત્પરતાની પ્રવૃતિઓ | H16: સંખ્યા | J16: ભાષા/ ગણિત/ પર્યાવરણ શિક્ષણ અન્વયે વર્ષ દરમ્યાન કરાવેલ પ્રવૃતિઓ | Q16: સંખ્યા
A17: 1 | B17: બાળનાટકો | J17: 1 | K17: માટીકામ
A18: 2 | B18: પર્યટન | J18: 2 | K18: કાગળકામ
A19: 3 | B19: રમત | J19: 3 | K19: રમત
A20: 4 | B20: બાળવાર્તા | J20: 4 | K20: રંગપુરણી
A21: 5 | B21: અવલોકન પ્રવૃતિઓ | J21: 5 | K21: જોડકણા
A22: 6 | B22: વર્ગીકરણ પ્રવૃતિઓ | J22: 6 | K22: બાળગીતો
A23: 7 | B23: કુતુહલ પ્રેરક પ્રવૃતિઓ | J23: 7 | K23: ચિત્રો-આકૃતિઓ
A24: 8 | B24: અખતરા-અનુભવ જન્ય પ્રવૃતિઓ | J24: 8 | K24: ચિત્ર વર્ણન
A25: 9 | B25: ગુણ-લક્ષાણ ઓળખ પ્રવૃતિઓ | J25: 9 | K25: પ્રવાસ/પર્યટન
A26: 10 | B26: સંગ્રહ પ્રવૃતિઓ | J26: 10 | K26: નાટય પ્રવૃતિ
A27: 11 | B27: યાદ શકિત વિકાસ પ્રવૃતિઓ | J27: 11 | K27: વાર્તા કથન
A28: 12 | B28: વિચાર શકિત વિકાસ પ્રવૃતિઓ | J28: 12 | K28: સંગ્રહ પ્રવૃતિઓ
... A30: 14 | B30: તરાહની પ્રવૃતિઓ | J30: 14 | K30: ગુણ લક્ષણ ઓળખ પ્રવૃત્તિઓ

Sheet MAIN PAGE
B3: શાળાકીય સર્વગ્રાહી મૂલ્યાંકન
B4: ( SCE ) | Z4: ખાસ નોંધ :- જી.સી.ઈ.આર.ટી. ના નિયમો અનુસાર આ પત્રક ફરજિયાત નથી.
B6: ધોરણ :- | C6: =IF('Data Entry'!J2="","",'Data Entry'!J2) -> 2 | F6: વર્ગ :- | H6: =IF('Data Entry'!J3="","",'Data Entry'!J3) -> અ | M6: વર્ષ :- | P6: =IF('Data Entry'!F3="","",'Data Entry'!F3) -> 2025 | R6: - | S6: =IF('Data Entry'!H3="","",'Data Entry'!H3) -> 2026
B9: શાળા નું નામ | D9: : | E9: =IF('Data Entry'!B2="","",'Data Entry'!B2) -> કુવાદરા પ્રાથમિક શાળા
B10: ગામ | D10: : | E10: =IF('Data Entry'!D2="","",'Data Entry'!D2) -> કુવાદરા
B11: તાલુકો | D11: : | E11: =IF('Data Entry'!B3="","",'Data Entry'!B3) -> માણસા
B12: જીલ્લો | D12: : | E12: =IF('Data Entry'!D3="","",'Data Entry'!D3) -> ગાંધીનગર
B13: પે. સેન્ટર | D13: : | E13: =IF('Data Entry'!F2="","",'Data Entry'!F2) -> લોદરા
B14: પરિણામ તારીખ | D14: : | E14: =IF('Data Entry'!B4="","",'Data Entry'!B4) -> 45780
B15: વર્ગ શિક્ષક નું નામ | D15: : | E15: =IF('Data Entry'!L2="","",'Data Entry'!L2) -> પટેલ બ્રિજેશકુમાર કે.
B16: સી.આર.સી. | D16: : | E16: =IF('Data Entry'!H2="","",'Data Entry'!H2) -> લોદરા
B18: જાતિ | C18: રજિ. સંખ્યા | F18: મેળવેલ એકંદર ગ્રેડ | U18: નોંધ
F19: A | I19: B | L19: C | O19: D | R19: E
C20: કુમાર | D20: કન્યા | E20: કુલ | F20: કુમાર | G20: કન્યા | H20: કુલ | I20: કુમાર | J20: કન્યા | K20: કુલ | L20: કુમાર | M20: કન્યા | N20: કુલ | O20: કુમાર | P20: કન્યા | Q20: કુલ | R20: કુમાર | S20: કન્યા | T20: કુલ
B21: અનુ. જાતિ | C21: =COUNTIFS('Data Entry'!$K$8:$K$67,"SC",'Data Entry'!$L$8:$L$67,"Boy") -> 0 | D21: =COUNTIFS('Data Entry'!$K$8:$K$67,"SC",'Data Entry'!$L$8:$L$67,"Girl") -> 1 | E21: =SUM(C21:D21) -> 1 | F21: =COUNTIFS('Data Entry'!$K$8:$K$67,"SC",'Data Entry'!$L$8:$L$67,"Boy",'GUN PATRAK'!$AJ$52:$AJ$111,"A") -> 0 | G21: =COUNTIFS('Data Entry'!$K$8:$K$67,"SC",'Data Entry'!$L$8:$L$67,"Girl",'GUN PATRAK'!$AJ$52:$AJ$111,"A") -> 0 | H21: =SUM(F21:G21) -> 0 | I21: =COUNTIFS('Data Entry'!$K$8:$K$67,"SC",'Data Entry'!$L$8:$L$67,"Boy",'GUN PATRAK'!$AJ$52:$AJ$111,"B") -> 0 | J21: =COUNTIFS('Data Entry'!$K$8:$K$67,"SC",'Data Entry'!$L$8:$L$67,"Girl",'GUN PATRAK'!$AJ$52:$AJ$111,"B") -> 0 | K21: =SUM(I21:J21) -> 0 | L21: =COUNTIFS('Data Entry'!$K$8:$K$67,"SC",'Data Entry'!$L$8:$L$67,"Boy",'GUN PATRAK'!$AJ$52:$AJ$111,"C") -> 0 | M21: =COUNTIFS('Data Entry'!$K$8:$K$67,"SC",'Data Entry'!$L$8:$L$67,"Girl",'GUN PATRAK'!$AJ$52:$AJ$111,"C") -> 0 | N21: =SUM(L21:M21) -> 0 | O21: =COUNTIFS('Data Entry'!$K$8:$K$67,"SC",'Data Entry'!$L$8:$L$67,"Boy",'GUN PATRAK'!$AJ$52:$AJ$111,"D") -> 0 | P21: =COUNTIFS('Data Entry'!$K$8:$K$67,"SC",'Data Entry'!$L$8:$L$67,"Girl",'GUN PATRAK'!$AJ$52:$AJ$111,"D") -> 0 | Q21: =SUM(O21:P21) -> 0 | R21: =COUNTIFS('Data Entry'!$K$8:$K$67,"SC",'Data Entry'!$L$8:$L$67,"Boy",'GUN PATRAK'!$AJ$52:$AJ$111,"E") -> 0 | S21: =COUNTIFS('Data Entry'!$K$8:$K$67,"SC",'Data Entry'!$L$8:$L$67,"Girl",'GUN PATRAK'!$AJ$52:$AJ$111,"E") -> 1 | T21: =SUM(R21:S21) -> 1
B22: અનુ. જન. જાતિ | C22: =COUNTIFS('Data Entry'!$K$8:$K$67,"ST",'Data Entry'!$L$8:$L$67,"Boy") -> 0 | D22: =COUNTIFS('Data Entry'!$K$8:$K$67,"ST",'Data Entry'!$L$8:$L$67,"Girl") -> 1 | E22: =SUM(C22:D22) -> 1 | F22: =COUNTIFS('Data Entry'!$K$8:$K$67,"ST",'Data Entry'!$L$8:$L$67,"Boy",'GUN PATRAK'!$AJ$52:$AJ$111,"A") -> 0 | G22: =COUNTIFS('Data Entry'!$K$8:$K$67,"ST",'Data Entry'!$L$8:$L$67,"Girl",'GUN PATRAK'!$AJ$52:$AJ$111,"A") -> 0 | H22: =SUM(F22:G22) -> 0 | I22: =COUNTIFS('Data Entry'!$K$8:$K$67,"ST",'Data Entry'!$L$8:$L$67,"Boy",'GUN PATRAK'!$AJ$52:$AJ$111,"B") -> 0 | J22: =COUNTIFS('Data Entry'!$K$8:$K$67,"ST",'Data Entry'!$L$8:$L$67,"Girl",'GUN PATRAK'!$AJ$52:$AJ$111,"B") -> 0 | K22: =SUM(I22:J22) -> 0 | L22: =COUNTIFS('Data Entry'!$K$8:$K$67,"ST",'Data Entry'!$L$8:$L$67,"Boy",'GUN PATRAK'!$AJ$52:$AJ$111,"C") -> 0 | M22: =COUNTIFS('Data Entry'!$K$8:$K$67,"ST",'Data Entry'!$L$8:$L$67,"Girl",'GUN PATRAK'!$AJ$52:$AJ$111,"C") -> 0 | N22: =SUM(L22:M22) -> 0 | O22: =COUNTIFS('Data Entry'!$K$8:$K$67,"ST",'Data Entry'!$L$8:$L$67,"Boy",'GUN PATRAK'!$AJ$52:$AJ$111,"D") -> 0 | P22: =COUNTIFS('Data Entry'!$K$8:$K$67,"ST",'Data Entry'!$L$8:$L$67,"Girl",'GUN PATRAK'!$AJ$52:$AJ$111,"D") -> 0 | Q22: =SUM(O22:P22) -> 0 | R22: =COUNTIFS('Data Entry'!$K$8:$K$67,"ST",'Data Entry'!$L$8:$L$67,"Boy",'GUN PATRAK'!$AJ$52:$AJ$111,"E") -> 0 | S22: =COUNTIFS('Data Entry'!$K$8:$K$67,"ST",'Data Entry'!$L$8:$L$67,"Girl",'GUN PATRAK'!$AJ$52:$AJ$111,"E") -> 1 | T22: =SUM(R22:S22) -> 1
B23: સામાજિક અને શૈક્ષણિક પછાત | C23: =COUNTIFS('Data Entry'!$K$8:$K$67,"OBC",'Data Entry'!$L$8:$L$67,"Boy") -> 1 | D23: =COUNTIFS('Data Entry'!$K$8:$K$67,"OBC",'Data Entry'!$L$8:$L$67,"Girl") -> 0 | E23: =SUM(C23:D23) -> 1 | F23: =COUNTIFS('Data Entry'!$K$8:$K$67,"OBC",'Data Entry'!$L$8:$L$67,"Boy",'GUN PATRAK'!$AJ$52:$AJ$111,"A") -> 0 | G23: =COUNTIFS('Data Entry'!$K$8:$K$67,"OBC",'Data Entry'!$L$8:$L$67,"Girl",'GUN PATRAK'!$AJ$52:$AJ$111,"A") -> 0 | H23: =SUM(F23:G23) -> 0 | I23: =COUNTIFS('Data Entry'!$K$8:$K$67,"OBC",'Data Entry'!$L$8:$L$67,"Boy",'GUN PATRAK'!$AJ$52:$AJ$111,"B") -> 0 | J23: =COUNTIFS('Data Entry'!$K$8:$K$67,"OBC",'Data Entry'!$L$8:$L$67,"Girl",'GUN PATRAK'!$AJ$52:$AJ$111,"B") -> 0 | K23: =SUM(I23:J23) -> 0 | L23: =COUNTIFS('Data Entry'!$K$8:$K$67,"OBC",'Data Entry'!$L$8:$L$67,"Boy",'GUN PATRAK'!$AJ$52:$AJ$111,"C") -> 0 | M23: =COUNTIFS('Data Entry'!$K$8:$K$67,"OBC",'Data Entry'!$L$8:$L$67,"Girl",'GUN PATRAK'!$AJ$52:$AJ$111,"C") -> 0 | N23: =SUM(L23:M23) -> 0 | O23: =COUNTIFS('Data Entry'!$K$8:$K$67,"OBC",'Data Entry'!$L$8:$L$67,"Boy",'GUN PATRAK'!$AJ$52:$AJ$111,"D") -> 0 | P23: =COUNTIFS('Data Entry'!$K$8:$K$67,"OBC",'Data Entry'!$L$8:$L$67,"Girl",'GUN PATRAK'!$AJ$52:$AJ$111,"D") -> 0 | Q23: =SUM(O23:P23) -> 0 | R23: =COUNTIFS('Data Entry'!$K$8:$K$67,"OBC",'Data Entry'!$L$8:$L$67,"Boy",'GUN PATRAK'!$AJ$52:$AJ$111,"E") -> 1 | S23: =COUNTIFS('Data Entry'!$K$8:$K$67,"OBC",'Data Entry'!$L$8:$L$67,"Girl",'GUN PATRAK'!$AJ$52:$AJ$111,"E") -> 0 | T23: =SUM(R23:S23) -> 1
B24: અન્ય | C24: =COUNTIFS('Data Entry'!$K$8:$K$67,"GEN",'Data Entry'!$L$8:$L$67,"Boy") -> 1 | D24: =COUNTIFS('Data Entry'!$K$8:$K$67,"GEN",'Data Entry'!$L$8:$L$67,"Girl") -> 0 | E24: =SUM(C24:D24) -> 1 | F24: =COUNTIFS('Data Entry'!$K$8:$K$67,"GEN",'Data Entry'!$L$8:$L$67,"Boy",'GUN PATRAK'!$AJ$52:$AJ$111,"A") -> 0 | G24: =COUNTIFS('Data Entry'!$K$8:$K$67,"GEN",'Data Entry'!$L$8:$L$67,"Girl",'GUN PATRAK'!$AJ$52:$AJ$111,"A") -> 0 | H24: =SUM(F24:G24) -> 0 | I24: =COUNTIFS('Data Entry'!$K$8:$K$67,"GEN",'Data Entry'!$L$8:$L$67,"Boy",'GUN PATRAK'!$AJ$52:$AJ$111,"B") -> 1 | J24: =COUNTIFS('Data Entry'!$K$8:$K$67,"GEN",'Data Entry'!$L$8:$L$67,"Girl",'GUN PATRAK'!$AJ$52:$AJ$111,"B") -> 0 | K24: =SUM(I24:J24) -> 1 | L24: =COUNTIFS('Data Entry'!$K$8:$K$67,"GEN",'Data Entry'!$L$8:$L$67,"Boy",'GUN PATRAK'!$AJ$52:$AJ$111,"C") -> 0 | M24: =COUNTIFS('Data Entry'!$K$8:$K$67,"GEN",'Data Entry'!$L$8:$L$67,"Girl",'GUN PATRAK'!$AJ$52:$AJ$111,"C") -> 0 | N24: =SUM(L24:M24) -> 0 | O24: =COUNTIFS('Data Entry'!$K$8:$K$67,"GEN",'Data Entry'!$L$8:$L$67,"Boy",'GUN PATRAK'!$AJ$52:$AJ$111,"D") -> 0 | P24: =COUNTIFS('Data Entry'!$K$8:$K$67,"GEN",'Data Entry'!$L$8:$L$67,"Girl",'GUN PATRAK'!$AJ$52:$AJ$111,"D") -> 0 | Q24: =SUM(O24:P24) -> 0 | R24: =COUNTIFS('Data Entry'!$K$8:$K$67,"GEN",'Data Entry'!$L$8:$L$67,"Boy",'GUN PATRAK'!$AJ$52:$AJ$111,"E") -> 0 | S24: =COUNTIFS('Data Entry'!$K$8:$K$67,"GEN",'Data Entry'!$L$8:$L$67,"Girl",'GUN PATRAK'!$AJ$52:$AJ$111,"E") -> 0 | T24: =SUM(R24:S24) -> 0
B25: કુલ | C25: =SUM(C21:C24) -> 2 | D25: =SUM(D21:D24) -> 2 | E25: =SUM(E21:E24) -> 4 | F25: =SUM(F21:F24) -> 0 | G25: =SUM(G21:G24) -> 0 | H25: =SUM(H21:H24) -> 0 | I25: =SUM(I21:I24) -> 1 | J25: =SUM(J21:J24) -> 0 | ... T25: =SUM(T21:T24) -> 3

Sheet GUN PATRAK
B4: =IF('Data Entry'!B2="","",'Data Entry'!B2) -> કુવાદરા પ્રાથમિક શાળા | N4: =IF('Data Entry'!B2="","",'Data Entry'!B2) -> કુવાદરા પ્રાથમિક શાળા | Y4: ખાસ નોંધ :- જી.સી.ઈ.આર.ટી. ના નિયમો અનુસાર આ પત્રક ફરજિયાત નથી.
B6:  શાળાકીય સર્વગ્રાહી મૂલ્યાંકન  | N6:  શાળાકીય સર્વગ્રાહી મૂલ્યાંકન 
D8: વિદ્યાર્થીનું નામ :- | E8: =IF(I10="","",VLOOKUP(I10,$AA$52:$AM$111,2,0)) -> પટેલ બ્રિજેશકુમાર કાળાભાઈ | P8: વિદ્યાર્થીનું નામ :- | Q8: =IF(U10="","",VLOOKUP(U10,$AA$52:$AM$111,2,0)) | Y8: માર્ક્સ જોઈએ છે ?:- | Z8: હા
D10: ધોરણ :- | E10: =IF('Data Entry'!J2="","",'Data Entry'!J2) -> 2 | F10: વર્ગ :- | G10: =IF('Data Entry'!J3="","",'Data Entry'!J3) -> અ | H10: હાજરી પત્રક નંબર :- | I10: 1 | P10: ધોરણ :- | Q10: =IF('Data Entry'!J2="","",'Data Entry'!J2) -> 2 | R10: વર્ગ :- | S10: =IF('Data Entry'!J3="","",'Data Entry'!J3) -> અ | T10: હાજરી પત્રક નંબર :- | U10: 2 | Y10: વિકલાંગ છે ? | Z10: ના
D12: જી.આર.નંબર :- | E12: =IF(I10="","",VLOOKUP(I10,$AA$52:$AM$111,11,0)) -> 10251 | F12: UID No :- | G12: =IF(I10="","",VLOOKUP(I10,$AA$52:$AM$111,13,0)) -> 24060404501 1510001 | P12: જી.આર.નંબર :- | Q12: =IF(U10="","",VLOOKUP(U10,$AA$52:$AM$111,11,0)) | R12: UID No :- | S12: =IF(U10="","",VLOOKUP(U10,$AA$52:$AM$111,13,0)) | Y12: વિકલાંગ છે ? | Z12: ના
D14: જન્મ તારીખ :- | E14: =IF(I10="","",VLOOKUP(I10,$AA$52:$AM$111,12,0)) -> 40544 | P14: જન્મ તારીખ :- | Q14: =IF(U10="","",VLOOKUP(U10,$AA$52:$AM$111,12,0))
C16: ક્રમ | D16: વિષય | E16: કુલ ગુણ | F16: મેળવેલ ગુણ | G16: મેળવેલ ગ્રેડ | H16: વિષયના સંદર્ભમાં વિશેષ નોંધ | O16: ક્રમ | P16: વિષય | Q16: કુલ ગુણ | R16: મેળવેલ ગુણ | S16: મેળવેલ ગ્રેડ | T16: વિષયના સંદર્ભમાં વિશેષ નોંધ | Z16: =E10&Z4 -> 2
C17: 1 | D17: ગુજરાતી | E17: =IF($Z$8="હા",100,"") -> 100 | F17: =IF($Z$8="હા",IF(I10="","",VLOOKUP(I10,$AA$52:$AM$111,3,0)),"") -> 77 | G17: =IF(I10="","",VLOOKUP(I10,$AA$52:$AM$111,4,0)) -> B | H17: =IF(G17="A","અભ્યાસ ઉત્તમ",IF(G17="B","અભ્યાસ સારો",IF(G17="C","અભ્યાસ સારો",IF(G17="D","અભ્યાસ મધ્યમ",IF(G17="E","અભ્યાસ નબળો",""))))) -> અભ્યાસ સારો | O17: 1 | P17: ગુજરાતી | Q17: =IF($Z$8="હા",100,"") -> 100 | R17: =IF($Z$8="હા",IF(U10="","",VLOOKUP(U10,$AA$52:$AM$111,3,0)),"") -> 0 | S17: =IF(U10="","",VLOOKUP(U10,$AA$52:$AM$111,4,0)) -> E | T17: =IF(S17="A","અભ્યાસ ઉત્તમ",IF(S17="B","અભ્યાસ સારો",IF(S17="C","અભ્યાસ સારો",IF(S17="D","અભ્યાસ મધ્યમ",IF(S17="E","અભ્યાસ નબળો",""))))) -> અભ્યાસ નબળો
C18: 2 | D18: ગણિત | E18: =IF($Z$8="હા",100,"") -> 100 | F18: =IF($Z$8="હા",IF(I10="","",VLOOKUP(I10,$AA$52:$AM$111,5,0)),"") -> 77 | G18: =IF(I10="","",VLOOKUP(I10,$AA$52:$AM$111,6,0)) -> B | H18: =IF(G18="A","અભ્યાસ ઉત્તમ",IF(G18="B","અભ્યાસ સારો",IF(G18="C","અભ્યાસ સારો",IF(G18="D","અભ્યાસ મધ્યમ",IF(G18="E","અભ્યાસ નબળો",""))))) -> અભ્યાસ સારો | O18: 2 | P18: ગણિત | Q18: =IF($Z$8="હા",100,"") -> 100 | R18: =IF($Z$8="હા",IF(U10="","",VLOOKUP(U10,$AA$52:$AM$111,5,0)),"") -> 0 | S18: =IF(U10="","",VLOOKUP(U10,$AA$52:$AM$111,6,0)) -> E | T18: =IF(S18="A","અભ્યાસ ઉત્તમ",IF(S18="B","અભ્યાસ સારો",IF(S18="C","અભ્યાસ સારો",IF(S18="D","અભ્યાસ મધ્યમ",IF(S18="E","અભ્યાસ નબળો",""))))) -> અભ્યાસ નબળો
C19: 3 | D19: વ્યક્તિત્વ વિકાસ (મરજિયાત) | E19: =IF($Z$8="હા",100,"") -> 100 | F19: =IF($Z$8="હા",IF(I10="","",VLOOKUP(I10,$AA$52:$AM$111,7,0)),"") -> 67 | G19: =IF(I10="","",VLOOKUP(I10,$AA$52:$AM$111,8,0)) -> B | H19: =IF(G19="A","અભ્યાસ ઉત્તમ",IF(G19="B","અભ્યાસ સારો",IF(G19="C","અભ્યાસ સારો",IF(G19="D","અભ્યાસ મધ્યમ",IF(G19="E","અભ્યાસ નબળો",""))))) -> અભ્યાસ સારો | O19: 3 | P19: વ્યક્તિત્વ વિકાસ (મરજિયાત) | Q19: =IF($Z$8="હા",100,"") -> 100 | R19: =IF($Z$8="હા",IF(U10="","",VLOOKUP(U10,$AA$52:$AM$111,7,0)),"") -> 0 | S19: =IF(U10="","",VLOOKUP(U10,$AA$52:$AM$111,8,0)) -> E | T19: =IF(S19="A","અભ્યાસ ઉત્તમ",IF(S19="B","અભ્યાસ સારો",IF(S19="C","અભ્યાસ સારો",IF(S19="D","અભ્યાસ મધ્યમ",IF(S19="E","અભ્યાસ નબળો",""))))) -> અભ્યાસ નબળો
C20: મેળવેલ એકંદર કુલ | E20: =IF($Z$8="હા",SUM(E17:E19),"") -> 300 | F20: =IF($Z$8="હા",IF(I10="","",VLOOKUP(I10,$AA$52:$AM$111,9,0)),"") -> 221 | G20: =IF(I10="","",VLOOKUP(I10,$AA$52:$AM$111,10,0)) -> B | H20: =IF(G20="A","એકંદરે અભ્યાસ ઉત્તમ",IF(G20="B","એકંદરે અભ્યાસ સારો",IF(G20="C","એકંદરે અભ્યાસ સારો",IF(G20="D","એકંદરે અભ્યાસ મધ્યમ",IF(G20="E","એકંદરે અભ્યાસ નબળો",""))))) -> એકંદરે અભ્યાસ સારો | O20: મેળવેલ એકંદર કુલ | Q20: =IF($Z$8="હા",SUM(Q17:Q19),"") -> 300 | R20: =IF($Z$8="હા",IF(U10="","",VLOOKUP(U10,$AA$52:$AM$111,9,0)),"") -> 0 | S20: =IF(U10="","",VLOOKUP(U10,$AA$52:$AM$111,10,0)) -> E | T20: =IF(S20="A","એકંદરે અભ્યાસ ઉત્તમ",IF(S20="B","એકંદરે અભ્યાસ સારો",IF(S20="C","એકંદરે અભ્યાસ સારો",IF(S20="D","એકંદરે અભ્યાસ મધ્યમ",IF(S20="E","એકંદરે અભ્યાસ નબળો",""))))) -> એકંદરે અભ્યાસ નબળો
C21: મેળવેલ ટકા | E21: =IF($Z$8="હા",IFERROR(F20/E20,""),"") -> 0.73666667 | G21: પરિણામ | H21: =IF(AND(Z10="હા",E21>20%),"પાસ",IF(I10="","",IF(COUNTIF(G17:G19,"E")>1,"વર્ગ બઢતી","પાસ"))) -> પાસ | O21: મેળવેલ ટકા | Q21: =IF($Z$8="હા",IFERROR(R20/Q20,""),"") -> 0 | S21: પરિણામ | T21: =IF(AND(Z12="હા",Q21>20%),"પાસ",IF(U10="","",IF(COUNTIF(S17:S19,"E")>1,"વર્ગ બઢતી","પાસ"))) -> વર્ગ બઢતી
C23: સ્થળ :- | E23: =IF('Data Entry'!D2="","",'Data Entry'!D2) -> કુવાદરા | F23: વાલીની સહી:- | O23: સ્થળ :- | Q23: =IF('Data Entry'!D2="","",'Data Entry'!D2) -> કુવાદરા | R23: વાલીની સહી:-
C25: તારીખ :- | E25: =IF('Data Entry'!B4="","",'Data Entry'!B4) -> 45780 | O25: તારીખ :- | Q25: =IF('Data Entry'!B4="","",'Data Entry'!B4) -> 45780
D28: વર્ગ શિક્ષકની સહી | G28: આચાર્યની સહી | P28: વર્ગ શિક્ષકની સહી | S28: આચાર્યની સહી
B29: ="નોંધ :- નવા શૈક્ષણિક વર્ષમાં શાળા તારીખ :-"&'Data Entry'!Q2&" અને સમય :-"&'Data Entry'!T2&" વાગે ઉઘડશે." -> નોંધ :- નવા શૈક્ષણિક વર્ષમાં શાળા તારીખ :-09-06-2025 અને સમય :-07:00 AM વાગે ઉઘડશે. | N29: ="નોંધ :- નવા શૈક્ષણિક વર્ષમાં શાળા તારીખ :-"&'Data Entry'!Q2&" અને સમય :-"&'Data Entry'!T2&" વાગે ઉઘડશે." -> નોંધ :- નવા શૈક્ષણિક વર્ષમાં શાળા તારીખ :-09-06-2025 અને સમય :-07:00 AM વાગે ઉઘડશે.
AA50: 1 | AB50: 2 | AC50: 3 | AD50: 4 | AE50: 5 | AF50: 6 | AG50: 7 | AH50: 8 | AI50: 9 | AJ50: 10 | AK50: 11 | AL50: 12 | AM50: 13
AA51: રોલ નંબર | AB51: વિદ્યાર્થીનું નામ | AC51: ગુજરાતી | AE51: ગણિત | AG51: વ્યક્તિત્વ વિકાસ | AI51: કુલ | AK51: જી.આર.નંબર | AL51: જન્મ તારીખ | AM51: યુનિક આઈડી નંબર
AA52: =IF('Data Entry'!A8="","",'Data Entry'!A8) -> 1 | AB52: =IF('Data Entry'!B8="","",'Data Entry'!B8) -> પટેલ બ્રિજેશકુમાર કાળાભાઈ | AC52: =IF('D4 BHASHA PARYAVARAN'!AF4="","",'D4 BHASHA PARYAVARAN'!AF4) -> 77 | AD52: =IF('D4 BHASHA PARYAVARAN'!AG4="","",'D4 BHASHA PARYAVARAN'!AG4) -> B | AE52: =IF('D4 GANIT'!AC4="","",'D4 GANIT'!AC4) -> 77 | AF52: =IF('D4 GANIT'!AD4="","",'D4 GANIT'!AD4) -> B | AG52: =IF('VYAKTITV VIKAS'!S4="","",'VYAKTITV VIKAS'!S4) -> 67 | AH52: =IF('VYAKTITV VIKAS'!T4="","",'VYAKTITV VIKAS'!T4) -> B | AI52: =IF(AA52="","",(AC52+AE52+AG52)) -> 221 | AJ52: =IF(AA52="","",IF(AI52>=240,"A",IF(AI52>=195,"B",IF(AI52>=150,"C",IF(AI52>=105,"D",IF(AI52<=104,"E")))))) -> B | AK52: =IF('Data Entry'!C8="","",'Data Entry'!C8) -> 10251 | AL52: =IF('Data Entry'!D8="","",'Data Entry'!D8) -> 40544 | AM52: =IF('Data Entry'!M8="","",'Data Entry'!M8) -> 24060404501 1510001
AA53: =IF('Data Entry'!A9="","",'Data Entry'!A9) -> 2 | AB53: =IF('Data Entry'!B9="","",'Data Entry'!B9) | AC53: =IF('D4 BHASHA PARYAVARAN'!AF5="","",'D4 BHASHA PARYAVARAN'!AF5) -> 0 | AD53: =IF('D4 BHASHA PARYAVARAN'!AG5="","",'D4 BHASHA PARYAVARAN'!AG5) -> E | AE53: =IF('D4 GANIT'!AC5="","",'D4 GANIT'!AC5) -> 0 | AF53: =IF('D4 GANIT'!AD5="","",'D4 GANIT'!AD5) -> E | AG53: =IF('VYAKTITV VIKAS'!S5="","",'VYAKTITV VIKAS'!S5) -> 0 | AH53: =IF('VYAKTITV VIKAS'!T5="","",'VYAKTITV VIKAS'!T5) -> E | AI53: =IF(AA53="","",(AC53+AE53+AG53)) -> 0 | AJ53: =IF(AA53="","",IF(AI53>=240,"A",IF(AI53>=195,"B",IF(AI53>=150,"C",IF(AI53>=105,"D",IF(AI53<=104,"E")))))) -> E | AK53: =IF('Data Entry'!C9="","",'Data Entry'!C9) | AL53: =IF('Data Entry'!D9="","",'Data Entry'!D9) | AM53: =IF('Data Entry'!M9="","",'Data Entry'!M9)
AA54: =IF('Data Entry'!A10="","",'Data Entry'!A10) -> 3 | AB54: =IF('Data Entry'!B10="","",'Data Entry'!B10) | AC54: =IF('D4 BHASHA PARYAVARAN'!AF6="","",'D4 BHASHA PARYAVARAN'!AF6) -> 0 | AD54: =IF('D4 BHASHA PARYAVARAN'!AG6="","",'D4 BHASHA PARYAVARAN'!AG6) -> E | AE54: =IF('D4 GANIT'!AC6="","",'D4 GANIT'!AC6) -> 0 | AF54: =IF('D4 GANIT'!AD6="","",'D4 GANIT'!AD6) -> E | AG54: =IF('VYAKTITV VIKAS'!S6="","",'VYAKTITV VIKAS'!S6) -> 0 | AH54: =IF('VYAKTITV VIKAS'!T6="","",'VYAKTITV VIKAS'!T6) -> E | AI54: =IF(AA54="","",(AC54+AE54+AG54)) -> 0 | AJ54: =IF(AA54="","",IF(AI54>=240,"A",IF(AI54>=195,"B",IF(AI54>=150,"C",IF(AI54>=105,"D",IF(AI54<=104,"E")))))) -> E | AK54: =IF('Data Entry'!C10="","",'Data Entry'!C10) | AL54: =IF('Data Entry'!D10="","",'Data Entry'!D10) | AM54: =IF('Data Entry'!M10="","",'Data Entry'!M10)
AA55: =IF('Data Entry'!A11="","",'Data Entry'!A11) -> 4 | AB55: =IF('Data Entry'!B11="","",'Data Entry'!B11) | AC55: =IF('D4 BHASHA PARYAVARAN'!AF7="","",'D4 BHASHA PARYAVARAN'!AF7) -> 0 | AD55: =IF('D4 BHASHA PARYAVARAN'!AG7="","",'D4 BHASHA PARYAVARAN'!AG7) -> E | AE55: =IF('D4 GANIT'!AC7="","",'D4 GANIT'!AC7) -> 0 | AF55: =IF('D4 GANIT'!AD7="","",'D4 GANIT'!AD7) -> E | AG55: =IF('VYAKTITV VIKAS'!S7="","",'VYAKTITV VIKAS'!S7) -> 0 | AH55: =IF('VYAKTITV VIKAS'!T7="","",'VYAKTITV VIKAS'!T7) -> E | AI55: =IF(AA55="","",(AC55+AE55+AG55)) -> 0 | AJ55: =IF(AA55="","",IF(AI55>=240,"A",IF(AI55>=195,"B",IF(AI55>=150,"C",IF(AI55>=105,"D",IF(AI55<=104,"E")))))) -> E | AK55: =IF('Data Entry'!C11="","",'Data Entry'!C11) | AL55: =IF('Data Entry'!D11="","",'Data Entry'!D11) | AM55: =IF('Data Entry'!M11="","",'Data Entry'!M11)
AA56: =IF('Data Entry'!A12="","",'Data Entry'!A12) -> 5 | AB56: =IF('Data Entry'!B12="","",'Data Entry'!B12) | AC56: =IF('D4 BHASHA PARYAVARAN'!AF8="","",'D4 BHASHA PARYAVARAN'!AF8) -> 0 | AD56: =IF('D4 BHASHA PARYAVARAN'!AG8="","",'D4 BHASHA PARYAVARAN'!AG8) -> E | AE56: =IF('D4 GANIT'!AC8="","",'D4 GANIT'!AC8) -> 0 | AF56: =IF('D4 GANIT'!AD8="","",'D4 GANIT'!AD8) -> E | AG56: =IF('VYAKTITV VIKAS'!S8="","",'VYAKTITV VIKAS'!S8) -> 0 | AH56: =IF('VYAKTITV VIKAS'!T8="","",'VYAKTITV VIKAS'!T8) -> E | AI56: =IF(AA56="","",(AC56+AE56+AG56)) -> 0 | AJ56: =IF(AA56="","",IF(AI56>=240,"A",IF(AI56>=195,"B",IF(AI56>=150,"C",IF(AI56>=105,"D",IF(AI56<=104,"E")))))) -> E | AK56: =IF('Data Entry'!C12="","",'Data Entry'!C12) | AL56: =IF('Data Entry'!D12="","",'Data Entry'!D12) | AM56: =IF('Data Entry'!M12="","",'Data Entry'!M12)
AA57: =IF('Data Entry'!A13="","",'Data Entry'!A13) -> 6 | AB57: =IF('Data Entry'!B13="","",'Data Entry'!B13) | AC57: =IF('D4 BHASHA PARYAVARAN'!AF9="","",'D4 BHASHA PARYAVARAN'!AF9) -> 0 | AD57: =IF('D4 BHASHA PARYAVARAN'!AG9="","",'D4 BHASHA PARYAVARAN'!AG9) -> E | AE57: =IF('D4 GANIT'!AC9="","",'D4 GANIT'!AC9) -> 0 | AF57: =IF('D4 GANIT'!AD9="","",'D4 GANIT'!AD9) -> E | AG57: =IF('VYAKTITV VIKAS'!S9="","",'VYAKTITV VIKAS'!S9) -> 0 | AH57: =IF('VYAKTITV VIKAS'!T9="","",'VYAKTITV VIKAS'!T9) -> E | AI57: =IF(AA57="","",(AC57+AE57+AG57)) -> 0 | AJ57: =IF(AA57="","",IF(AI57>=240,"A",IF(AI57>=195,"B",IF(AI57>=150,"C",IF(AI57>=105,"D",IF(AI57<=104,"E")))))) -> E | AK57: =IF('Data Entry'!C13="","",'Data Entry'!C13) | AL57: =IF('Data Entry'!D13="","",'Data Entry'!D13) | AM57: =IF('Data Entry'!M13="","",'Data Entry'!M13)
AA58: =IF('Data Entry'!A14="","",'Data Entry'!A14) -> 7 | AB58: =IF('Data Entry'!B14="","",'Data Entry'!B14) | AC58: =IF('D4 BHASHA PARYAVARAN'!AF10="","",'D4 BHASHA PARYAVARAN'!AF10) -> 0 | AD58: =IF('D4 BHASHA PARYAVARAN'!AG10="","",'D4 BHASHA PARYAVARAN'!AG10) -> E | AE58: =IF('D4 GANIT'!AC10="","",'D4 GANIT'!AC10) -> 0 | AF58: =IF('D4 GANIT'!AD10="","",'D4 GANIT'!AD10) -> E | AG58: =IF('VYAKTITV VIKAS'!S10="","",'VYAKTITV VIKAS'!S10) -> 0 | AH58: =IF('VYAKTITV VIKAS'!T10="","",'VYAKTITV VIKAS'!T10) -> E | AI58: =IF(AA58="","",(AC58+AE58+AG58)) -> 0 | AJ58: =IF(AA58="","",IF(AI58>=240,"A",IF(AI58>=195,"B",IF(AI58>=150,"C",IF(AI58>=105,"D",IF(AI58<=104,"E")))))) -> E | AK58: =IF('Data Entry'!C14="","",'Data Entry'!C14) | AL58: =IF('Data Entry'!D14="","",'Data Entry'!D14) | AM58: =IF('Data Entry'!M14="","",'Data Entry'!M14)
AA59: =IF('Data Entry'!A15="","",'Data Entry'!A15) -> 8 | AB59: =IF('Data Entry'!B15="","",'Data Entry'!B15) | AC59: =IF('D4 BHASHA PARYAVARAN'!AF11="","",'D4 BHASHA PARYAVARAN'!AF11) -> 0 | AD59: =IF('D4 BHASHA PARYAVARAN'!AG11="","",'D4 BHASHA PARYAVARAN'!AG11) -> E | AE59: =IF('D4 GANIT'!AC11="","",'D4 GANIT'!AC11) -> 0 | AF59: =IF('D4 GANIT'!AD11="","",'D4 GANIT'!AD11) -> E | AG59: =IF('VYAKTITV VIKAS'!S11="","",'VYAKTITV VIKAS'!S11) -> 0 | AH59: =IF('VYAKTITV VIKAS'!T11="","",'VYAKTITV VIKAS'!T11) -> E | AI59: =IF(AA59="","",(AC59+AE59+AG59)) -> 0 | AJ59: =IF(AA59="","",IF(AI59>=240,"A",IF(AI59>=195,"B",IF(AI59>=150,"C",IF(AI59>=105,"D",IF(AI59<=104,"E")))))) -> E | AK59: =IF('Data Entry'!C15="","",'Data Entry'!C15) | AL59: =IF('Data Entry'!D15="","",'Data Entry'!D15) | AM59: =IF('Data Entry'!M15="","",'Data Entry'!M15)
AA60: =IF('Data Entry'!A16="","",'Data Entry'!A16) -> 9 | AB60: =IF('Data Entry'!B16="","",'Data Entry'!B16) | AC60: =IF('D4 BHASHA PARYAVARAN'!AF12="","",'D4 BHASHA PARYAVARAN'!AF12) -> 0 | AD60: =IF('D4 BHASHA PARYAVARAN'!AG12="","",'D4 BHASHA PARYAVARAN'!AG12) -> E | AE60: =IF('D4 GANIT'!AC12="","",'D4 GANIT'!AC12) -> 0 | AF60: =IF('D4 GANIT'!AD12="","",'D4 GANIT'!AD12) -> E | AG60: =IF('VYAKTITV VIKAS'!S12="","",'VYAKTITV VIKAS'!S12) -> 0 | AH60: =IF('VYAKTITV VIKAS'!T12="","",'VYAKTITV VIKAS'!T12) -> E | AI60: =IF(AA60="","",(AC60+AE60+AG60)) -> 0 | AJ60: =IF(AA60="","",IF(AI60>=240,"A",IF(AI60>=195,"B",IF(AI60>=150,"C",IF(AI60>=105,"D",IF(AI60<=104,"E")))))) -> E | AK60: =IF('Data Entry'!C16="","",'Data Entry'!C16) | AL60: =IF('Data Entry'!D16="","",'Data Entry'!D16) | AM60: =IF('Data Entry'!M16="","",'Data Entry'!M16)
AA61: =IF('Data Entry'!A17="","",'Data Entry'!A17) -> 10 | AB61: =IF('Data Entry'!B17="","",'Data Entry'!B17) | AC61: =IF('D4 BHASHA PARYAVARAN'!AF13="","",'D4 BHASHA PARYAVARAN'!AF13) -> 0 | AD61: =IF('D4 BHASHA PARYAVARAN'!AG13="","",'D4 BHASHA PARYAVARAN'!AG13) -> E | AE61: =IF('D4 GANIT'!AC13="","",'D4 GANIT'!AC13) -> 0 | AF61: =IF('D4 GANIT'!AD13="","",'D4 GANIT'!AD13) -> E | AG61: =IF('VYAKTITV VIKAS'!S13="","",'VYAKTITV VIKAS'!S13) -> 0 | AH61: =IF('VYAKTITV VIKAS'!T13="","",'VYAKTITV VIKAS'!T13) -> E | AI61: =IF(AA61="","",(AC61+AE61+AG61)) -> 0 | AJ61: =IF(AA61="","",IF(AI61>=240,"A",IF(AI61>=195,"B",IF(AI61>=150,"C",IF(AI61>=105,"D",IF(AI61<=104,"E")))))) -> E | AK61: =IF('Data Entry'!C17="","",'Data Entry'!C17) | AL61: =IF('Data Entry'!D17="","",'Data Entry'!D17) | AM61: =IF('Data Entry'!M17="","",'Data Entry'!M17)
AA62: =IF('Data Entry'!A18="","",'Data Entry'!A18) -> 11 | AB62: =IF('Data Entry'!B18="","",'Data Entry'!B18) | AC62: =IF('D4 BHASHA PARYAVARAN'!AF14="","",'D4 BHASHA PARYAVARAN'!AF14) -> 0 | AD62: =IF('D4 BHASHA PARYAVARAN'!AG14="","",'D4 BHASHA PARYAVARAN'!AG14) -> E | AE62: =IF('D4 GANIT'!AC14="","",'D4 GANIT'!AC14) -> 0 | AF62: =IF('D4 GANIT'!AD14="","",'D4 GANIT'!AD14) -> E | AG62: =IF('VYAKTITV VIKAS'!S14="","",'VYAKTITV VIKAS'!S14) -> 0 | AH62: =IF('VYAKTITV VIKAS'!T14="","",'VYAKTITV VIKAS'!T14) -> E | AI62: =IF(AA62="","",(AC62+AE62+AG62)) -> 0 | AJ62: =IF(AA62="","",IF(AI62>=240,"A",IF(AI62>=195,"B",IF(AI62>=150,"C",IF(AI62>=105,"D",IF(AI62<=104,"E")))))) -> E | AK62: =IF('Data Entry'!C18="","",'Data Entry'!C18) | AL62: =IF('Data Entry'!D18="","",'Data Entry'!D18) | AM62: =IF('Data Entry'!M18="","",'Data Entry'!M18)
AA63: =IF('Data Entry'!A19="","",'Data Entry'!A19) -> 12 | AB63: =IF('Data Entry'!B19="","",'Data Entry'!B19) | AC63: =IF('D4 BHASHA PARYAVARAN'!AF15="","",'D4 BHASHA PARYAVARAN'!AF15) -> 0 | AD63: =IF('D4 BHASHA PARYAVARAN'!AG15="","",'D4 BHASHA PARYAVARAN'!AG15) -> E | AE63: =IF('D4 GANIT'!AC15="","",'D4 GANIT'!AC15) -> 0 | AF63: =IF('D4 GANIT'!AD15="","",'D4 GANIT'!AD15) -> E | AG63: =IF('VYAKTITV VIKAS'!S15="","",'VYAKTITV VIKAS'!S15) -> 0 | AH63: =IF('VYAKTITV VIKAS'!T15="","",'VYAKTITV VIKAS'!T15) -> E | AI63: =IF(AA63="","",(AC63+AE63+AG63)) -> 0 | AJ63: =IF(AA63="","",IF(AI63>=240,"A",IF(AI63>=195,"B",IF(AI63>=150,"C",IF(AI63>=105,"D",IF(AI63<=104,"E")))))) -> E | AK63: =IF('Data Entry'!C19="","",'Data Entry'!C19) | AL63: =IF('Data Entry'!D19="","",'Data Entry'!D19) | AM63: =IF('Data Entry'!M19="","",'Data Entry'!M19)
... AA111: =IF('Data Entry'!A67="","",'Data Entry'!A67) -> 60 | AB111: =IF('Data Entry'!B67="","",'Data Entry'!B67) | AC111: =IF('D4 BHASHA PARYAVARAN'!AF63="","",'D4 BHASHA PARYAVARAN'!AF63) -> 0 | AD111: =IF('D4 BHASHA PARYAVARAN'!AG63="","",'D4 BHASHA PARYAVARAN'!AG63) -> E | AE111: =IF('D4 GANIT'!AC63="","",'D4 GANIT'!AC63) -> 0 | AF111: =IF('D4 GANIT'!AD63="","",'D4 GANIT'!AD63) -> E | AG111: =IF('VYAKTITV VIKAS'!S63="","",'VYAKTITV VIKAS'!S63) -> 0 | AH111: =IF('VYAKTITV VIKAS'!T63="","",'VYAKTITV VIKAS'!T63) -> E | AI111: =IF(AA111="","",(AC111+AE111+AG111)) -> 0 | AJ111: =IF(AA111="","",IF(AI111>=240,"A",IF(AI111>=195,"B",IF(AI111>=150,"C",IF(AI111>=105,"D",IF(AI111<=104,"E")))))) -> E | AK111: =IF('Data Entry'!C67="","",'Data Entry'!C67) | AL111: =IF('Data Entry'!D67="","",'Data Entry'!D67) | AM111: =IF('Data Entry'!M67="","",'Data Entry'!M67)
