Workbook

Sheet Index_Brijesh
O1: Current Version | P1: 3
O2: Made On :- | P2: 45575
O3: Update On :- | P3: 45940
A4: 1 | B4: આકષર્ક તમામ પ્રિન્ટ પેજ બોર્ડર સાથે સૌ પ્રથમ વાર Excel માં. | D4: 1.આ સોફ્ટવેરમાં ફોન્ટ SHREE_GUJ_OTF_0750 વાપરવામાં આવેલ છે. જેથી ફોન્ટ સૌ પ્રથમ ડાઉનલોડ કરી પછી જ ફાઈલ open કરવી.
O5: આવી અલગ અલગ ફાઈલ તેમજ અપડેટ ફાઈલ મેળવવા નીચેની લિંક પર ક્લિક કરી વોટ્સ અપ ગ્રુપમાં જોઈન થઇ જાઓ.
A6: 2 | B6: જ્યાં માહિતી ભરવાની થાય છે ત્યાં પ્રત્યેક cell માં સમજૂતી આપેલ છે. | D6: 2. દરેક શીટ પર જવા માટે બાજુમાં આપેલ બટનનો ઉપયોગ કરવો.
A8: 3 | B8: તમામ માહિતી માટે ખૂબ જ ચોક્કસાઈ રહે તે માટે યોગ્ય ડેટા એન્ટ્રી પરcell વાઈઝ પ્રોટેકશન રાખવામાં આવેલ છે. | D8: 3. સૌ પ્રથમ DataEntry શીટ પર જવું | O8: https://chat.whatsapp.com/DNQ8guLr9uGFARwSJZrYMu
A10: 4 | B10: રજીસ્ટર સંખ્યા મુજબ જ દરેક ધોરણ ની રો ખૂલશે. | D10: 4. ત્યારબાદ DataEntry શીટ પરની માહિતી ચોકસાઈ પૂર્વક ભરવી.
A12: 5 | B12: રજીસ્ટર સંખ્યા મુજબ જ દરેક ધોરણ ની રો ખૂલશે. | D12: 5. ત્યારબાદ વિકાસાત્મક ઉદ્દેશ : - ૦૧ થી ૦૩ની માહિતી ભરવી.
A14: 6 | B14: યોગ્ય પ્રગતિ પત્રક દરેક વિદ્યાર્થીનું | D14: 6. ત્યારબાદ જ તમામ પત્રકો અને પ્રગતિ પત્રક પ્રિન્ટ કરવા.
D16: 7. માહિતી કોપી પેસ્ટ કરવાની થાય ત્યારે Paste Special માં Paste Value કરવું.
D18: 8. દરેક Cell પર આપવામાં આવેલ Comments અવશ્ય વાંચવી અને તેને અનુસરવું.
D20: 9. જો તારીખ લખવામાં એરર આવે તો તમારા કમ્પ્યુટરનું તારીખ ફોરમેટ DD-MM-YYYY કરી દો.

Sheet PROBLEMS
A2: સોફ્ટવેર વાપરતી વખતે આવતી સમસ્યાઓ અને તેની સામે નિવારણ
A4: સમસ્યા - જન્મ તારીખ DD MM YYYY પ્રમાણે લેતું નથી
A5: ઉકેલ - તમારા કોમ્પ્યુટરનું તારીખ નું ફોર્મેટ DD MM YYYY મુજબ કરો.
A7: સમસ્યા - પત્રક C મા ટકાવારી 100 કરતા વધારે બતાવે છે.
A8: ઉકેલ - નવી અદ્યતન ફાઈલ વાપરો.
A10: સમસ્યા - પત્રક F માં જિલ્લા શિક્ષણ સમિતિ ગાંધીનગર જ રહે છે
A11: ઉકેલ - નવી અદ્યતન ફાઈલ વાપરો.
A13: સમસ્યા - પત્રક C માં ટકાવારી અને પાસ નંબર પ્રિન્ટમાં આવતી નથી
A14: ઉકેલ - જીસીઇઆરટી ના નિયમ મુજબ તે પ્રિન્ટમાં લઈ શકાય નહીં.
A16: સમસ્યા - પત્રક C ના ફ્રન્ટ પેજમાં ગ્રેડ અલગ અલગ આવે છે.
A17: ઉકેલ - સત્ર 1 છે ત્યાં સત્ર 2 કરો.
A19: સમસ્યા - સત્ર 1 અને સત્ર 2 ના ગ્રેડ સરાસરી 0 કે ખોટી બતાવે છે.
... A53: By Brijesh Patel

Sheet Data Entry
A2: શાળા નું નામ :- | B2: કુવાદરા પ્રાથમિક શાળા | C2: ગામ/શહેર નું નામ :- | D2: કુવાદરા | E2: પે સેન્ટર નું નામ :- | F2: લોદરા | G2: સી.આર.સી. :- | H2: લોદરા | I2: ધોરણ :- | J2: 1 | K2: વર્ગ શિક્ષકશ્રીનું નામ :- | L2: પટેલ બ્રિજેશકુમાર કે. | O2: શાળા ઉઘડવાની તારીખ :- | Q2: 09-06-2025 | R2: શાળા ઉઘડવાનો સમય :- | T2: 07:00 AM
A3: તાલુકો :- | B3: માણસા | C3: જિલ્લો :- | D3: ગાંધીનગર | E3: વર્ષ :- | F3: 2025 | G3: - | H3: 2026 | I3: વર્ગ :- | J3: અ | K3: કુલ કાર્ય દિવસ :- | L3: 233
A4: પરિણામની તારીખ :- | B4: 45447 | C4: સમિતિ | D4: જીલ્લા શિક્ષણ સમિતિ | F4: શાળા ડાયસ કોડ :- | G4: 24060404501 | I4: વર્ગની રજીસ્ટર સંખ્યા :- | J4: 60
A5: માહિતી Copy-Paste ના કરશો. માહિતી Copy કરીને Paste Special પર જઈ Value and Value Formatrs કરવું.
A7: ક્રમ | B7: વિદ્યાર્થીનું નામ | C7: જી.આર.નંબર | D7: જન્મ તારીખ | E7: સરનામું | F7: હાજર દિવસ | G7: માતા નું નામ | H7: સંપર્ક નંબર | I7: યુનિક આઈડી નંબર (શરૂના ૧૧ અંક) | J7: યુનિક આઈડી નંબર (છેલ્લા ૭ અંક) | K7: જાતિ | L7: કુમાર/કન્યા
A8: =IF(J4>0,1,"") -> 1 | B8: પટેલ બ્રિજેશકુમાર કાળાભાઈ | C8: 10251 | D8: 40544 | E8: અંબિકાનગર | F8: 212 | G8: કોકિલાબેન | H8: 7778031603 | I8: 24060404501 | J8: 1510001 | K8: GEN | L8: Boy | M8: =I8&" "&J8 -> 24060404501 1510001
A9: =IF($J$4>A8,A8+1,"") -> 2 | K9: SC | L9: Girl | M9: =I9&" "&J9
A10: =IF($J$4>A9,A9+1,"") -> 3 | K10: ST | L10: Girl | M10: =I10&" "&J10
A11: =IF($J$4>A10,A10+1,"") -> 4 | K11: OBC | L11: Boy | M11: =I11&" "&J11
A12: =IF($J$4>A11,A11+1,"") -> 5 | M12: =I12&" "&J12
A13: =IF($J$4>A12,A12+1,"") -> 6 | M13: =I13&" "&J13
A14: =IF($J$4>A13,A13+1,"") -> 7 | M14: =I14&" "&J14
A15: =IF($J$4>A14,A14+1,"") -> 8 | M15: =I15&" "&J15
A16: =IF($J$4>A15,A15+1,"") -> 9 | M16: =I16&" "&J16
A17: =IF($J$4>A16,A16+1,"") -> 10 | M17: =I17&" "&J17
A18: =IF($J$4>A17,A17+1,"") -> 11 | M18: =I18&" "&J18
A19: =IF($J$4>A18,A18+1,"") -> 12 | M19: =I19&" "&J19
A20: =IF($J$4>A19,A19+1,"") -> 13 | M20: =I20&" "&J20
A21: =IF($J$4>A20,A20+1,"") -> 14 | M21: =I21&" "&J21
A22: =IF($J$4>A21,A21+1,"") -> 15 | M22: =I22&" "&J22
A23: =IF($J$4>A22,A22+1,"") -> 16 | M23: =I23&" "&J23
... A67: =IF($J$4>A66,A66+1,"") -> 60 | M67: =I67&" "&J67

Sheet D2 BHASHA PARYAVARAN
A1: અ.નં. | B1: વિદ્યાર્થીનું નામ | C1: જનરલ રજીસ્ટર નંબર | D1: હાજર દિવસ | E1: ભાષા - પર્યાવરણના અભ્યાસક્રમનું વિષયવસ્તુ
E2: આઠ થી દસ વિવિધ બાબતોની સૂચનાઓ સમજે છે અને અનુસરે છે. | F2: વાર્તાના હેતુ પાત્રોને ધ્યાનમાં રાખી અલગ સ્વરૂપે વાર્તા કહે છે અને સરળ પાત્રો સાથે વાર્તા બનાવે છે. | G2: પાઠ્યસામગ્રીમા આવતા નવા શબ્દોના અર્થનું અનુમાન કરે છે. | H2: સાદા વિરામ ચિહનોને ઓળખે છે ( પૂર્ણ વિરામ, પ્રશ્નાર્થ ચિહ્ન) | I2: તમામ અક્ષરને ઓળખે, ધ્વનિ સાથે જોડે અને શબ્દો વાંચે છે. | J2: યોગ્ય સ્વર અને વિરામચિન્હ સાથે ટૂંકા ફકરા ચોકસાઈથી વાંચે છે. | K2: સમાન પાઠ્ય અને દ્રશ્ય સામગ્રીવાળા પુસ્તકોને સ્વતંત્ર રીતે વાંચવાનું શરૂ કરે છે. | L2: અપરિચિત વાર્તાના પુસ્તકો વાંચવાનું અને શિક્ષકના માર્ગદર્શનથી સમજવાનું શરૂ કરે છે. | M2: વાર્તાના કથાવસ્તુ અને પાત્રોને ઓળખે છે. | N2: ટૂંકી કવિતાઓ વાંચે છે અને કવિતાનું શાબ્દિક અર્થ વર્ણવે છે. | O2: રમત રમવા માટે સરળ સૂચનાઓ વાંચે છે અને જૂથ સાથે તે રમે છે. | P2: ત્રણ અથવા ચાર અક્ષર વાળા શબ્દો ચોકસાઈથી લખેલ છે. ( શ્રુતલેખન) | Q2: ચિત્રોને ક્રમમાં ગોઠવે છે અને તેની સાથે ટૂંકા વાક્યો લખે છે | R2: શબ્દો અને ટૂંકા વાક્યો લખીને ચિત્રનું વર્ણન કરે છે | S2: સરળ પ્રક્રિયાઓ માટે સહપાઠીઓ માટે ટૂંકી સૂચનાઓ લખે છે. | T2: પુસ્તક પસંદ કરતી વખતે પોતાની પ્રાથમિકતા સમજાવે છે. | U2: નિયમિત અંતરાલ પરના નાના પુસ્તકો વાંચે છે. | V2: પરિચિત વસ્તુઓને ચિત્રમાં ઓળખે છે. | W2: સાંભળેલી સુચના મુજબ ચિત્ર દોરે છે. | X2: વાર્તાની ઘટનાઓનો ક્રમ સમજે છે. | Y2: સત્રાંતે વિદ્યાર્થીઓએ મેળવેલ જે તે નિશાનીઓની સંખ્યા
E3: 1 | F3: 2 | G3: 3 | H3: 4 | I3: 5 | J3: 6 | K3: 7 | L3: 8 | M3: 9 | N3: 10 | O3: 11 | P3: 12 | Q3: 13 | R3: 14 | S3: 15 | T3: 16 | U3: 17 | V3: 18 | W3: 19 | X3: 20 | Y3: A | Z3: B | AA3: C | AC3: =(COUNTA(E4:X4)*3) -> 60
A4: =IF('Data Entry'!A8="","",'Data Entry'!A8) -> 1 | B4: =IF('Data Entry'!B8="","",'Data Entry'!B8) -> પટેલ બ્રિજેશકુમાર કાળાભાઈ | C4: =IF('Data Entry'!C8="","",'Data Entry'!C8) -> 10251 | D4: =IF('Data Entry'!F8="","",'Data Entry'!F8) -> 212 | E4: A | F4: A | G4: A | H4: B | I4: B | J4: B | K4: C | L4: C | M4: C | N4: A | O4: C | P4: A | Q4: B | R4: A | S4: B | T4: B | U4: A | V4: A | W4: B | X4: B | Y4: =IF($AE$1=1,"",IF(A4="","",COUNTIF(E4:X4,$Y$3))) -> 8 | Z4: =IF($AE$1=1,"",IF(A4="","",COUNTIF(E4:X4,$Z$3))) -> 8 | AA4: =IF($AE$1=1,"",IF(A4="","",COUNTIF(E4:X4,$AA$3))) -> 4 | AB4: =(Y4*3)+(Z4*2)+(AA4*1) -> 44 | AC4: =IF(A4="","",ROUND(AB4*100/$AC$3,0)) -> 73 | AD4: =IF(A4="","",IF(AC4>=80,"A",IF(AC4>=65,"B",IF(AC4>=50,"C",IF(AC4>=35,"D",IF(AC4<=34,"E")))))) -> B
A5: =IF('Data Entry'!A9="","",'Data Entry'!A9) -> 2 | B5: =IF('Data Entry'!B9="","",'Data Entry'!B9) | C5: =IF('Data Entry'!C9="","",'Data Entry'!C9) | D5: =IF('Data Entry'!F9="","",'Data Entry'!F9) | Y5: =IF($AE$1=1,"",IF(A5="","",COUNTIF(E5:X5,$Y$3))) -> 0 | Z5: =IF($AE$1=1,"",IF(A5="","",COUNTIF(E5:X5,$Z$3))) -> 0 | AA5: =IF($AE$1=1,"",IF(A5="","",COUNTIF(E5:X5,$AA$3))) -> 0 | AB5: =(Y5*3)+(Z5*2)+(AA5*1) -> 0 | AC5: =IF(A5="","",ROUND(AB5*100/$AC$3,0)) -> 0 | AD5: =IF(A5="","",IF(AC5>=80,"A",IF(AC5>=65,"B",IF(AC5>=50,"C",IF(AC5>=35,"D",IF(AC5<=34,"E")))))) -> E
A6: =IF('Data Entry'!A10="","",'Data Entry'!A10) -> 3 | B6: =IF('Data Entry'!B10="","",'Data Entry'!B10) | C6: =IF('Data Entry'!C10="","",'Data Entry'!C10) | D6: =IF('Data Entry'!F10="","",'Data Entry'!F10) | Y6: =IF($AE$1=1,"",IF(A6="","",COUNTIF(E6:X6,$Y$3))) -> 0 | Z6: =IF($AE$1=1,"",IF(A6="","",COUNTIF(E6:X6,$Z$3))) -> 0 | AA6: =IF($AE$1=1,"",IF(A6="","",COUNTIF(E6:X6,$AA$3))) -> 0 | AB6: =(Y6*3)+(Z6*2)+(AA6*1) -> 0 | AC6: =IF(A6="","",ROUND(AB6*100/$AC$3,0)) -> 0 | AD6: =IF(A6="","",IF(AC6>=80,"A",IF(AC6>=65,"B",IF(AC6>=50,"C",IF(AC6>=35,"D",IF(AC6<=34,"E")))))) -> E
A7: =IF('Data Entry'!A11="","",'Data Entry'!A11) -> 4 | B7: =IF('Data Entry'!B11="","",'Data Entry'!B11) | C7: =IF('Data Entry'!C11="","",'Data Entry'!C11) | D7: =IF('Data Entry'!F11="","",'Data Entry'!F11) | Y7: =IF($AE$1=1,"",IF(A7="","",COUNTIF(E7:X7,$Y$3))) -> 0 | Z7: =IF($AE$1=1,"",IF(A7="","",COUNTIF(E7:X7,$Z$3))) -> 0 | AA7: =IF($AE$1=1,"",IF(A7="","",COUNTIF(E7:X7,$AA$3))) -> 0 | AB7: =(Y7*3)+(Z7*2)+(AA7*1) -> 0 | AC7: =IF(A7="","",ROUND(AB7*100/$AC$3,0)) -> 0 | AD7: =IF(A7="","",IF(AC7>=80,"A",IF(AC7>=65,"B",IF(AC7>=50,"C",IF(AC7>=35,"D",IF(AC7<=34,"E")))))) -> E
A8: =IF('Data Entry'!A12="","",'Data Entry'!A12) -> 5 | B8: =IF('Data Entry'!B12="","",'Data Entry'!B12) | C8: =IF('Data Entry'!C12="","",'Data Entry'!C12) | D8: =IF('Data Entry'!F12="","",'Data Entry'!F12) | Y8: =IF($AE$1=1,"",IF(A8="","",COUNTIF(E8:X8,$Y$3))) -> 0 | Z8: =IF($AE$1=1,"",IF(A8="","",COUNTIF(E8:X8,$Z$3))) -> 0 | AA8: =IF($AE$1=1,"",IF(A8="","",COUNTIF(E8:X8,$AA$3))) -> 0 | AB8: =(Y8*3)+(Z8*2)+(AA8*1) -> 0 | AC8: =IF(A8="","",ROUND(AB8*100/$AC$3,0)) -> 0 | AD8: =IF(A8="","",IF(AC8>=80,"A",IF(AC8>=65,"B",IF(AC8>=50,"C",IF(AC8>=35,"D",IF(AC8<=34,"E")))))) -> E
A9: =IF('Data Entry'!A13="","",'Data Entry'!A13) -> 6 | B9: =IF('Data Entry'!B13="","",'Data Entry'!B13) | C9: =IF('Data Entry'!C13="","",'Data Entry'!C13) | D9: =IF('Data Entry'!F13="","",'Data Entry'!F13) | Y9: =IF($AE$1=1,"",IF(A9="","",COUNTIF(E9:X9,$Y$3))) -> 0 | Z9: =IF($AE$1=1,"",IF(A9="","",COUNTIF(E9:X9,$Z$3))) -> 0 | AA9: =IF($AE$1=1,"",IF(A9="","",COUNTIF(E9:X9,$AA$3))) -> 0 | AB9: =(Y9*3)+(Z9*2)+(AA9*1) -> 0 | AC9: =IF(A9="","",ROUND(AB9*100/$AC$3,0)) -> 0 | AD9: =IF(A9="","",IF(AC9>=80,"A",IF(AC9>=65,"B",IF(AC9>=50,"C",IF(AC9>=35,"D",IF(AC9<=34,"E")))))) -> E
A10: =IF('Data Entry'!A14="","",'Data Entry'!A14) -> 7 | B10: =IF('Data Entry'!B14="","",'Data Entry'!B14) | C10: =IF('Data Entry'!C14="","",'Data Entry'!C14) | D10: =IF('Data Entry'!F14="","",'Data Entry'!F14) | Y10: =IF($AE$1=1,"",IF(A10="","",COUNTIF(E10:X10,$Y$3))) -> 0 | Z10: =IF($AE$1=1,"",IF(A10="","",COUNTIF(E10:X10,$Z$3))) -> 0 | AA10: =IF($AE$1=1,"",IF(A10="","",COUNTIF(E10:X10,$AA$3))) -> 0 | AB10: =(Y10*3)+(Z10*2)+(AA10*1) -> 0 | AC10: =IF(A10="","",ROUND(AB10*100/$AC$3,0)) -> 0 | AD10: =IF(A10="","",IF(AC10>=80,"A",IF(AC10>=65,"B",IF(AC10>=50,"C",IF(AC10>=35,"D",IF(AC10<=34,"E")))))) -> E
A11: =IF('Data Entry'!A15="","",'Data Entry'!A15) -> 8 | B11: =IF('Data Entry'!B15="","",'Data Entry'!B15) | C11: =IF('Data Entry'!C15="","",'Data Entry'!C15) | D11: =IF('Data Entry'!F15="","",'Data Entry'!F15) | Y11: =IF($AE$1=1,"",IF(A11="","",COUNTIF(E11:X11,$Y$3))) -> 0 | Z11: =IF($AE$1=1,"",IF(A11="","",COUNTIF(E11:X11,$Z$3))) -> 0 | AA11: =IF($AE$1=1,"",IF(A11="","",COUNTIF(E11:X11,$AA$3))) -> 0 | AB11: =(Y11*3)+(Z11*2)+(AA11*1) -> 0 | AC11: =IF(A11="","",ROUND(AB11*100/$AC$3,0)) -> 0 | AD11: =IF(A11="","",IF(AC11>=80,"A",IF(AC11>=65,"B",IF(AC11>=50,"C",IF(AC11>=35,"D",IF(AC11<=34,"E")))))) -> E
A12: =IF('Data Entry'!A16="","",'Data Entry'!A16) -> 9 | B12: =IF('Data Entry'!B16="","",'Data Entry'!B16) | C12: =IF('Data Entry'!C16="","",'Data Entry'!C16) | D12: =IF('Data Entry'!F16="","",'Data Entry'!F16) | Y12: =IF($AE$1=1,"",IF(A12="","",COUNTIF(E12:X12,$Y$3))) -> 0 | Z12: =IF($AE$1=1,"",IF(A12="","",COUNTIF(E12:X12,$Z$3))) -> 0 | AA12: =IF($AE$1=1,"",IF(A12="","",COUNTIF(E12:X12,$AA$3))) -> 0 | AB12: =(Y12*3)+(Z12*2)+(AA12*1) -> 0 | AC12: =IF(A12="","",ROUND(AB12*100/$AC$3,0)) -> 0 | AD12: =IF(A12="","",IF(AC12>=80,"A",IF(AC12>=65,"B",IF(AC12>=50,"C",IF(AC12>=35,"D",IF(AC12<=34,"E")))))) -> E
A13: =IF('Data Entry'!A17="","",'Data Entry'!A17) -> 10 | B13: =IF('Data Entry'!B17="","",'Data Entry'!B17) | C13: =IF('Data Entry'!C17="","",'Data Entry'!C17) | D13: =IF('Data Entry'!F17="","",'Data Entry'!F17) | Y13: =IF($AE$1=1,"",IF(A13="","",COUNTIF(E13:X13,$Y$3))) -> 0 | Z13: =IF($AE$1=1,"",IF(A13="","",COUNTIF(E13:X13,$Z$3))) -> 0 | AA13: =IF($AE$1=1,"",IF(A13="","",COUNTIF(E13:X13,$AA$3))) -> 0 | AB13: =(Y13*3)+(Z13*2)+(AA13*1) -> 0 | AC13: =IF(A13="","",ROUND(AB13*100/$AC$3,0)) -> 0 | AD13: =IF(A13="","",IF(AC13>=80,"A",IF(AC13>=65,"B",IF(AC13>=50,"C",IF(AC13>=35,"D",IF(AC13<=34,"E")))))) -> E
A14: =IF('Data Entry'!A18="","",'Data Entry'!A18) -> 11 | B14: =IF('Data Entry'!B18="","",'Data Entry'!B18) | C14: =IF('Data Entry'!C18="","",'Data Entry'!C18) | D14: =IF('Data Entry'!F18="","",'Data Entry'!F18) | Y14: =IF($AE$1=1,"",IF(A14="","",COUNTIF(E14:X14,$Y$3))) -> 0 | Z14: =IF($AE$1=1,"",IF(A14="","",COUNTIF(E14:X14,$Z$3))) -> 0 | AA14: =IF($AE$1=1,"",IF(A14="","",COUNTIF(E14:X14,$AA$3))) -> 0 | AB14: =(Y14*3)+(Z14*2)+(AA14*1) -> 0 | AC14: =IF(A14="","",ROUND(AB14*100/$AC$3,0)) -> 0 | AD14: =IF(A14="","",IF(AC14>=80,"A",IF(AC14>=65,"B",IF(AC14>=50,"C",IF(AC14>=35,"D",IF(AC14<=34,"E")))))) -> E
A15: =IF('Data Entry'!A19="","",'Data Entry'!A19) -> 12 | B15: =IF('Data Entry'!B19="","",'Data Entry'!B19) | C15: =IF('Data Entry'!C19="","",'Data Entry'!C19) | D15: =IF('Data Entry'!F19="","",'Data Entry'!F19) | Y15: =IF($AE$1=1,"",IF(A15="","",COUNTIF(E15:X15,$Y$3))) -> 0 | Z15: =IF($AE$1=1,"",IF(A15="","",COUNTIF(E15:X15,$Z$3))) -> 0 | AA15: =IF($AE$1=1,"",IF(A15="","",COUNTIF(E15:X15,$AA$3))) -> 0 | AB15: =(Y15*3)+(Z15*2)+(AA15*1) -> 0 | AC15: =IF(A15="","",ROUND(AB15*100/$AC$3,0)) -> 0 | AD15: =IF(A15="","",IF(AC15>=80,"A",IF(AC15>=65,"B",IF(AC15>=50,"C",IF(AC15>=35,"D",IF(AC15<=34,"E")))))) -> E
A16: =IF('Data Entry'!A20="","",'Data Entry'!A20) -> 13 | B16: =IF('Data Entry'!B20="","",'Data Entry'!B20) | C16: =IF('Data Entry'!C20="","",'Data Entry'!C20) | D16: =IF('Data Entry'!F20="","",'Data Entry'!F20) | Y16: =IF($AE$1=1,"",IF(A16="","",COUNTIF(E16:X16,$Y$3))) -> 0 | Z16: =IF($AE$1=1,"",IF(A16="","",COUNTIF(E16:X16,$Z$3))) -> 0 | AA16: =IF($AE$1=1,"",IF(A16="","",COUNTIF(E16:X16,$AA$3))) -> 0 | AB16: =(Y16*3)+(Z16*2)+(AA16*1) -> 0 | AC16: =IF(A16="","",ROUND(AB16*100/$AC$3,0)) -> 0 | AD16: =IF(A16="","",IF(AC16>=80,"A",IF(AC16>=65,"B",IF(AC16>=50,"C",IF(AC16>=35,"D",IF(AC16<=34,"E")))))) -> E
... A63: =IF('Data Entry'!A67="","",'Data Entry'!A67) -> 60 | B63: =IF('Data Entry'!B67="","",'Data Entry'!B67) | C63: =IF('Data Entry'!C67="","",'Data Entry'!C67) | D63: =IF('Data Entry'!F67="","",'Data Entry'!F67) | Y63: =IF($AE$1=1,"",IF(A63="","",COUNTIF(E63:X63,$Y$3))) -> 0 | Z63: =IF($AE$1=1,"",IF(A63="","",COUNTIF(E63:X63,$Z$3))) -> 0 | AA63: =IF($AE$1=1,"",IF(A63="","",COUNTIF(E63:X63,$AA$3))) -> 0 | AB63: =(Y63*3)+(Z63*2)+(AA63*1) -> 0 | AC63: =IF(A63="","",ROUND(AB63*100/$AC$3,0)) -> 0 | AD63: =IF(A63="","",IF(AC63>=80,"A",IF(AC63>=65,"B",IF(AC63>=50,"C",IF(AC63>=35,"D",IF(AC63<=34,"E")))))) -> E

Sheet D2 GANIT
A1: અ.નં. | B1: વિદ્યાર્થીનું નામ | C1: જનરલ રજીસ્ટર નંબર | D1: હાજર દિવસ | E1: ગણિતના અભ્યાસક્રમનું વિષયવસ્તુ
E2: લક્ષણોને આધારે જ વસ્તુઓને જૂથમાં વર્ગીકૃત કરે છે. ( દા.ત આજુબાજુના પર્યાવરણમાં રહેતા પ્રાણીઓનું વર્ગીકૃત કરવા) | F2: ૯૯ સુધીની સંખ્યા ની ગણતરી કરે છે. ૯૯ સુધીની સંખ્યા દશના જૂથની પેટર્ન તરીકે સમજે છે. | G2: ૦ થી ૯૯ની વચ્ચે માંથી આગળ અને પાછળની તરફ ગણતરી કરે છે. | H2: વસ્તુના વિવિધ ગુણધર્મો ( દા.ત કદ/ લંબાઈ/ વજન / રંગ) આધારે વિવિધ ક્રમમાં વસ્તુના સરખા સમૂહને ગોઠવે છે. | I2: ૨૦ સુધીની સંખ્યાઓને અંકોમા અને ૧૦ સુધીની સંખ્યાઓને શબ્દોમાં ઓળખે છે. | J2: ૨૦ સુધીની બે સંખ્યાઓને તુલના કરે છે. તેનાથી મોટી અથવા તેનાથી નાની જેવા શબ્દોનો ઉપયોગ કરે છે. | K2: મૂર્ત વસ્તુઓના ઉપયોગથી ૧૮ સુધીના સરવાળા કરે છે. | L2: મૂર્ત વસ્તુના ઉપયોગથી ૯ સુધીની બાદબાકી કરે છે. | M2: + - ની નિશાનીઓ ને ઓળખે છે. સંખ્યાઓના સરવાળા અને બાદબાકી વચ્ચે સંબંધ વિકસાવે છે. | N2: ગુણાકારની નિશાનીને ઓળખે છે નાની સંખ્યાના ગુણાકારના પ્રશ્નો ઉકેલે છે. | O2: ભાગાકારની નિશાની ઓળખે છે. ભાગાકાર ના પ્રશ્નો ઉકેલવા માટે પ્રયત્ન અને ભૂલ તેમજ જૂથમાં વહેંચણીનો ઉપયોગ કરે છે. | P2: અવકાશીય સંબંધના શબ્દો વિકસાવે છે અને તેનો ઉપયોગ કરે છે (દા ત. ઉપર, નીચે, ની ઉપર ,ની નીચે, અંદર, બહાર, ઉંચે,નીચે, નજીક, દૂર, પહેલા, પછી ) | Q2: વિવિધ ઘન આકારોની ભૌતિક વિશેષતા ઓનું અવલોકન કરે છે.( દડો ગબડે, બોક્સ સરકે) | R2: નજીક,દૂર , પાતળા, જાડા, લાંબા, ઊંચા, ટૂંકા,નીચા વચ્ચેનો તફાવત કરે છે. | S2: અસમાન એકમોના સંદર્ભમાં ટૂંકી લંબાઈને માપે છે. ( ગિલ્લી દંડા અને લખોટીની રમત) | T2: ટૂંકા અંતર અને લંબાઈ નો અંદાજ કાઢે છે. અસમાન અને બિન પ્રમાણિત એકમો નો ઉપયોગ કરીને ચકાસણી કરે છે. ( હાથની વેત, પગના પગલાં, આંગળી) | U2: તુલના કરે છે, હલકીથી ભારે વસ્તુઓ અથવા ભારેથી હલકી વસ્તુઓને ક્રમમાં મૂકે છે. | V2: કપ /ચમચી / મગ જેવા એકસમાન બિન પ્રમાણિત એકમોનો ઉપયોગ કરીને પાત્રની ગુંજાશ નો અંદાજ કાઢે છે અને માપે છે. | W2: એક દિવસમાં બનતી ઘટનાઓનો ક્રમ અને પહેલા અને પછી જેવા શબ્દોનો ઉપયોગ કરીને ઘટનાઓ વચ્ચે તફાવત કરે છે. | X2: કુલ ૨૦ રૂપિયા થાય એ રીતે નોટ અથવા સિક્કા ભેગા કરે છે. | Y2: સત્રાંતે વિદ્યાર્થીઓએ મેળવેલ જે તે નિશાનીઓની સંખ્યા
E3: 1 | F3: 2 | G3: 3 | H3: 4 | I3: 5 | J3: 6 | K3: 7 | L3: 8 | M3: 9 | N3: 10 | O3: 11 | P3: 12 | Q3: 13 | R3: 14 | S3: 15 | T3: 16 | U3: 17 | V3: 18 | W3: 19 | X3: 20 | Y3: A | Z3: B | AA3: C | AC3: =(COUNTA(E4:X4)*3) -> 60
A4: =IF('Data Entry'!A8="","",'Data Entry'!A8) -> 1 | B4: =IF('Data Entry'!B8="","",'Data Entry'!B8) -> પટેલ બ્રિજેશકુમાર કાળાભાઈ | C4: =IF('Data Entry'!C8="","",'Data Entry'!C8) -> 10251 | D4: =IF('Data Entry'!F8="","",'Data Entry'!F8) -> 212 | E4: A | F4: B | G4: C | H4: A | I4: B | J4: C | K4: B | L4: C | M4: A | N4: B | O4: B | P4: A | Q4: B | R4: C | S4: C | T4: B | U4: A | V4: A | W4: B | X4: C | Y4: =IF($AF$1=1,"",IF(A4="","",COUNTIF(E4:X4,$Y$3))) -> 6 | Z4: =IF($AF$1=1,"",IF(A4="","",COUNTIF(E4:X4,$Z$3))) -> 8 | AA4: =IF($AF$1=1,"",IF(A4="","",COUNTIF(E4:X4,$AA$3))) -> 6 | AB4: =(Y4*3)+(Z4*2)+(AA4*1) -> 40 | AC4: =IF(A4="","",ROUND(AB4*100/$AC$3,0)) -> 67 | AD4: =IF(A4="","",IF(AC4>=80,"A",IF(AC4>=65,"B",IF(AC4>=50,"C",IF(AC4>=35,"D",IF(AC4<=34,"E")))))) -> B
A5: =IF('Data Entry'!A9="","",'Data Entry'!A9) -> 2 | B5: =IF('Data Entry'!B9="","",'Data Entry'!B9) | C5: =IF('Data Entry'!C9="","",'Data Entry'!C9) | D5: =IF('Data Entry'!F9="","",'Data Entry'!F9) | Y5: =IF($AF$1=1,"",IF(A5="","",COUNTIF(E5:X5,$Y$3))) -> 0 | Z5: =IF($AF$1=1,"",IF(A5="","",COUNTIF(E5:X5,$Z$3))) -> 0 | AA5: =IF($AF$1=1,"",IF(A5="","",COUNTIF(E5:X5,$AA$3))) -> 0 | AB5: =(Y5*3)+(Z5*2)+(AA5*1) -> 0 | AC5: =IF(A5="","",ROUND(AB5*100/$AC$3,0)) -> 0 | AD5: =IF(A5="","",IF(AC5>=80,"A",IF(AC5>=65,"B",IF(AC5>=50,"C",IF(AC5>=35,"D",IF(AC5<=34,"E")))))) -> E
A6: =IF('Data Entry'!A10="","",'Data Entry'!A10) -> 3 | B6: =IF('Data Entry'!B10="","",'Data Entry'!B10) | C6: =IF('Data Entry'!C10="","",'Data Entry'!C10) | D6: =IF('Data Entry'!F10="","",'Data Entry'!F10) | Y6: =IF($AF$1=1,"",IF(A6="","",COUNTIF(E6:X6,$Y$3))) -> 0 | Z6: =IF($AF$1=1,"",IF(A6="","",COUNTIF(E6:X6,$Z$3))) -> 0 | AA6: =IF($AF$1=1,"",IF(A6="","",COUNTIF(E6:X6,$AA$3))) -> 0 | AB6: =(Y6*3)+(Z6*2)+(AA6*1) -> 0 | AC6: =IF(A6="","",ROUND(AB6*100/$AC$3,0)) -> 0 | AD6: =IF(A6="","",IF(AC6>=80,"A",IF(AC6>=65,"B",IF(AC6>=50,"C",IF(AC6>=35,"D",IF(AC6<=34,"E")))))) -> E
A7: =IF('Data Entry'!A11="","",'Data Entry'!A11) -> 4 | B7: =IF('Data Entry'!B11="","",'Data Entry'!B11) | C7: =IF('Data Entry'!C11="","",'Data Entry'!C11) | D7: =IF('Data Entry'!F11="","",'Data Entry'!F11) | Y7: =IF($AF$1=1,"",IF(A7="","",COUNTIF(E7:X7,$Y$3))) -> 0 | Z7: =IF($AF$1=1,"",IF(A7="","",COUNTIF(E7:X7,$Z$3))) -> 0 | AA7: =IF($AF$1=1,"",IF(A7="","",COUNTIF(E7:X7,$AA$3))) -> 0 | AB7: =(Y7*3)+(Z7*2)+(AA7*1) -> 0 | AC7: =IF(A7="","",ROUND(AB7*100/$AC$3,0)) -> 0 | AD7: =IF(A7="","",IF(AC7>=80,"A",IF(AC7>=65,"B",IF(AC7>=50,"C",IF(AC7>=35,"D",IF(AC7<=34,"E")))))) -> E
A8: =IF('Data Entry'!A12="","",'Data Entry'!A12) -> 5 | B8: =IF('Data Entry'!B12="","",'Data Entry'!B12) | C8: =IF('Data Entry'!C12="","",'Data Entry'!C12) | D8: =IF('Data Entry'!F12="","",'Data Entry'!F12) | Y8: =IF($AF$1=1,"",IF(A8="","",COUNTIF(E8:X8,$Y$3))) -> 0 | Z8: =IF($AF$1=1,"",IF(A8="","",COUNTIF(E8:X8,$Z$3))) -> 0 | AA8: =IF($AF$1=1,"",IF(A8="","",COUNTIF(E8:X8,$AA$3))) -> 0 | AB8: =(Y8*3)+(Z8*2)+(AA8*1) -> 0 | AC8: =IF(A8="","",ROUND(AB8*100/$AC$3,0)) -> 0 | AD8: =IF(A8="","",IF(AC8>=80,"A",IF(AC8>=65,"B",IF(AC8>=50,"C",IF(AC8>=35,"D",IF(AC8<=34,"E")))))) -> E
A9: =IF('Data Entry'!A13="","",'Data Entry'!A13) -> 6 | B9: =IF('Data Entry'!B13="","",'Data Entry'!B13) | C9: =IF('Data Entry'!C13="","",'Data Entry'!C13) | D9: =IF('Data Entry'!F13="","",'Data Entry'!F13) | Y9: =IF($AF$1=1,"",IF(A9="","",COUNTIF(E9:X9,$Y$3))) -> 0 | Z9: =IF($AF$1=1,"",IF(A9="","",COUNTIF(E9:X9,$Z$3))) -> 0 | AA9: =IF($AF$1=1,"",IF(A9="","",COUNTIF(E9:X9,$AA$3))) -> 0 | AB9: =(Y9*3)+(Z9*2)+(AA9*1) -> 0 | AC9: =IF(A9="","",ROUND(AB9*100/$AC$3,0)) -> 0 | AD9: =IF(A9="","",IF(AC9>=80,"A",IF(AC9>=65,"B",IF(AC9>=50,"C",IF(AC9>=35,"D",IF(AC9<=34,"E")))))) -> E
A10: =IF('Data Entry'!A14="","",'Data Entry'!A14) -> 7 | B10: =IF('Data Entry'!B14="","",'Data Entry'!B14) | C10: =IF('Data Entry'!C14="","",'Data Entry'!C14) | D10: =IF('Data Entry'!F14="","",'Data Entry'!F14) | Y10: =IF($AF$1=1,"",IF(A10="","",COUNTIF(E10:X10,$Y$3))) -> 0 | Z10: =IF($AF$1=1,"",IF(A10="","",COUNTIF(E10:X10,$Z$3))) -> 0 | AA10: =IF($AF$1=1,"",IF(A10="","",COUNTIF(E10:X10,$AA$3))) -> 0 | AB10: =(Y10*3)+(Z10*2)+(AA10*1) -> 0 | AC10: =IF(A10="","",ROUND(AB10*100/$AC$3,0)) -> 0 | AD10: =IF(A10="","",IF(AC10>=80,"A",IF(AC10>=65,"B",IF(AC10>=50,"C",IF(AC10>=35,"D",IF(AC10<=34,"E")))))) -> E
A11: =IF('Data Entry'!A15="","",'Data Entry'!A15) -> 8 | B11: =IF('Data Entry'!B15="","",'Data Entry'!B15) | C11: =IF('Data Entry'!C15="","",'Data Entry'!C15) | D11: =IF('Data Entry'!F15="","",'Data Entry'!F15) | Y11: =IF($AF$1=1,"",IF(A11="","",COUNTIF(E11:X11,$Y$3))) -> 0 | Z11: =IF($AF$1=1,"",IF(A11="","",COUNTIF(E11:X11,$Z$3))) -> 0 | AA11: =IF($AF$1=1,"",IF(A11="","",COUNTIF(E11:X11,$AA$3))) -> 0 | AB11: =(Y11*3)+(Z11*2)+(AA11*1) -> 0 | AC11: =IF(A11="","",ROUND(AB11*100/$AC$3,0)) -> 0 | AD11: =IF(A11="","",IF(AC11>=80,"A",IF(AC11>=65,"B",IF(AC11>=50,"C",IF(AC11>=35,"D",IF(AC11<=34,"E")))))) -> E
A12: =IF('Data Entry'!A16="","",'Data Entry'!A16) -> 9 | B12: =IF('Data Entry'!B16="","",'Data Entry'!B16) | C12: =IF('Data Entry'!C16="","",'Data Entry'!C16) | D12: =IF('Data Entry'!F16="","",'Data Entry'!F16) | Y12: =IF($AF$1=1,"",IF(A12="","",COUNTIF(E12:X12,$Y$3))) -> 0 | Z12: =IF($AF$1=1,"",IF(A12="","",COUNTIF(E12:X12,$Z$3))) -> 0 | AA12: =IF($AF$1=1,"",IF(A12="","",COUNTIF(E12:X12,$AA$3))) -> 0 | AB12: =(Y12*3)+(Z12*2)+(AA12*1) -> 0 | AC12: =IF(A12="","",ROUND(AB12*100/$AC$3,0)) -> 0 | AD12: =IF(A12="","",IF(AC12>=80,"A",IF(AC12>=65,"B",IF(AC12>=50,"C",IF(AC12>=35,"D",IF(AC12<=34,"E")))))) -> E
A13: =IF('Data Entry'!A17="","",'Data Entry'!A17) -> 10 | B13: =IF('Data Entry'!B17="","",'Data Entry'!B17) | C13: =IF('Data Entry'!C17="","",'Data Entry'!C17) | D13: =IF('Data Entry'!F17="","",'Data Entry'!F17) | Y13: =IF($AF$1=1,"",IF(A13="","",COUNTIF(E13:X13,$Y$3))) -> 0 | Z13: =IF($AF$1=1,"",IF(A13="","",COUNTIF(E13:X13,$Z$3))) -> 0 | AA13: =IF($AF$1=1,"",IF(A13="","",COUNTIF(E13:X13,$AA$3))) -> 0 | AB13: =(Y13*3)+(Z13*2)+(AA13*1) -> 0 | AC13: =IF(A13="","",ROUND(AB13*100/$AC$3,0)) -> 0 | AD13: =IF(A13="","",IF(AC13>=80,"A",IF(AC13>=65,"B",IF(AC13>=50,"C",IF(AC13>=35,"D",IF(AC13<=34,"E")))))) -> E
A14: =IF('Data Entry'!A18="","",'Data Entry'!A18) -> 11 | B14: =IF('Data Entry'!B18="","",'Data Entry'!B18) | C14: =IF('Data Entry'!C18="","",'Data Entry'!C18) | D14: =IF('Data Entry'!F18="","",'Data Entry'!F18) | Y14: =IF($AF$1=1,"",IF(A14="","",COUNTIF(E14:X14,$Y$3))) -> 0 | Z14: =IF($AF$1=1,"",IF(A14="","",COUNTIF(E14:X14,$Z$3))) -> 0 | AA14: =IF($AF$1=1,"",IF(A14="","",COUNTIF(E14:X14,$AA$3))) -> 0 | AB14: =(Y14*3)+(Z14*2)+(AA14*1) -> 0 | AC14: =IF(A14="","",ROUND(AB14*100/$AC$3,0)) -> 0 | AD14: =IF(A14="","",IF(AC14>=80,"A",IF(AC14>=65,"B",IF(AC14>=50,"C",IF(AC14>=35,"D",IF(AC14<=34,"E")))))) -> E
A15: =IF('Data Entry'!A19="","",'Data Entry'!A19) -> 12 | B15: =IF('Data Entry'!B19="","",'Data Entry'!B19) | C15: =IF('Data Entry'!C19="","",'Data Entry'!C19) | D15: =IF('Data Entry'!F19="","",'Data Entry'!F19) | Y15: =IF($AF$1=1,"",IF(A15="","",COUNTIF(E15:X15,$Y$3))) -> 0 | Z15: =IF($AF$1=1,"",IF(A15="","",COUNTIF(E15:X15,$Z$3))) -> 0 | AA15: =IF($AF$1=1,"",IF(A15="","",COUNTIF(E15:X15,$AA$3))) -> 0 | AB15: =(Y15*3)+(Z15*2)+(AA15*1) -> 0 | AC15: =IF(A15="","",ROUND(AB15*100/$AC$3,0)) -> 0 | AD15: =IF(A15="","",IF(AC15>=80,"A",IF(AC15>=65,"B",IF(AC15>=50,"C",IF(AC15>=35,"D",IF(AC15<=34,"E")))))) -> E
A16: =IF('Data Entry'!A20="","",'Data Entry'!A20) -> 13 | B16: =IF('Data Entry'!B20="","",'Data Entry'!B20) | C16: =IF('Data Entry'!C20="","",'Data Entry'!C20) | D16: =IF('Data Entry'!F20="","",'Data Entry'!F20) | Y16: =IF($AF$1=1,"",IF(A16="","",COUNTIF(E16:X16,$Y$3))) -> 0 | Z16: =IF($AF$1=1,"",IF(A16="","",COUNTIF(E16:X16,$Z$3))) -> 0 | AA16: =IF($AF$1=1,"",IF(A16="","",COUNTIF(E16:X16,$AA$3))) -> 0 | AB16: =(Y16*3)+(Z16*2)+(AA16*1) -> 0 | AC16: =IF(A16="","",ROUND(AB16*100/$AC$3,0)) -> 0 | AD16: =IF(A16="","",IF(AC16>=80,"A",IF(AC16>=65,"B",IF(AC16>=50,"C",IF(AC16>=35,"D",IF(AC16<=34,"E")))))) -> E
... A63: =IF('Data Entry'!A67="","",'Data Entry'!A67) -> 60 | B63: =IF('Data Entry'!B67="","",'Data Entry'!B67) | C63: =IF('Data Entry'!C67="","",'Data Entry'!C67) | D63: =IF('Data Entry'!F67="","",'Data Entry'!F67) | Y63: =IF($AF$1=1,"",IF(A63="","",COUNTIF(E63:X63,$Y$3))) -> 0 | Z63: =IF($AF$1=1,"",IF(A63="","",COUNTIF(E63:X63,$Z$3))) -> 0 | AA63: =IF($AF$1=1,"",IF(A63="","",COUNTIF(E63:X63,$AA$3))) -> 0 | AB63: =(Y63*3)+(Z63*2)+(AA63*1) -> 0 | AC63: =IF(A63="","",ROUND(AB63*100/$AC$3,0)) -> 0 | AD63: =IF(A63="","",IF(AC63>=80,"A",IF(AC63>=65,"B",IF(AC63>=50,"C",IF(AC63>=35,"D",IF(AC63<=34,"E")))))) -> E

Sheet VYAKTITV VIKAS
A1: વ્યક્તિત્વ વિકાસ પત્રક મૂલ્યાંકન
A2: અ.નં. | B2: વિદ્યાર્થીનું નામ | C2: શાળાએ નિયમિત અને સમયસર આવે છે. | D2: શરીર અને કપડા સ્વચ્છ રાખે છે. | E2: સમૂહમાં હળીમળીને રહે છે. | F2: વડીલો પ્રત્યે આદર ધરાવે છે. | G2: શાળાકીય કાર્યક્રમોમાં સહકાર આપે છે. | H2: સત્ય બોલવાનું વલણ દાખવે છે. | I2: શિસ્તપૂર્વક વર્તે છે. | J2: પુસ્તકો / સાધનો વ્યવસ્થિત રાખે છે. | K2: નવું જાણવાની જીજ્ઞાસા ધરાવે છે. | L2: પ્રાણીઓ પ્રત્યે કરૂણા દાખવે છે. | M2: જૂથ કાર્યમાં સક્રિય પણે ભાગ લે છે. | N2: સત્રાંતે વિદ્યાર્થીઓએ મેળવેલ જે તે નિશાનીઓની સંખ્યા | T2: ખાસ નોંધ :- જી.સી.ઈ.આર.ટી. ના નિયમો અનુસાર આ પત્રક ફરજિયાત નથી.
C3: 1 | D3: 2 | E3: 3 | F3: 4 | G3: 5 | H3: 6 | I3: 7 | J3: 8 | K3: 9 | L3: 10 | M3: 11 | N3: A | O3: B | P3: C | R3: =(COUNTA(C4:M4)*3) -> 33
A4: =IF('Data Entry'!A8="","",'Data Entry'!A8) -> 1 | B4: =IF('Data Entry'!B8="","",'Data Entry'!B8) -> પટેલ બ્રિજેશકુમાર કાળાભાઈ | C4: A | D4: A | E4: B | F4: B | G4: C | H4: C | I4: A | J4: A | K4: A | L4: A | M4: A | N4: =IF($S$1=1,"",IF(A4="","",COUNTIF(C4:M4,$N$3))) -> 7 | O4: =IF($S$1=1,"",IF(A4="","",COUNTIF(C4:M4,$O$3))) -> 2 | P4: =IF($S$1=1,"",IF(A4="","",COUNTIF(C4:M4,$P$3))) -> 2 | Q4: =(N4*3)+(O4*2)+(P4*1) -> 27 | R4: =IF(A4="","",ROUND(Q4*100/$R$3,0)) -> 82 | S4: =IF(A4="","",IF(R4>=80,"A",IF(R4>=65,"B",IF(R4>=50,"C",IF(R4>=35,"D",IF(R4<=34,"E")))))) -> A
A5: =IF('Data Entry'!A9="","",'Data Entry'!A9) -> 2 | B5: =IF('Data Entry'!B9="","",'Data Entry'!B9) | N5: =IF($S$1=1,"",IF(A5="","",COUNTIF(C5:M5,$N$3))) -> 0 | O5: =IF($S$1=1,"",IF(A5="","",COUNTIF(C5:M5,$O$3))) -> 0 | P5: =IF($S$1=1,"",IF(A5="","",COUNTIF(C5:M5,$P$3))) -> 0 | Q5: =(N5*3)+(O5*2)+(P5*1) -> 0 | R5: =IF(A5="","",ROUND(Q5*100/$R$3,0)) -> 0 | S5: =IF(A5="","",IF(R5>=80,"A",IF(R5>=65,"B",IF(R5>=50,"C",IF(R5>=35,"D",IF(R5<=34,"E")))))) -> E
A6: =IF('Data Entry'!A10="","",'Data Entry'!A10) -> 3 | B6: =IF('Data Entry'!B10="","",'Data Entry'!B10) | N6: =IF($S$1=1,"",IF(A6="","",COUNTIF(C6:M6,$N$3))) -> 0 | O6: =IF($S$1=1,"",IF(A6="","",COUNTIF(C6:M6,$O$3))) -> 0 | P6: =IF($S$1=1,"",IF(A6="","",COUNTIF(C6:M6,$P$3))) -> 0 | Q6: =(N6*3)+(O6*2)+(P6*1) -> 0 | R6: =IF(A6="","",ROUND(Q6*100/$R$3,0)) -> 0 | S6: =IF(A6="","",IF(R6>=80,"A",IF(R6>=65,"B",IF(R6>=50,"C",IF(R6>=35,"D",IF(R6<=34,"E")))))) -> E
A7: =IF('Data Entry'!A11="","",'Data Entry'!A11) -> 4 | B7: =IF('Data Entry'!B11="","",'Data Entry'!B11) | N7: =IF($S$1=1,"",IF(A7="","",COUNTIF(C7:M7,$N$3))) -> 0 | O7: =IF($S$1=1,"",IF(A7="","",COUNTIF(C7:M7,$O$3))) -> 0 | P7: =IF($S$1=1,"",IF(A7="","",COUNTIF(C7:M7,$P$3))) -> 0 | Q7: =(N7*3)+(O7*2)+(P7*1) -> 0 | R7: =IF(A7="","",ROUND(Q7*100/$R$3,0)) -> 0 | S7: =IF(A7="","",IF(R7>=80,"A",IF(R7>=65,"B",IF(R7>=50,"C",IF(R7>=35,"D",IF(R7<=34,"E")))))) -> E
A8: =IF('Data Entry'!A12="","",'Data Entry'!A12) -> 5 | B8: =IF('Data Entry'!B12="","",'Data Entry'!B12) | N8: =IF($S$1=1,"",IF(A8="","",COUNTIF(C8:M8,$N$3))) -> 0 | O8: =IF($S$1=1,"",IF(A8="","",COUNTIF(C8:M8,$O$3))) -> 0 | P8: =IF($S$1=1,"",IF(A8="","",COUNTIF(C8:M8,$P$3))) -> 0 | Q8: =(N8*3)+(O8*2)+(P8*1) -> 0 | R8: =IF(A8="","",ROUND(Q8*100/$R$3,0)) -> 0 | S8: =IF(A8="","",IF(R8>=80,"A",IF(R8>=65,"B",IF(R8>=50,"C",IF(R8>=35,"D",IF(R8<=34,"E")))))) -> E
A9: =IF('Data Entry'!A13="","",'Data Entry'!A13) -> 6 | B9: =IF('Data Entry'!B13="","",'Data Entry'!B13) | N9: =IF($S$1=1,"",IF(A9="","",COUNTIF(C9:M9,$N$3))) -> 0 | O9: =IF($S$1=1,"",IF(A9="","",COUNTIF(C9:M9,$O$3))) -> 0 | P9: =IF($S$1=1,"",IF(A9="","",COUNTIF(C9:M9,$P$3))) -> 0 | Q9: =(N9*3)+(O9*2)+(P9*1) -> 0 | R9: =IF(A9="","",ROUND(Q9*100/$R$3,0)) -> 0 | S9: =IF(A9="","",IF(R9>=80,"A",IF(R9>=65,"B",IF(R9>=50,"C",IF(R9>=35,"D",IF(R9<=34,"E")))))) -> E
A10: =IF('Data Entry'!A14="","",'Data Entry'!A14) -> 7 | B10: =IF('Data Entry'!B14="","",'Data Entry'!B14) | N10: =IF($S$1=1,"",IF(A10="","",COUNTIF(C10:M10,$N$3))) -> 0 | O10: =IF($S$1=1,"",IF(A10="","",COUNTIF(C10:M10,$O$3))) -> 0 | P10: =IF($S$1=1,"",IF(A10="","",COUNTIF(C10:M10,$P$3))) -> 0 | Q10: =(N10*3)+(O10*2)+(P10*1) -> 0 | R10: =IF(A10="","",ROUND(Q10*100/$R$3,0)) -> 0 | S10: =IF(A10="","",IF(R10>=80,"A",IF(R10>=65,"B",IF(R10>=50,"C",IF(R10>=35,"D",IF(R10<=34,"E")))))) -> E
A11: =IF('Data Entry'!A15="","",'Data Entry'!A15) -> 8 | B11: =IF('Data Entry'!B15="","",'Data Entry'!B15) | N11: =IF($S$1=1,"",IF(A11="","",COUNTIF(C11:M11,$N$3))) -> 0 | O11: =IF($S$1=1,"",IF(A11="","",COUNTIF(C11:M11,$O$3))) -> 0 | P11: =IF($S$1=1,"",IF(A11="","",COUNTIF(C11:M11,$P$3))) -> 0 | Q11: =(N11*3)+(O11*2)+(P11*1) -> 0 | R11: =IF(A11="","",ROUND(Q11*100/$R$3,0)) -> 0 | S11: =IF(A11="","",IF(R11>=80,"A",IF(R11>=65,"B",IF(R11>=50,"C",IF(R11>=35,"D",IF(R11<=34,"E")))))) -> E
A12: =IF('Data Entry'!A16="","",'Data Entry'!A16) -> 9 | B12: =IF('Data Entry'!B16="","",'Data Entry'!B16) | N12: =IF($S$1=1,"",IF(A12="","",COUNTIF(C12:M12,$N$3))) -> 0 | O12: =IF($S$1=1,"",IF(A12="","",COUNTIF(C12:M12,$O$3))) -> 0 | P12: =IF($S$1=1,"",IF(A12="","",COUNTIF(C12:M12,$P$3))) -> 0 | Q12: =(N12*3)+(O12*2)+(P12*1) -> 0 | R12: =IF(A12="","",ROUND(Q12*100/$R$3,0)) -> 0 | S12: =IF(A12="","",IF(R12>=80,"A",IF(R12>=65,"B",IF(R12>=50,"C",IF(R12>=35,"D",IF(R12<=34,"E")))))) -> E
A13: =IF('Data Entry'!A17="","",'Data Entry'!A17) -> 10 | B13: =IF('Data Entry'!B17="","",'Data Entry'!B17) | N13: =IF($S$1=1,"",IF(A13="","",COUNTIF(C13:M13,$N$3))) -> 0 | O13: =IF($S$1=1,"",IF(A13="","",COUNTIF(C13:M13,$O$3))) -> 0 | P13: =IF($S$1=1,"",IF(A13="","",COUNTIF(C13:M13,$P$3))) -> 0 | Q13: =(N13*3)+(O13*2)+(P13*1) -> 0 | R13: =IF(A13="","",ROUND(Q13*100/$R$3,0)) -> 0 | S13: =IF(A13="","",IF(R13>=80,"A",IF(R13>=65,"B",IF(R13>=50,"C",IF(R13>=35,"D",IF(R13<=34,"E")))))) -> E
A14: =IF('Data Entry'!A18="","",'Data Entry'!A18) -> 11 | B14: =IF('Data Entry'!B18="","",'Data Entry'!B18) | N14: =IF($S$1=1,"",IF(A14="","",COUNTIF(C14:M14,$N$3))) -> 0 | O14: =IF($S$1=1,"",IF(A14="","",COUNTIF(C14:M14,$O$3))) -> 0 | P14: =IF($S$1=1,"",IF(A14="","",COUNTIF(C14:M14,$P$3))) -> 0 | Q14: =(N14*3)+(O14*2)+(P14*1) -> 0 | R14: =IF(A14="","",ROUND(Q14*100/$R$3,0)) -> 0 | S14: =IF(A14="","",IF(R14>=80,"A",IF(R14>=65,"B",IF(R14>=50,"C",IF(R14>=35,"D",IF(R14<=34,"E")))))) -> E
A15: =IF('Data Entry'!A19="","",'Data Entry'!A19) -> 12 | B15: =IF('Data Entry'!B19="","",'Data Entry'!B19) | N15: =IF($S$1=1,"",IF(A15="","",COUNTIF(C15:M15,$N$3))) -> 0 | O15: =IF($S$1=1,"",IF(A15="","",COUNTIF(C15:M15,$O$3))) -> 0 | P15: =IF($S$1=1,"",IF(A15="","",COUNTIF(C15:M15,$P$3))) -> 0 | Q15: =(N15*3)+(O15*2)+(P15*1) -> 0 | R15: =IF(A15="","",ROUND(Q15*100/$R$3,0)) -> 0 | S15: =IF(A15="","",IF(R15>=80,"A",IF(R15>=65,"B",IF(R15>=50,"C",IF(R15>=35,"D",IF(R15<=34,"E")))))) -> E
A16: =IF('Data Entry'!A20="","",'Data Entry'!A20) -> 13 | B16: =IF('Data Entry'!B20="","",'Data Entry'!B20) | N16: =IF($S$1=1,"",IF(A16="","",COUNTIF(C16:M16,$N$3))) -> 0 | O16: =IF($S$1=1,"",IF(A16="","",COUNTIF(C16:M16,$O$3))) -> 0 | P16: =IF($S$1=1,"",IF(A16="","",COUNTIF(C16:M16,$P$3))) -> 0 | Q16: =(N16*3)+(O16*2)+(P16*1) -> 0 | R16: =IF(A16="","",ROUND(Q16*100/$R$3,0)) -> 0 | S16: =IF(A16="","",IF(R16>=80,"A",IF(R16>=65,"B",IF(R16>=50,"C",IF(R16>=35,"D",IF(R16<=34,"E")))))) -> E
... A63: =IF('Data Entry'!A67="","",'Data Entry'!A67) -> 60 | B63: =IF('Data Entry'!B67="","",'Data Entry'!B67) | N63: =IF($S$1=1,"",IF(A63="","",COUNTIF(C63:M63,$N$3))) -> 0 | O63: =IF($S$1=1,"",IF(A63="","",COUNTIF(C63:M63,$O$3))) -> 0 | P63: =IF($S$1=1,"",IF(A63="","",COUNTIF(C63:M63,$P$3))) -> 0 | Q63: =(N63*3)+(O63*2)+(P63*1) -> 0 | R63: =IF(A63="","",ROUND(Q63*100/$R$3,0)) -> 0 | S63: =IF(A63="","",IF(R63>=80,"A",IF(R63>=65,"B",IF(R63>=50,"C",IF(R63>=35,"D",IF(R63<=34,"E")))))) -> E

Sheet D2
A1: પત્રક : D-2 | C1: શાળાકીય સર્વગ્રાહી મૂલ્યાંકન | P1: વર્ષ : | Q1: =IF('Data Entry'!F3="","",'Data Entry'!F3&" - "&'Data Entry'!H3) -> 2025 - 2026
A2: ધોરણ :- 1
A3: પરિણામ પત્રક
A4: શાળાનું નામ : | C4: =IF('Data Entry'!B2="","",'Data Entry'!B2) -> કુવાદરા પ્રાથમિક શાળા | K4: તાલુકો : | N4: =IF('Data Entry'!B3="","",'Data Entry'!B3) -> માણસા
A6: ગામ : | C6: =IF('Data Entry'!D2="","",'Data Entry'!D2) -> કુવાદરા | K6: જિલ્લો : | N6: =IF('Data Entry'!D3="","",'Data Entry'!D3) -> ગાંધીનગર
A8: ધોરણ : | C8: =IF('Data Entry'!J2="","",'Data Entry'!J2) -> 1 | G8: વર્ગ : | I8: =IF('Data Entry'!J3="","",'Data Entry'!J3) -> અ | K8: પરિણામ તારીખ : | N8: =IF('Data Entry'!B4="","",'Data Entry'!B4) -> 45447
A10: વર્ગ શિક્ષક : | C10: =IF('Data Entry'!L2="","",'Data Entry'!L2) -> પટેલ બ્રિજેશકુમાર કે. | K10: સી.આર.સી. : | N10: =IF('Data Entry'!H2="","",'Data Entry'!H2) -> લોદરા
A12: જાતિ | C12: અનુ.જાતિ | F12: અનુ.જ.જાતિ | I12: બક્ષીપંચ | L12: અન્ય | O12: કુલ | R12: નોંધ
C13: કુમાર | D13: કન્યા | E13: કુલ | F13: કુમાર | G13: કન્યા | H13: કુલ | I13: કુમાર | J13: કન્યા | K13: કુલ | L13: કુમાર | M13: કન્યા | N13: કુલ | O13: કુમાર | P13: કન્યા | Q13: કુલ
A14: સંખ્યા | C14: =COUNTIFS('Data Entry'!$K$8:$K$67,"SC",'Data Entry'!$L$8:$L$67,"Boy") -> 0 | D14: =COUNTIFS('Data Entry'!$K$8:$K$67,"SC",'Data Entry'!$L$8:$L$67,"Girl") -> 1 | E14: =IF(AND(C14="",D14=""),"",C14+D14) -> 1 | F14: =COUNTIFS('Data Entry'!$K$8:$K$67,"ST",'Data Entry'!$L$8:$L$67,"Boy") -> 0 | G14: =COUNTIFS('Data Entry'!$K$8:$K$67,"ST",'Data Entry'!$L$8:$L$67,"Girl") -> 1 | H14: =IF(AND(F14="",G14=""),"",F14+G14) -> 1 | I14: =COUNTIFS('Data Entry'!$K$8:$K$67,"OBC",'Data Entry'!$L$8:$L$67,"Boy") -> 1 | J14: =COUNTIFS('Data Entry'!$K$8:$K$67,"OBC",'Data Entry'!$L$8:$L$67,"Girl") -> 0 | K14: =IF(AND(I14="",J14=""),"",I14+J14) -> 1 | L14: =COUNTIFS('Data Entry'!$K$8:$K$67,"GEN",'Data Entry'!$L$8:$L$67,"Boy") -> 1 | M14: =COUNTIFS('Data Entry'!$K$8:$K$67,"GEN",'Data Entry'!$L$8:$L$67,"Girl") -> 0 | N14: =IF(AND(L14="",M14=""),"",L14+M14) -> 1 | O14: =IF(AND(C14="",F14="",I14="",L14=""),"",C14+F14+I14+L14) -> 2 | P14: =IF(AND(D14="",G14="",J14="",M14=""),"",D14+G14+J14+M14) -> 2 | Q14: =IF(AND(O14="",P14=""),"",O14+P14) -> 4
A16: વર્ષ દરમ્યાન કરાવેલ શાળા તત્પરતાની પ્રવૃતિઓ | H16: સંખ્યા | J16: ભાષા/ ગણિત/ પર્યાવરણ શિક્ષણ અન્વયે વર્ષ દરમ્યાન કરાવેલ પ્રવૃતિઓ | Q16: સંખ્યા
A17: 1 | B17: બાળનાટકો | J17: 1 | K17: માટીકામ
A18: 2 | B18: પર્યટન | J18: 2 | K18: કાગળકામ
A19: 3 | B19: રમત | J19: 3 | K19: રમત
A20: 4 | B20: બાળવાર્તા | J20: 4 | K20: રંગપુરણી
A21: 5 | B21: અવલોકન પ્રવૃતિઓ | J21: 5 | K21: જોડકણા
A22: 6 | B22: વર્ગીકરણ પ્રવૃતિઓ | J22: 6 | K22: બાળગીતો
A23: 7 | B23: કુતુહલ પ્રેરક પ્રવૃતિઓ | J23: 7 | K23: ચિત્રો-આકૃતિઓ
A24: 8 | B24: અખતરા-અનુભવ જન્ય પ્રવૃતિઓ | J24: 8 | K24: સંગ્રહ પ્રવૃતિઓ
A25: 9 | B25: ગુણ-લક્ષાણ ઓળખ પ્રવૃતિઓ | J25: 9 | K25: પ્રવાસ/પર્યટન
A26: 10 | B26: સંગ્રહ પ્રવૃતિઓ | J26: 10 | K26: નાટય પ્રવૃતિ
A27: 11 | B27: યાદ શકિત વિકાસ પ્રવૃતિઓ | J27: 11 | K27: વાર્તા કથન
A28: 12 | B28: વિચાર શકિત વિકાસ પ્રવૃતિઓ | J28: 12
A29: 13 | B29: સર્જનાત્મક પ્રવૃતિઓ | J29: 13
A30: 14 | B30: તરાહની પ્રવૃતિઓ | J30: 14

Sheet D1 FRONT SIDE
D3: : વાલીશ્રીઓને સુચના : | O3: પત્રક : D-1 | AC3: હાજરી નંબર નીચે લખો.
O4: =IF('Data Entry'!D4="","",'Data Entry'!D4&" , "&'Data Entry'!D3) -> જીલ્લા શિક્ષણ સમિતિ , ગાંધીનગર
C5: ૧. આ વિકાસપત્રક છે.તમારા બાળકે શાળામાં એક વર્ષ દરમ્યાન વિવિધ બાબતોમાં | O5: ધોરણ :- 1 | S5: પ્રગતિ પત્રક | X5: વર્ષ : | Y5: =IF('Data Entry'!F3="","",'Data Entry'!F3&" - "&'Data Entry'!H3) -> 2025 - 2026
C6: કેટલા પ્રમાણમાં વિકાસ સાધ્યો છે તેની નોંધ આ પત્રકમાં છે. | O6: વિદ્યાર્થીનું નામ : | R6: =IF($AC$6="","",VLOOKUP($AC$6,'Data Entry'!$A$8:$L$67,2,0)) -> પટેલ બ્રિજેશકુમાર કાળાભાઈ | X6: જી.આર.નંબર : | Z6: =IF($AC$6="","",VLOOKUP($AC$6,'Data Entry'!$A$8:$L$67,3,0)) -> 10251 | AC6: 1
C7: ર. પત્રકમાં જયાં સાધારણ એવો ઉલ્લેખ હોય તો તમારું બાળક ઠોઠ છે એમ માની ન લેશો. | O7: શાળાનું નામ : | R7: =IF('Data Entry'!B2="","",'Data Entry'!B2) -> કુવાદરા પ્રાથમિક શાળા
C8: ''સાધારણ'' એવી નોંધ તેને તમારી કે ઘરના ભણેલા અન્ય સભ્યોની મદદની કયાં જરૂર | O8: વર્ગ : | P8: =IF('Data Entry'!J3="","",'Data Entry'!J3) -> અ | Q8: ક્રમાંક : | R8: =IF($AC$6="","",$AC$6) -> 1 | S8: હાજર દિવસ : | U8: =IF($AC$6="","",VLOOKUP($AC$6,'Data Entry'!$A$8:$L$67,6,0)) -> 212 | X8: કાર્ય દિવસ : | Z8: =IF('Data Entry'!L3="","",'Data Entry'!L3) -> 233
C9: છે. તે સૂચવવા માટે કરેલ છે. વેકેશનમાં તેની કચાશ દૂર કરવા તમે તે પ્રયત્ન કરજો. | O9: ( લાગુ પડતા ખાનામાં √ ની નિશાની કરવી )
C10: તમારી થોડી મદદથી બાળકની ઘણી કચાશ દૂર કરી શકાશે. અને તે આવતા વર્ષમાં | O10: ભાષા અને પર્યાવરણ
C11: અભ્યાસક્રમ શીખવા માટે પરિપકવતા પ્રાપ્ત કરશે. | O11: ક્રમ | P11: વિધાન | X11: સારૂ-A | Y11: મધ્યમ-B | Z11: સાધારણ-C
C12: ૩. વેકેશનમાં બાળકોને ખૂબ રમવા દેજો. પણ વર્ષ દરમ્યાન શીખેલું ભુલી ન જાય તે માટે | O12: 1 | P12: =IF('D2 BHASHA PARYAVARAN'!E2="","",'D2 BHASHA PARYAVARAN'!E2) -> આઠ થી દસ વિવિધ બાબતોની સૂચનાઓ સમજે છે અને અનુસરે છે. | X12: =IF($AC$6="","",IF($AC12="A","√","")) -> √ | Y12: =IF($AC$6="","",IF($AC12="B","√","")) | Z12: =IF($AC$6="","",IF($AC12="C","√","")) | AB12: 5 | AC12: =IF($AC$6="","",VLOOKUP($AC$6,'D2 BHASHA PARYAVARAN'!$A$4:$AA$63,'D1 FRONT SIDE'!$AB12,0)) -> A
C13: તેણે શીખેલી બાબતો યાદ કરાવવા રોજ થોડો સમય તમારી પાસે બેસાડજો. | O13: 2 | P13: =IF('D2 BHASHA PARYAVARAN'!F2="","",'D2 BHASHA PARYAVARAN'!F2) -> વાર્તાના હેતુ પાત્રોને ધ્યાનમાં રાખી અલગ સ્વરૂપે વાર્તા કહે છે અને સરળ પાત્રો સાથે વાર્તા બનાવે છે. | X13: =IF($AC$6="","",IF($AC13="A","√","")) -> √ | Y13: =IF($AC$6="","",IF($AC13="B","√","")) | Z13: =IF($AC$6="","",IF($AC13="C","√","")) | AB13: 6 | AC13: =IF($AC$6="","",VLOOKUP($AC$6,'D2 BHASHA PARYAVARAN'!$A$4:$AA$63,'D1 FRONT SIDE'!$AB13,0)) -> A
C14: ૪. ઘરની નાની મોટી ખરીદીના કામ તેને સોંપજો અથવા તેને તમારી સાથે રાખશો, એ | O14: 3 | P14: =IF('D2 BHASHA PARYAVARAN'!G2="","",'D2 BHASHA PARYAVARAN'!G2) -> પાઠ્યસામગ્રીમા આવતા નવા શબ્દોના અર્થનું અનુમાન કરે છે. | X14: =IF($AC$6="","",IF($AC14="A","√","")) -> √ | Y14: =IF($AC$6="","",IF($AC14="B","√","")) | Z14: =IF($AC$6="","",IF($AC14="C","√","")) | AB14: 7 | AC14: =IF($AC$6="","",VLOOKUP($AC$6,'D2 BHASHA PARYAVARAN'!$A$4:$AA$63,'D1 FRONT SIDE'!$AB14,0)) -> A
C15: દ્રારા પણ તેને શેખેલી ઘણી બધી બાબતો દ્રૃઢ થશે. | O15: 4 | P15: =IF('D2 BHASHA PARYAVARAN'!H2="","",'D2 BHASHA PARYAVARAN'!H2) -> સાદા વિરામ ચિહનોને ઓળખે છે ( પૂર્ણ વિરામ, પ્રશ્નાર્થ ચિહ્ન) | X15: =IF($AC$6="","",IF($AC15="A","√","")) | Y15: =IF($AC$6="","",IF($AC15="B","√","")) -> √ | Z15: =IF($AC$6="","",IF($AC15="C","√","")) | AB15: 8 | AC15: =IF($AC$6="","",VLOOKUP($AC$6,'D2 BHASHA PARYAVARAN'!$A$4:$AA$63,'D1 FRONT SIDE'!$AB15,0)) -> B
C16: પ. તમારા બાળકની પ્રગતિ માટે કઈ કઈ બાબતોની કાળજી તમારે લેવાની છે. એ નીચેના | O16: 5 | P16: =IF('D2 BHASHA PARYAVARAN'!I2="","",'D2 BHASHA PARYAVARAN'!I2) -> તમામ અક્ષરને ઓળખે, ધ્વનિ સાથે જોડે અને શબ્દો વાંચે છે. | X16: =IF($AC$6="","",IF($AC16="A","√","")) | Y16: =IF($AC$6="","",IF($AC16="B","√","")) -> √ | Z16: =IF($AC$6="","",IF($AC16="C","√","")) | AB16: 9 | AC16: =IF($AC$6="","",VLOOKUP($AC$6,'D2 BHASHA PARYAVARAN'!$A$4:$AA$63,'D1 FRONT SIDE'!$AB16,0)) -> B
C17: વિભાગમાં વર્ગ શિક્ષકે જણાવ્યું છે. શિક્ષકે સૂચવેલી બાબતો અંગે વેકેશનમાં વિશેષ | O17: 6 | P17: =IF('D2 BHASHA PARYAVARAN'!J2="","",'D2 BHASHA PARYAVARAN'!J2) -> યોગ્ય સ્વર અને વિરામચિન્હ સાથે ટૂંકા ફકરા ચોકસાઈથી વાંચે છે. | X17: =IF($AC$6="","",IF($AC17="A","√","")) | Y17: =IF($AC$6="","",IF($AC17="B","√","")) -> √ | Z17: =IF($AC$6="","",IF($AC17="C","√","")) | AB17: 10 | AC17: =IF($AC$6="","",VLOOKUP($AC$6,'D2 BHASHA PARYAVARAN'!$A$4:$AA$63,'D1 FRONT SIDE'!$AB17,0)) -> B
C18: કાળજી લેશો. | O18: 7 | P18: =IF('D2 BHASHA PARYAVARAN'!K2="","",'D2 BHASHA PARYAVARAN'!K2) -> સમાન પાઠ્ય અને દ્રશ્ય સામગ્રીવાળા પુસ્તકોને સ્વતંત્ર રીતે વાંચવાનું શરૂ કરે છે. | X18: =IF($AC$6="","",IF($AC18="A","√","")) | Y18: =IF($AC$6="","",IF($AC18="B","√","")) | Z18: =IF($AC$6="","",IF($AC18="C","√","")) -> √ | AB18: 11 | AC18: =IF($AC$6="","",VLOOKUP($AC$6,'D2 BHASHA PARYAVARAN'!$A$4:$AA$63,'D1 FRONT SIDE'!$AB18,0)) -> C
C19: ૬. વેકેશન ખૂલે ત્યારે તમારૂ બાળક ઉત્સાહભેર શાળાએ જાય એ માટે તમે તેને પ્રોત્સાહન | O19: 8 | P19: =IF('D2 BHASHA PARYAVARAN'!L2="","",'D2 BHASHA PARYAVARAN'!L2) -> અપરિચિત વાર્તાના પુસ્તકો વાંચવાનું અને શિક્ષકના માર્ગદર્શનથી સમજવાનું શરૂ કરે છે. | X19: =IF($AC$6="","",IF($AC19="A","√","")) | Y19: =IF($AC$6="","",IF($AC19="B","√","")) | Z19: =IF($AC$6="","",IF($AC19="C","√","")) -> √ | AB19: 12 | AC19: =IF($AC$6="","",VLOOKUP($AC$6,'D2 BHASHA PARYAVARAN'!$A$4:$AA$63,'D1 FRONT SIDE'!$AB19,0)) -> C
C20: આપશો. બને તો આવતા વર્ષે અવાર નવાર વર્ગ શિક્ષકને બાળકની પ્રગતિ અંગે પૂછતા | O20: 9 | P20: =IF('D2 BHASHA PARYAVARAN'!M2="","",'D2 BHASHA PARYAVARAN'!M2) -> વાર્તાના કથાવસ્તુ અને પાત્રોને ઓળખે છે. | X20: =IF($AC$6="","",IF($AC20="A","√","")) | Y20: =IF($AC$6="","",IF($AC20="B","√","")) | Z20: =IF($AC$6="","",IF($AC20="C","√","")) -> √ | AB20: 13 | AC20: =IF($AC$6="","",VLOOKUP($AC$6,'D2 BHASHA PARYAVARAN'!$A$4:$AA$63,'D1 FRONT SIDE'!$AB20,0)) -> C
C21: રહેશો. | O21: 10 | P21: =IF('D2 BHASHA PARYAVARAN'!N2="","",'D2 BHASHA PARYAVARAN'!N2) -> ટૂંકી કવિતાઓ વાંચે છે અને કવિતાનું શાબ્દિક અર્થ વર્ણવે છે. | X21: =IF($AC$6="","",IF($AC21="A","√","")) -> √ | Y21: =IF($AC$6="","",IF($AC21="B","√","")) | Z21: =IF($AC$6="","",IF($AC21="C","√","")) | AB21: 14 | AC21: =IF($AC$6="","",VLOOKUP($AC$6,'D2 BHASHA PARYAVARAN'!$A$4:$AA$63,'D1 FRONT SIDE'!$AB21,0)) -> A
C22: નોંધ : શિક્ષકે વાલીને આપવાની વિશેષ સૂચના | O22: 11 | P22: =IF('D2 BHASHA PARYAVARAN'!O2="","",'D2 BHASHA PARYAVARAN'!O2) -> રમત રમવા માટે સરળ સૂચનાઓ વાંચે છે અને જૂથ સાથે તે રમે છે. | X22: =IF($AC$6="","",IF($AC22="A","√","")) | Y22: =IF($AC$6="","",IF($AC22="B","√","")) | Z22: =IF($AC$6="","",IF($AC22="C","√","")) -> √ | AB22: 15 | AC22: =IF($AC$6="","",VLOOKUP($AC$6,'D2 BHASHA PARYAVARAN'!$A$4:$AA$63,'D1 FRONT SIDE'!$AB22,0)) -> C
O23: 12 | P23: =IF('D2 BHASHA PARYAVARAN'!P2="","",'D2 BHASHA PARYAVARAN'!P2) -> ત્રણ અથવા ચાર અક્ષર વાળા શબ્દો ચોકસાઈથી લખેલ છે. ( શ્રુતલેખન) | X23: =IF($AC$6="","",IF($AC23="A","√","")) -> √ | Y23: =IF($AC$6="","",IF($AC23="B","√","")) | Z23: =IF($AC$6="","",IF($AC23="C","√","")) | AB23: 16 | AC23: =IF($AC$6="","",VLOOKUP($AC$6,'D2 BHASHA PARYAVARAN'!$A$4:$AA$63,'D1 FRONT SIDE'!$AB23,0)) -> A
O24: 13 | P24: =IF('D2 BHASHA PARYAVARAN'!Q2="","",'D2 BHASHA PARYAVARAN'!Q2) -> ચિત્રોને ક્રમમાં ગોઠવે છે અને તેની સાથે ટૂંકા વાક્યો લખે છે | X24: =IF($AC$6="","",IF($AC24="A","√","")) | Y24: =IF($AC$6="","",IF($AC24="B","√","")) -> √ | Z24: =IF($AC$6="","",IF($AC24="C","√","")) | AB24: 17 | AC24: =IF($AC$6="","",VLOOKUP($AC$6,'D2 BHASHA PARYAVARAN'!$A$4:$AA$63,'D1 FRONT SIDE'!$AB24,0)) -> B
O25: 14 | P25: =IF('D2 BHASHA PARYAVARAN'!R2="","",'D2 BHASHA PARYAVARAN'!R2) -> શબ્દો અને ટૂંકા વાક્યો લખીને ચિત્રનું વર્ણન કરે છે | X25: =IF($AC$6="","",IF($AC25="A","√","")) -> √ | Y25: =IF($AC$6="","",IF($AC25="B","√","")) | Z25: =IF($AC$6="","",IF($AC25="C","√","")) | AB25: 18 | AC25: =IF($AC$6="","",VLOOKUP($AC$6,'D2 BHASHA PARYAVARAN'!$A$4:$AA$63,'D1 FRONT SIDE'!$AB25,0)) -> A
O26: 15 | P26: =IF('D2 BHASHA PARYAVARAN'!S2="","",'D2 BHASHA PARYAVARAN'!S2) -> સરળ પ્રક્રિયાઓ માટે સહપાઠીઓ માટે ટૂંકી સૂચનાઓ લખે છે. | X26: =IF($AC$6="","",IF($AC26="A","√","")) | Y26: =IF($AC$6="","",IF($AC26="B","√","")) -> √ | Z26: =IF($AC$6="","",IF($AC26="C","√","")) | AB26: 19 | AC26: =IF($AC$6="","",VLOOKUP($AC$6,'D2 BHASHA PARYAVARAN'!$A$4:$AA$63,'D1 FRONT SIDE'!$AB26,0)) -> B
O27: 16 | P27: =IF('D2 BHASHA PARYAVARAN'!T2="","",'D2 BHASHA PARYAVARAN'!T2) -> પુસ્તક પસંદ કરતી વખતે પોતાની પ્રાથમિકતા સમજાવે છે. | X27: =IF($AC$6="","",IF($AC27="A","√","")) | Y27: =IF($AC$6="","",IF($AC27="B","√","")) -> √ | Z27: =IF($AC$6="","",IF($AC27="C","√","")) | AB27: 20 | AC27: =IF($AC$6="","",VLOOKUP($AC$6,'D2 BHASHA PARYAVARAN'!$A$4:$AA$63,'D1 FRONT SIDE'!$AB27,0)) -> B
O28: 17 | P28: =IF('D2 BHASHA PARYAVARAN'!U2="","",'D2 BHASHA PARYAVARAN'!U2) -> નિયમિત અંતરાલ પરના નાના પુસ્તકો વાંચે છે. | X28: =IF($AC$6="","",IF($AC28="A","√","")) -> √ | Y28: =IF($AC$6="","",IF($AC28="B","√","")) | Z28: =IF($AC$6="","",IF($AC28="C","√","")) | AB28: 21 | AC28: =IF($AC$6="","",VLOOKUP($AC$6,'D2 BHASHA PARYAVARAN'!$A$4:$AA$63,'D1 FRONT SIDE'!$AB28,0)) -> A
O29: 18 | P29: =IF('D2 BHASHA PARYAVARAN'!V2="","",'D2 BHASHA PARYAVARAN'!V2) -> પરિચિત વસ્તુઓને ચિત્રમાં ઓળખે છે. | X29: =IF($AC$6="","",IF($AC29="A","√","")) -> √ | Y29: =IF($AC$6="","",IF($AC29="B","√","")) | Z29: =IF($AC$6="","",IF($AC29="C","√","")) | AB29: 22 | AC29: =IF($AC$6="","",VLOOKUP($AC$6,'D2 BHASHA PARYAVARAN'!$A$4:$AA$63,'D1 FRONT SIDE'!$AB29,0)) -> A
O30: 19 | P30: =IF('D2 BHASHA PARYAVARAN'!W2="","",'D2 BHASHA PARYAVARAN'!W2) -> સાંભળેલી સુચના મુજબ ચિત્ર દોરે છે. | X30: =IF($AC$6="","",IF($AC30="A","√","")) | Y30: =IF($AC$6="","",IF($AC30="B","√","")) -> √ | Z30: =IF($AC$6="","",IF($AC30="C","√","")) | AB30: 23 | AC30: =IF($AC$6="","",VLOOKUP($AC$6,'D2 BHASHA PARYAVARAN'!$A$4:$AA$63,'D1 FRONT SIDE'!$AB30,0)) -> B
D31: વાલીની સહી | O31: 20 | P31: =IF('D2 BHASHA PARYAVARAN'!X2="","",'D2 BHASHA PARYAVARAN'!X2) -> વાર્તાની ઘટનાઓનો ક્રમ સમજે છે. | X31: =IF($AC$6="","",IF($AC31="A","√","")) | Y31: =IF($AC$6="","",IF($AC31="B","√","")) -> √ | Z31: =IF($AC$6="","",IF($AC31="C","√","")) | AB31: 24 | AC31: =IF($AC$6="","",VLOOKUP($AC$6,'D2 BHASHA PARYAVARAN'!$A$4:$AA$63,'D1 FRONT SIDE'!$AB31,0)) -> B

Sheet D1 BACK SIDE
R1: હાજરી નંબર નીચે લખો.
C3: વિષયવસ્તુ અંગેની સમજ | K3: ક્રમ | L3: વિધાન | M3: સારૂ-A | N3: મધ્યમ-B | O3: સાધારણ -C
C4: ગણિતનું વિષયવસ્તુ | K4: 18 | L4: =IF('D2 GANIT'!V2="","",'D2 GANIT'!V2) -> કપ /ચમચી / મગ જેવા એકસમાન બિન પ્રમાણિત એકમોનો ઉપયોગ કરીને પાત્રની ગુંજાશ નો અંદાજ કાઢે છે અને માપે છે. | M4: =IF($R$4="","",IF($S23="A","√","")) -> √ | N4: =IF($R$4="","",IF($S23="B","√","")) | O4: =IF($R$4="","",IF($S23="C","√","")) | R4: 1
C5: ક્રમ | D5: વિધાન | E5: સારૂ-A | F5: મધ્યમ-B | G5: સાધારણ -C
K6: 19 | L6: =IF('D2 GANIT'!W2="","",'D2 GANIT'!W2) -> એક દિવસમાં બનતી ઘટનાઓનો ક્રમ અને પહેલા અને પછી જેવા શબ્દોનો ઉપયોગ કરીને ઘટનાઓ વચ્ચે તફાવત કરે છે. | M6: =IF($R$4="","",IF($S24="A","√","")) | N6: =IF($R$4="","",IF($S24="B","√","")) -> √ | O6: =IF($R$4="","",IF($S24="C","√","")) | R6: 5 | S6: =IF($R$4="","",VLOOKUP($R$4,'D2 GANIT'!$A$4:$AA$63,'D1 BACK SIDE'!$R6,0)) -> A
C7: 1 | D7: =IF('D2 GANIT'!E2="","",'D2 GANIT'!E2) -> લક્ષણોને આધારે જ વસ્તુઓને જૂથમાં વર્ગીકૃત કરે છે. ( દા.ત આજુબાજુના પર્યાવરણમાં રહેતા પ્રાણીઓનું વર્ગીકૃત કરવા) | E7: =IF($R$4="","",IF($S6="A","√","")) -> √ | F7: =IF($R$4="","",IF($S6="B","√","")) | G7: =IF($R$4="","",IF($S6="C","√","")) | R7: 6 | S7: =IF($R$4="","",VLOOKUP($R$4,'D2 GANIT'!$A$4:$AA$63,'D1 BACK SIDE'!$R7,0)) -> B
C8: 2 | D8: =IF('D2 GANIT'!F2="","",'D2 GANIT'!F2) -> ૯૯ સુધીની સંખ્યા ની ગણતરી કરે છે. ૯૯ સુધીની સંખ્યા દશના જૂથની પેટર્ન તરીકે સમજે છે. | E8: =IF($R$4="","",IF($S7="A","√","")) | F8: =IF($R$4="","",IF($S7="B","√","")) -> √ | G8: =IF($R$4="","",IF($S7="C","√","")) | R8: 7 | S8: =IF($R$4="","",VLOOKUP($R$4,'D2 GANIT'!$A$4:$AA$63,'D1 BACK SIDE'!$R8,0)) -> C
C9: 3 | D9: =IF('D2 GANIT'!G2="","",'D2 GANIT'!G2) -> ૦ થી ૯૯ની વચ્ચે માંથી આગળ અને પાછળની તરફ ગણતરી કરે છે. | E9: =IF($R$4="","",IF($S8="A","√","")) | F9: =IF($R$4="","",IF($S8="B","√","")) | G9: =IF($R$4="","",IF($S8="C","√","")) -> √ | K9: 20 | L9: =IF('D2 GANIT'!X2="","",'D2 GANIT'!X2) -> કુલ ૨૦ રૂપિયા થાય એ રીતે નોટ અથવા સિક્કા ભેગા કરે છે. | M9: =IF($R$4="","",IF($S25="A","√","")) | N9: =IF($R$4="","",IF($S25="B","√","")) | O9: =IF($R$4="","",IF($S25="C","√","")) -> √ | R9: 8 | S9: =IF($R$4="","",VLOOKUP($R$4,'D2 GANIT'!$A$4:$AA$63,'D1 BACK SIDE'!$R9,0)) -> A
C10: 4 | D10: =IF('D2 GANIT'!H2="","",'D2 GANIT'!H2) -> વસ્તુના વિવિધ ગુણધર્મો ( દા.ત કદ/ લંબાઈ/ વજન / રંગ) આધારે વિવિધ ક્રમમાં વસ્તુના સરખા સમૂહને ગોઠવે છે. | E10: =IF($R$4="","",IF($S9="A","√","")) -> √ | F10: =IF($R$4="","",IF($S9="B","√","")) | G10: =IF($R$4="","",IF($S9="C","√","")) | K10: વ્યકિતત્વ વિકાસને લગતા વિધાનો | R10: 9 | S10: =IF($R$4="","",VLOOKUP($R$4,'D2 GANIT'!$A$4:$AA$63,'D1 BACK SIDE'!$R10,0)) -> B
C11: 5 | D11: =IF('D2 GANIT'!I2="","",'D2 GANIT'!I2) -> ૨૦ સુધીની સંખ્યાઓને અંકોમા અને ૧૦ સુધીની સંખ્યાઓને શબ્દોમાં ઓળખે છે. | E11: =IF($R$4="","",IF($S10="A","√","")) | F11: =IF($R$4="","",IF($S10="B","√","")) -> √ | G11: =IF($R$4="","",IF($S10="C","√","")) | R11: 10 | S11: =IF($R$4="","",VLOOKUP($R$4,'D2 GANIT'!$A$4:$AA$63,'D1 BACK SIDE'!$R11,0)) -> C
C12: 6 | D12: =IF('D2 GANIT'!J2="","",'D2 GANIT'!J2) -> ૨૦ સુધીની બે સંખ્યાઓને તુલના કરે છે. તેનાથી મોટી અથવા તેનાથી નાની જેવા શબ્દોનો ઉપયોગ કરે છે. | E12: =IF($R$4="","",IF($S11="A","√","")) | F12: =IF($R$4="","",IF($S11="B","√","")) | G12: =IF($R$4="","",IF($S11="C","√","")) -> √ | K12: ક્રમ | L12: વિધાન | M12: હંમેશા | N12: મોટે ભાગે | O12: ભાગ્યે જ | R12: 11 | S12: =IF($R$4="","",VLOOKUP($R$4,'D2 GANIT'!$A$4:$AA$63,'D1 BACK SIDE'!$R12,0)) -> B
C13: 7 | D13: =IF('D2 GANIT'!K2="","",'D2 GANIT'!K2) -> મૂર્ત વસ્તુઓના ઉપયોગથી ૧૮ સુધીના સરવાળા કરે છે. | E13: =IF($R$4="","",IF($S12="A","√","")) | F13: =IF($R$4="","",IF($S12="B","√","")) -> √ | G13: =IF($R$4="","",IF($S12="C","√","")) | R13: 12 | S13: =IF($R$4="","",VLOOKUP($R$4,'D2 GANIT'!$A$4:$AA$63,'D1 BACK SIDE'!$R13,0)) -> C
C14: 8 | D14: =IF('D2 GANIT'!L2="","",'D2 GANIT'!L2) -> મૂર્ત વસ્તુના ઉપયોગથી ૯ સુધીની બાદબાકી કરે છે. | E14: =IF($R$4="","",IF($S13="A","√","")) | F14: =IF($R$4="","",IF($S13="B","√","")) | G14: =IF($R$4="","",IF($S13="C","√","")) -> √ | K14: 1 | L14: =IF('VYAKTITV VIKAS'!C2="","",'VYAKTITV VIKAS'!C2) -> શાળાએ નિયમિત અને સમયસર આવે છે. | M14: =IF($R$4="","",IF($V14="A","√","")) -> √ | N14: =IF($R$4="","",IF($V14="B","√","")) | O14: =IF($R$4="","",IF($V14="C","√","")) | R14: 13 | S14: =IF($R$4="","",VLOOKUP($R$4,'D2 GANIT'!$A$4:$AA$63,'D1 BACK SIDE'!$R14,0)) -> A | U14: 3 | V14: =IF($R$4="","",VLOOKUP($R$4,'VYAKTITV VIKAS'!$A$4:$M$63,$U14,0)) -> A
C15: 9 | D15: =IF('D2 GANIT'!M2="","",'D2 GANIT'!M2) -> + - ની નિશાનીઓ ને ઓળખે છે. સંખ્યાઓના સરવાળા અને બાદબાકી વચ્ચે સંબંધ વિકસાવે છે. | E15: =IF($R$4="","",IF($S14="A","√","")) -> √ | F15: =IF($R$4="","",IF($S14="B","√","")) | G15: =IF($R$4="","",IF($S14="C","√","")) | K15: 2 | L15: =IF('VYAKTITV VIKAS'!D2="","",'VYAKTITV VIKAS'!D2) -> શરીર અને કપડા સ્વચ્છ રાખે છે. | M15: =IF($R$4="","",IF($V15="A","√","")) -> √ | N15: =IF($R$4="","",IF($V15="B","√","")) | O15: =IF($R$4="","",IF($V15="C","√","")) | R15: 14 | S15: =IF($R$4="","",VLOOKUP($R$4,'D2 GANIT'!$A$4:$AA$63,'D1 BACK SIDE'!$R15,0)) -> B | U15: 4 | V15: =IF($R$4="","",VLOOKUP($R$4,'VYAKTITV VIKAS'!$A$4:$M$63,$U15,0)) -> A
C16: 10 | D16: =IF('D2 GANIT'!N2="","",'D2 GANIT'!N2) -> ગુણાકારની નિશાનીને ઓળખે છે નાની સંખ્યાના ગુણાકારના પ્રશ્નો ઉકેલે છે. | E16: =IF($R$4="","",IF($S15="A","√","")) | F16: =IF($R$4="","",IF($S15="B","√","")) -> √ | G16: =IF($R$4="","",IF($S15="C","√","")) | K16: 3 | L16: =IF('VYAKTITV VIKAS'!E2="","",'VYAKTITV VIKAS'!E2) -> સમૂહમાં હળીમળીને રહે છે. | M16: =IF($R$4="","",IF($V16="A","√","")) | N16: =IF($R$4="","",IF($V16="B","√","")) -> √ | O16: =IF($R$4="","",IF($V16="C","√","")) | R16: 15 | S16: =IF($R$4="","",VLOOKUP($R$4,'D2 GANIT'!$A$4:$AA$63,'D1 BACK SIDE'!$R16,0)) -> B | U16: 5 | V16: =IF($R$4="","",VLOOKUP($R$4,'VYAKTITV VIKAS'!$A$4:$M$63,$U16,0)) -> B
C17: 11 | D17: =IF('D2 GANIT'!O2="","",'D2 GANIT'!O2) -> ભાગાકારની નિશાની ઓળખે છે. ભાગાકાર ના પ્રશ્નો ઉકેલવા માટે પ્રયત્ન અને ભૂલ તેમજ જૂથમાં વહેંચણીનો ઉપયોગ કરે છે. | E17: =IF($R$4="","",IF($S16="A","√","")) | F17: =IF($R$4="","",IF($S16="B","√","")) -> √ | G17: =IF($R$4="","",IF($S16="C","√","")) | K17: 4 | L17: =IF('VYAKTITV VIKAS'!F2="","",'VYAKTITV VIKAS'!F2) -> વડીલો પ્રત્યે આદર ધરાવે છે. | M17: =IF($R$4="","",IF($V17="A","√","")) | N17: =IF($R$4="","",IF($V17="B","√","")) -> √ | O17: =IF($R$4="","",IF($V17="C","√","")) | R17: 16 | S17: =IF($R$4="","",VLOOKUP($R$4,'D2 GANIT'!$A$4:$AA$63,'D1 BACK SIDE'!$R17,0)) -> A | U17: 6 | V17: =IF($R$4="","",VLOOKUP($R$4,'VYAKTITV VIKAS'!$A$4:$M$63,$U17,0)) -> B
C18: 12 | D18: =IF('D2 GANIT'!P2="","",'D2 GANIT'!P2) -> અવકાશીય સંબંધના શબ્દો વિકસાવે છે અને તેનો ઉપયોગ કરે છે (દા ત. ઉપર, નીચે, ની ઉપર ,ની નીચે, અંદર, બહાર, ઉંચે,નીચે, નજીક, દૂર, પહેલા, પછી ) | E18: =IF($R$4="","",IF($S17="A","√","")) -> √ | F18: =IF($R$4="","",IF($S17="B","√","")) | G18: =IF($R$4="","",IF($S17="C","√","")) | K18: 5 | L18: =IF('VYAKTITV VIKAS'!G2="","",'VYAKTITV VIKAS'!G2) -> શાળાકીય કાર્યક્રમોમાં સહકાર આપે છે. | M18: =IF($R$4="","",IF($V18="A","√","")) | N18: =IF($R$4="","",IF($V18="B","√","")) | O18: =IF($R$4="","",IF($V18="C","√","")) -> √ | R18: 17 | S18: =IF($R$4="","",VLOOKUP($R$4,'D2 GANIT'!$A$4:$AA$63,'D1 BACK SIDE'!$R18,0)) -> B | U18: 7 | V18: =IF($R$4="","",VLOOKUP($R$4,'VYAKTITV VIKAS'!$A$4:$M$63,$U18,0)) -> C
K19: 6 | L19: =IF('VYAKTITV VIKAS'!H2="","",'VYAKTITV VIKAS'!H2) -> સત્ય બોલવાનું વલણ દાખવે છે. | M19: =IF($R$4="","",IF($V19="A","√","")) | N19: =IF($R$4="","",IF($V19="B","√","")) | O19: =IF($R$4="","",IF($V19="C","√","")) -> √ | R19: 18 | S19: =IF($R$4="","",VLOOKUP($R$4,'D2 GANIT'!$A$4:$AA$63,'D1 BACK SIDE'!$R19,0)) -> C | U19: 8 | V19: =IF($R$4="","",VLOOKUP($R$4,'VYAKTITV VIKAS'!$A$4:$M$63,$U19,0)) -> C
C20: 13 | D20: =IF('D2 GANIT'!Q2="","",'D2 GANIT'!Q2) -> વિવિધ ઘન આકારોની ભૌતિક વિશેષતા ઓનું અવલોકન કરે છે.( દડો ગબડે, બોક્સ સરકે) | E20: =IF($R$4="","",IF($S18="A","√","")) | F20: =IF($R$4="","",IF($S18="B","√","")) -> √ | G20: =IF($R$4="","",IF($S18="C","√","")) | K20: 7 | L20: =IF('VYAKTITV VIKAS'!I2="","",'VYAKTITV VIKAS'!I2) -> શિસ્તપૂર્વક વર્તે છે. | M20: =IF($R$4="","",IF($V20="A","√","")) -> √ | N20: =IF($R$4="","",IF($V20="B","√","")) | O20: =IF($R$4="","",IF($V20="C","√","")) | R20: 19 | S20: =IF($R$4="","",VLOOKUP($R$4,'D2 GANIT'!$A$4:$AA$63,'D1 BACK SIDE'!$R20,0)) -> C | U20: 9 | V20: =IF($R$4="","",VLOOKUP($R$4,'VYAKTITV VIKAS'!$A$4:$M$63,$U20,0)) -> A
C21: 14 | D21: =IF('D2 GANIT'!R2="","",'D2 GANIT'!R2) -> નજીક,દૂર , પાતળા, જાડા, લાંબા, ઊંચા, ટૂંકા,નીચા વચ્ચેનો તફાવત કરે છે. | E21: =IF($R$4="","",IF($S19="A","√","")) | F21: =IF($R$4="","",IF($S19="B","√","")) | G21: =IF($R$4="","",IF($S19="C","√","")) -> √ | K21: 8 | L21: =IF('VYAKTITV VIKAS'!J2="","",'VYAKTITV VIKAS'!J2) -> પુસ્તકો / સાધનો વ્યવસ્થિત રાખે છે. | M21: =IF($R$4="","",IF($V21="A","√","")) -> √ | N21: =IF($R$4="","",IF($V21="B","√","")) | O21: =IF($R$4="","",IF($V21="C","√","")) | R21: 20 | S21: =IF($R$4="","",VLOOKUP($R$4,'D2 GANIT'!$A$4:$AA$63,'D1 BACK SIDE'!$R21,0)) -> B | U21: 10 | V21: =IF($R$4="","",VLOOKUP($R$4,'VYAKTITV VIKAS'!$A$4:$M$63,$U21,0)) -> A
K22: 9 | L22: =IF('VYAKTITV VIKAS'!K2="","",'VYAKTITV VIKAS'!K2) -> નવું જાણવાની જીજ્ઞાસા ધરાવે છે. | M22: =IF($R$4="","",IF($V22="A","√","")) -> √ | N22: =IF($R$4="","",IF($V22="B","√","")) | O22: =IF($R$4="","",IF($V22="C","√","")) | R22: 21 | S22: =IF($R$4="","",VLOOKUP($R$4,'D2 GANIT'!$A$4:$AA$63,'D1 BACK SIDE'!$R22,0)) -> A | U22: 11 | V22: =IF($R$4="","",VLOOKUP($R$4,'VYAKTITV VIKAS'!$A$4:$M$63,$U22,0)) -> A
C23: 15 | D23: =IF('D2 GANIT'!S2="","",'D2 GANIT'!S2) -> અસમાન એકમોના સંદર્ભમાં ટૂંકી લંબાઈને માપે છે. ( ગિલ્લી દંડા અને લખોટીની રમત) | E23: =IF($R$4="","",IF($S20="A","√","")) | F23: =IF($R$4="","",IF($S20="B","√","")) | G23: =IF($R$4="","",IF($S20="C","√","")) -> √ | K23: 10 | L23: =IF('VYAKTITV VIKAS'!L2="","",'VYAKTITV VIKAS'!L2) -> પ્રાણીઓ પ્રત્યે કરૂણા દાખવે છે. | M23: =IF($R$4="","",IF($V23="A","√","")) -> √ | N23: =IF($R$4="","",IF($V23="B","√","")) | O23: =IF($R$4="","",IF($V23="C","√","")) | R23: 22 | S23: =IF($R$4="","",VLOOKUP($R$4,'D2 GANIT'!$A$4:$AA$63,'D1 BACK SIDE'!$R23,0)) -> A | U23: 12 | V23: =IF($R$4="","",VLOOKUP($R$4,'VYAKTITV VIKAS'!$A$4:$M$63,$U23,0)) -> A
C24: 16 | D24: =IF('D2 GANIT'!T2="","",'D2 GANIT'!T2) -> ટૂંકા અંતર અને લંબાઈ નો અંદાજ કાઢે છે. અસમાન અને બિન પ્રમાણિત એકમો નો ઉપયોગ કરીને ચકાસણી કરે છે. ( હાથની વેત, પગના પગલાં, આંગળી) | E24: =IF($R$4="","",IF($S21="A","√","")) | F24: =IF($R$4="","",IF($S21="B","√","")) -> √ | G24: =IF($R$4="","",IF($S21="C","√","")) | K24: 11 | L24: =IF('VYAKTITV VIKAS'!M2="","",'VYAKTITV VIKAS'!M2) -> જૂથ કાર્યમાં સક્રિય પણે ભાગ લે છે. | M24: =IF($R$4="","",IF($V24="A","√","")) -> √ | N24: =IF($R$4="","",IF($V24="B","√","")) | O24: =IF($R$4="","",IF($V24="C","√","")) | R24: 23 | S24: =IF($R$4="","",VLOOKUP($R$4,'D2 GANIT'!$A$4:$AA$63,'D1 BACK SIDE'!$R24,0)) -> B | U24: 13 | V24: =IF($R$4="","",VLOOKUP($R$4,'VYAKTITV VIKAS'!$A$4:$M$63,$U24,0)) -> A
R25: 24 | S25: =IF($R$4="","",VLOOKUP($R$4,'D2 GANIT'!$A$4:$AA$63,'D1 BACK SIDE'!$R25,0)) -> C
C26: 17 | D26: =IF('D2 GANIT'!U2="","",'D2 GANIT'!U2) -> તુલના કરે છે, હલકીથી ભારે વસ્તુઓ અથવા ભારેથી હલકી વસ્તુઓને ક્રમમાં મૂકે છે. | E26: =IF($R$4="","",IF($S22="A","√","")) -> √ | F26: =IF($R$4="","",IF($S22="B","√","")) | G26: =IF($R$4="","",IF($S22="C","√","")) | K26: તારીખ :- | L26: =IF('Data Entry'!B4="","",'Data Entry'!B4) -> 45447
K27: વર્ગ શિક્ષકની સહી આચાર્યશ્રીની સહી/સિક્કો

Sheet MAIN PAGE
B3: શાળાકીય સર્વગ્રાહી મૂલ્યાંકન
B4: ( SCE ) | Z4: ખાસ નોંધ :- જી.સી.ઈ.આર.ટી. ના નિયમો અનુસાર આ પત્રક ફરજિયાત નથી.
B6: ધોરણ :- | C6: =IF('Data Entry'!J2="","",'Data Entry'!J2) -> 1 | F6: વર્ગ :- | H6: =IF('Data Entry'!J3="","",'Data Entry'!J3) -> અ | M6: વર્ષ :- | P6: =IF('Data Entry'!F3="","",'Data Entry'!F3) -> 2025 | R6: - | S6: =IF('Data Entry'!H3="","",'Data Entry'!H3) -> 2026
B9: શાળા નું નામ | D9: : | E9: =IF('Data Entry'!B2="","",'Data Entry'!B2) -> કુવાદરા પ્રાથમિક શાળા
B10: ગામ | D10: : | E10: =IF('Data Entry'!D2="","",'Data Entry'!D2) -> કુવાદરા
B11: તાલુકો | D11: : | E11: =IF('Data Entry'!B3="","",'Data Entry'!B3) -> માણસા
B12: જીલ્લો | D12: : | E12: =IF('Data Entry'!D3="","",'Data Entry'!D3) -> ગાંધીનગર
B13: પે. સેન્ટર | D13: : | E13: =IF('Data Entry'!F2="","",'Data Entry'!F2) -> લોદરા
B14: પરિણામ તારીખ | D14: : | E14: =IF('Data Entry'!B4="","",'Data Entry'!B4) -> 45447
B15: વર્ગ શિક્ષક નું નામ | D15: : | E15: =IF('Data Entry'!L2="","",'Data Entry'!L2) -> પટેલ બ્રિજેશકુમાર કે.
B16: સી.આર.સી. | D16: : | E16: =IF('Data Entry'!H2="","",'Data Entry'!H2) -> લોદરા
B18: જાતિ | C18: રજિ. સંખ્યા | F18: મેળવેલ એકંદર ગ્રેડ | U18: નોંધ
F19: A | I19: B | L19: C | O19: D | R19: E
C20: કુમાર | D20: કન્યા | E20: કુલ | F20: કુમાર | G20: કન્યા | H20: કુલ | I20: કુમાર | J20: કન્યા | K20: કુલ | L20: કુમાર | M20: કન્યા | N20: કુલ | O20: કુમાર | P20: કન્યા | Q20: કુલ | R20: કુમાર | S20: કન્યા | T20: કુલ
