Workbook

Sheet Insructions
C2: આ sheet ના ઉપયોગ માટેના સામાન્ય સૂચનો :-
A4: 1 | B4: આ શીટમાં શક્ય હોય ત્યાં સુધી શ્રુતિ ફોન્ટમાં જ માહિતી ભરવી. (બીજા ફોન્ટમાં માહિતી ભરી શકાશે.)
A5: 2 | B5: 'શાળા' અને 'વિદ્યાર્થીઓની' ની શીટ માં જરૂરી માહિતી ભરી દો. જે બીજી શીટ માટે આધાર છે.
A6: 3 | B6: આપ આ sheet માં વધુમાં વધુ '૯૫' વિદ્યાર્થીઓની માહિતી ભરી શકશો.
A7: 4 | B7: દરેક વિષયની sheets માં ક્રમ નંબર 1 પર filter માટે બટન આપેલ છે જેના પર ક્લિક કરી OK બટન પર ક્લિક કરવાથી જેટલા વિદ્યાર્થીઓ હશે તેટલી જ રો ખુલશે અને વધારાની કોરી રો હાઇડ થઇ જશે તેથી જરૂર જેટલા જ પેજ પ્રિન્ટ થશે.
A8: 5 | B8: દરેક વિષયની જરૂરિયાત મુજબ A4 સાઇઝના કાગળ પર પ્રિંટ કાઢી શકાશે.
A9: 6 | B9: જે તે પેજ ને અનલોક કરવા માટે પાસવર્ડ તરીકે 1438 નાખવો.
A10: 7 | B10: વિષય પ્રમાણેની શીટમાં વિદ્યાર્થીઓના નામ આપમેળે આવી જશે. જે તે પેજ પર જવા માટે આપેલ બટન પર ક્લિક કરો.
A11: 8 | B11: "Sheet"ની વિશેષતા એ છે કે આપ 'Auto' અને 'Blank' બંને રીતે ઉપયોગ કરી શકો છો.
B13: જ્યાં સુધી 'Whatsapp' થી ચાલે એમ હોય, ત્યાં સુધી ફોન કરવો નહિ. શાળા સમયમાં ફોન કરશો નહિ. | H13: MADE BY
H14: Pradipsinh.P.Sisodiya
H15: Gabat - 1 Primary School
H16: Ta :- Bayad, Di :- Arvalli
H17: Contect No. :- 9428313097
B19: નોધ :- ફાઈલને મોબાઈલમાં ખોલવી નહિ. તેથી ફાઈલ કરપ્ટ થવાની સંભાવના રહેલી છે. જેથી સાચી ગણતરી ના પણ થાય.!!

Sheet School
A1: શાળાની માહિતી
A2: શાળાનું નામ :-
A3: ગામનું નામ :-
A4: શાળાનો ડાયસકોડ :- | D4: ફાઈલના ઉપયોગ માટેની Video Link
A5: તાલુકો :- | D5: https://youtu.be/2ql5gwFdXt0
A6: જિલ્લો :-
A7: સી.આર.સી. :-
A8: ધોરણ અને વર્ગ :- | B8: 5
A9: શૈક્ષણિક વર્ષ :- | B9: 2025-'26
A10: વર્ગ શિક્ષકનું નામ :-
A11: પરિણામની તારીખ :-

Sheet Student
A1: વિદ્યાર્થીની માહિતી
A2: ક્રમ | B2: વિદ્યાર્થીનું નામ | C2: રજીસ્ટર સંખ્યા :- | E2: 30
A3: =IF(E2="","",1) -> 1
A4: =IF($E$2>A3,A3+1,"") -> 2
A5: =IF($E$2>A4,A4+1,"") -> 3 | F5: આવી અપડેટ ફાઈલો અને ફાઈલમાં ઉપયોગમાં લેવાયેલ ફોન્ટ નીચેની Google Link પરથી મળી જશે. માટે વારંવાર પર્સનલ મેસેજ કે ફોન કરી ફાઈલો માંગવી નહિ.
A6: =IF($E$2>A5,A5+1,"") -> 4
A7: =IF($E$2>A6,A6+1,"") -> 5
A8: =IF($E$2>A7,A7+1,"") -> 6 | G8: https://drive.google.com/drive/folders/1Wyxs6RQwl-i4qPoNP65CEmWq7scY8NsS?usp=sharing
A9: =IF($E$2>A8,A8+1,"") -> 7
A10: =IF($E$2>A9,A9+1,"") -> 8
A11: =IF($E$2>A10,A10+1,"") -> 9 | F11: 👉🏻 આ Google link પર ક્લિક કરી આખું ફોલ્ડર અથવા ફાઈલ ડાઉનલોડ કરવા માટે જે પેજ ખુલે એમાં જમણી બાજુ ઉપર 3 ટપકા પર ક્લિક કરી ડાઉનલોડ ઓપ્શન પર ક્લિક કરો અથવા જો ⬇(ડાઉન એરો) જેવું નિશાન દેખાય તો એના પર ક્લિક કરી આખું ફોલ્ડર અથવા જે તે ફાઈલ ડાઉનલોડ કરી લો અને ફાઈલ ડાઉનલોડ થઈ જાય પછી તેનો ઉપયોગ કરી શકશો..
A12: =IF($E$2>A11,A11+1,"") -> 10
A13: =IF($E$2>A12,A12+1,"") -> 11
A14: =IF($E$2>A13,A13+1,"") -> 12
A15: =IF($E$2>A14,A14+1,"") -> 13
A16: =IF($E$2>A15,A15+1,"") -> 14
A17: =IF($E$2>A16,A16+1,"") -> 15
A18: =IF($E$2>A17,A17+1,"") -> 16
A19: =IF($E$2>A18,A18+1,"") -> 17
A20: =IF($E$2>A19,A19+1,"") -> 18
A21: =IF($E$2>A20,A20+1,"") -> 19
A22: =IF($E$2>A21,A21+1,"") -> 20
A23: =IF($E$2>A22,A22+1,"") -> 21
... A102: =IF($E$2>A101,A101+1,"")

Sheet Patrak-A First Page
C3: શાળાકીય સર્વગ્રાહી મૂલ્યાંકન
D4: (SCE)
D11: પત્રક - અ
F15: ધોરણ :- | H15: =School!B8 -> 5
D17: રચનાત્મક મૂલ્યાંકન પત્રક
E19: વર્ષ :- | G19: =School!B9 -> 2025-'26
D22: શાળાનું નામ :- | F22: =IF(School!B2="","",School!B2)
D24: ગામ :- | E24: =IF(School!B3="","",School!B3) | G24: તાલુકો :- | H24: =IF(School!B5="","",School!B5) | I24: જિલ્લો :- | J24: =IF(School!B6="","",School!B6)
D26: ધોરણ અને વર્ગ :- | F26: =IF(School!B8="","",School!B8) -> 5 | H26: પરિણામની તારીખ :- | J26: =IF(School!B11="","",School!B11)
D28: વર્ગ શિક્ષકનું નામ :- | F28: =IF(School!B10="","",School!B10) | I28: સી.આર.સી :- | K28: =IF(School!B7="","",School!B7)
D32: વર્ગ શિક્ષકની સહી | I32: આચાર્યશ્રીની સહી/સિક્કા

Sheet 5 Guj
A1: પરિશિષ્ટ - A
A2: રચનાત્મક મૂલ્યાંકન
B3: ધોરણ અને વર્ગ :- | C3: =School!B8 -> 5 | G3: વિષય :- | I3: ગુજરાતી | N3: સત્ર :- | P3: પ્રથમ | T3: વર્ષ :- | V3: =School!B9 -> 2025-'26
C5: અભ્યાસક્રમ પ્રમાણે પ્રતિનિધિત્વરૂપ હેતુઓ (મહત્તમ :- ૨૦)
C6: મજા તો : માળીયામાં, કતારીયામાં | G6: બે વરસાદને પાંચ પીપર | K6: સવારે સળવળ | O6: તડકો અધમણ ડાંગર ઝલમલ | S6: ધોયો અને ખાધો
A7: ક્રમ | B7: વિદ્યાર્થીનું નામ | C7: જોડાક્ષરોનું શ્રવણ, વાંચન અને લેખન સ્પષ્ટ રીતે કરે છે. | D7: વાક્યો અને પરીચ્છેદનું શ્રુત લેખન કરી શકે છે. | E7: લેખન માટેની પાયાની જરૂરિયાત શબ્દ અને વાક્યોનું સંકેતીકરણ કરી શકે છે. | F7: જરૂરી વિગતો શોધે છે. | G7: વિગતો વચ્ચેનો સબંધ નિશ્ચિત કરી શકે છે. | H7: માહિતી સાંભળી તેના પ્રશ્નોના ઉત્તર આપી શકે છે. | I7: કાવ્યનું ભાવવાહી પઠન કરે અને ગાન કરી શકશે | J7: સાદી અને જાણીતી બાબતો વિશે ખચકાયા વિના સહજ રીતે બોલી શકશે | K7: જિજ્ઞાસા પ્રશ્નો અને તેના જવાબ આપી તેમજ લખી શકશે | L7: યોગ્ય મરોડ સાથે બે શબ્દો વચ્ચે યોગ્ય અંતર રાખી વિરામ ચિન્હો અનુલેખન કરી શકશે | M7: અધુરી કાવ્યપંક્તિ પૂર્ણ કરશે તથા પત્ર અને મુદ્દા પરથી વાર્તા લેખન કરી શકશે | N7: સ્થાનિક બોલી અને ભાષાના શબ્દ નો માન્ય ભાષામાં અર્થ શોધી શબ્દકોશનો ઉપયોગ કરી શકશે | O7: સંકેત ના બોર્ડ સમય પત્ર સમાચાર પત્રો સામયિકોનું સમજપૂર્વક વાંચન કરશે અને ઉપયોગ કરી શકશે | P7: વિરામ ચિન્હો લિંગ વચન ક્રિયાપદ વિશેષણ નો સમજીને ઉપયોગ કરે છે | Q7: સાદા અને સંયુક્ત વાક્યો તથા ક્રીયાપદોને ઓળખે છે. | R7: વિધાન વાક્ય, પ્રશ્ન વાક્ય, ઉદ્ગાર વાક્ય, ને ઓળખે છે અને ઉપયોગ કરી લખી શકે છે. | S7: સર્વનામ અને વિશેષણ ને ઓળખે છે અને તેનો ઉપયોગ કરી શકે છે. | T7: આરોહ અવરોહ સાથે વાર્તા રજુ કરે છે. | U7: કાવ્ય પંક્તિઓ પુરણ કરે છે. | V7: ચિત્રનું વર્ણન સાત-આઠ વાક્યમાં લખી શકે છે. | W7: સત્રાંતે વિદ્યાર્થીઓએ મેળવેલ જે તે નિશાનીઓની સંખ્યા | Z7: 40 માંથી મેળવેલ ગુણ
C8: 1 | D8: 2 | E8: 3 | F8: 4 | G8: 5 | H8: 6 | I8: 7 | J8: 8 | K8: 9 | L8: 10 | M8: 11 | N8: 12 | O8: 13 | P8: 14 | Q8: 15 | R8: 16 | S8: 17 | T8: 18 | U8: 19 | V8: 20 | W8: √ | X8: ? | Y8: ×
A9: =Student!A3 -> 1 | B9: =IF(Student!B3="","",Student!B3) | W9: =IF(C9="","",COUNTIF(C9:V9,$W$8)) | X9: =IF(C9="","",COUNTIF(C9:V9,$X$8)) | Y9: =IF(C9="","",COUNTIF(C9:V9,$Y$8)) | Z9: =IF(W9="","",W9*2)
A10: =Student!A4 -> 2 | B10: =IF(Student!B4="","",Student!B4) | W10: =IF(C10="","",COUNTIF(C10:V10,$W$8)) | X10: =IF(C10="","",COUNTIF(C10:V10,$X$8)) | Y10: =IF(C10="","",COUNTIF(C10:V10,$Y$8)) | Z10: =IF(W10="","",W10*2)
A11: =Student!A5 -> 3 | B11: =IF(Student!B5="","",Student!B5) | W11: =IF(C11="","",COUNTIF(C11:V11,$W$8)) | X11: =IF(C11="","",COUNTIF(C11:V11,$X$8)) | Y11: =IF(C11="","",COUNTIF(C11:V11,$Y$8)) | Z11: =IF(W11="","",W11*2)
A12: =Student!A6 -> 4 | B12: =IF(Student!B6="","",Student!B6) | W12: =IF(C12="","",COUNTIF(C12:V12,$W$8)) | X12: =IF(C12="","",COUNTIF(C12:V12,$X$8)) | Y12: =IF(C12="","",COUNTIF(C12:V12,$Y$8)) | Z12: =IF(W12="","",W12*2)
A13: =Student!A7 -> 5 | B13: =IF(Student!B7="","",Student!B7) | W13: =IF(C13="","",COUNTIF(C13:V13,$W$8)) | X13: =IF(C13="","",COUNTIF(C13:V13,$X$8)) | Y13: =IF(C13="","",COUNTIF(C13:V13,$Y$8)) | Z13: =IF(W13="","",W13*2)
A14: =Student!A8 -> 6 | B14: =IF(Student!B8="","",Student!B8) | W14: =IF(C14="","",COUNTIF(C14:V14,$W$8)) | X14: =IF(C14="","",COUNTIF(C14:V14,$X$8)) | Y14: =IF(C14="","",COUNTIF(C14:V14,$Y$8)) | Z14: =IF(W14="","",W14*2)
A15: =Student!A9 -> 7 | B15: =IF(Student!B9="","",Student!B9) | W15: =IF(C15="","",COUNTIF(C15:V15,$W$8)) | X15: =IF(C15="","",COUNTIF(C15:V15,$X$8)) | Y15: =IF(C15="","",COUNTIF(C15:V15,$Y$8)) | Z15: =IF(W15="","",W15*2)
A16: =Student!A10 -> 8 | B16: =IF(Student!B10="","",Student!B10) | W16: =IF(C16="","",COUNTIF(C16:V16,$W$8)) | X16: =IF(C16="","",COUNTIF(C16:V16,$X$8)) | Y16: =IF(C16="","",COUNTIF(C16:V16,$Y$8)) | Z16: =IF(W16="","",W16*2)
A17: =Student!A11 -> 9 | B17: =IF(Student!B11="","",Student!B11) | W17: =IF(C17="","",COUNTIF(C17:V17,$W$8)) | X17: =IF(C17="","",COUNTIF(C17:V17,$X$8)) | Y17: =IF(C17="","",COUNTIF(C17:V17,$Y$8)) | Z17: =IF(W17="","",W17*2)
A18: =Student!A12 -> 10 | B18: =IF(Student!B12="","",Student!B12) | W18: =IF(C18="","",COUNTIF(C18:V18,$W$8)) | X18: =IF(C18="","",COUNTIF(C18:V18,$X$8)) | Y18: =IF(C18="","",COUNTIF(C18:V18,$Y$8)) | Z18: =IF(W18="","",W18*2)
A19: =Student!A13 -> 11 | B19: =IF(Student!B13="","",Student!B13) | W19: =IF(C19="","",COUNTIF(C19:V19,$W$8)) | X19: =IF(C19="","",COUNTIF(C19:V19,$X$8)) | Y19: =IF(C19="","",COUNTIF(C19:V19,$Y$8)) | Z19: =IF(W19="","",W19*2)
A20: =Student!A14 -> 12 | B20: =IF(Student!B14="","",Student!B14) | W20: =IF(C20="","",COUNTIF(C20:V20,$W$8)) | X20: =IF(C20="","",COUNTIF(C20:V20,$X$8)) | Y20: =IF(C20="","",COUNTIF(C20:V20,$Y$8)) | Z20: =IF(W20="","",W20*2)
... A104: =Student!A98 | B104: =IF(Student!B98="","",Student!B98) | W104: =IF(C104="","",COUNTIF(C104:V104,$W$8)) | X104: =IF(C104="","",COUNTIF(C104:V104,$X$8)) | Y104: =IF(C104="","",COUNTIF(C104:V104,$Y$8)) | Z104: =IF(W104="","",W104*2)
B107: વિષય શિક્ષકની સહી | R107: આચાર્યની સહી/સિક્કા

Sheet 5 Maths
A1: પરિશિષ્ટ - A
A2: રચનાત્મક મૂલ્યાંકન
B3: ધોરણ અને વર્ગ :- | C3: =School!B8 -> 5 | G3: વિષય :- | I3: ગણિત | N3: સત્ર :- | P3: પ્રથમ | T3: વર્ષ :- | V3: =School!B9 -> 2025-'26
C5: અભ્યાસક્રમ પ્રમાણે પ્રતિનિધિત્વરૂપ હેતુઓ (મહત્તમ :- ૨૦)
C6: રાષ્ટ્રીય ફળ કેરી | F6: આકાર અને ખૂણા | I6: કેટલા ચોરસ | L6: ભાગ અને પૂર્ણ | P6: તે સરખું દેખાય છે | S6: હું મારો ગુણક હું તારો અવયવ | U6: તમે પેટર્ન જોઈ શકો છો?
A7: ક્રમ | B7: વિદ્યાર્થીનું નામ | C7: દસ કરોડ સુધીની સંખ્યા ઓ જાણે છે | D7: કેરી આધારિત વિવિધ ભાત ચિત્રો આકાર છે અપૂર્ણાકો વિશે સમજ મેળવે | E7: કોયડા ઉકેલ અને વાહનોને ગતિ અંતર સમયના આંતર સંબંધો સમજે | F7: બંધ અને ખુલ્લા આકારો વિષે સમજે છે | G7: ખૂણા ના વિવિધ પ્રકારો વર્ગીકરણ કરે અને દોરે | H7: ઘડિયા નો સમય તથા બે કાંટા વચ્ચે બનતા ખૂણા વિશેષ સમજે અને દોરી શકે | I7: ભાત ચિત્રો ને આધારે પેટન ની ગણતરી કરી ચોક્કસ આકાર બનાવે | J7: પરિમિતિ સમજી શકે છે અને તેના આધારિત કોયડા ઉકેલે | K7: ક્ષેત્રફળ વિશે સમજે છે અને ગ્રાફ પેપર ની મદદથી શેત્રફળ શોધો | L7: આકારો અને તેના વિવિધ ભાગો વિશે સમજે | M7: આપેલ અપૂર્ણાંકોને ઓળખે અને એના સમ અપૂર્ણાંક બનાવે | N7: દશાંશ અપૂર્ણાંક માં રૂપાંતર કરે | O7: દશાંશ અપૂર્ણાંક આધારિત કોયડા ઉકેલ | P7: આકારો કે વસ્તુઓની પ્રતિબિંબની સમિતિ વિશે જાણે અને સમજે | Q7: વિવિધ દ્વિપરિમાણીય આકારો ને તેમના પરિભ્રમણથી ઓળખે | R7: પેટન ના નિયમાનુસાર દાખલા ગણતરી કરી શકે | S7: સંખ્યાના અવયવ અને અવયવી વિશે સમજે છે | T7: તેમના આધારિત કોડા ઉકેલે છે અને તેમની વચ્ચે નો ભેદ તારવી શકે છે | U7: વિવિધ ચિત્રાત્મક નું પરિભ્રમણ સમજે અને ફેરવે છે | V7: વિવિધ સંખ્યાત્મક આકારાત્મક પેટર્ન સમજે અને આગળ વધારે | W7: સત્રાંતે વિદ્યાર્થીઓએ મેળવેલ જે તે નિશાનીઓની સંખ્યા | Z7: 40 માંથી મેળવેલ ગુણ
C8: 1 | D8: 2 | E8: 3 | F8: 4 | G8: 5 | H8: 6 | I8: 7 | J8: 8 | K8: 9 | L8: 10 | M8: 11 | N8: 12 | O8: 13 | P8: 14 | Q8: 15 | R8: 16 | S8: 17 | T8: 18 | U8: 19 | V8: 20 | W8: √ | X8: ? | Y8: ×
A9: ='5 Guj'!A9 -> 1 | B9: =IF(Student!B3="","",Student!B3) | W9: =IF(C9="","",COUNTIF(C9:V9,$W$8)) | X9: =IF(C9="","",COUNTIF(C9:V9,$X$8)) | Y9: =IF(C9="","",COUNTIF(C9:V9,$Y$8)) | Z9: =IF(W9="","",W9*2)
A10: ='5 Guj'!A10 -> 2 | B10: =IF(Student!B4="","",Student!B4) | W10: =IF(C10="","",COUNTIF(C10:V10,$W$8)) | X10: =IF(C10="","",COUNTIF(C10:V10,$X$8)) | Y10: =IF(C10="","",COUNTIF(C10:V10,$Y$8)) | Z10: =IF(W10="","",W10*2)
A11: ='5 Guj'!A11 -> 3 | B11: =IF(Student!B5="","",Student!B5) | W11: =IF(C11="","",COUNTIF(C11:V11,$W$8)) | X11: =IF(C11="","",COUNTIF(C11:V11,$X$8)) | Y11: =IF(C11="","",COUNTIF(C11:V11,$Y$8)) | Z11: =IF(W11="","",W11*2)
A12: ='5 Guj'!A12 -> 4 | B12: =IF(Student!B6="","",Student!B6) | W12: =IF(C12="","",COUNTIF(C12:V12,$W$8)) | X12: =IF(C12="","",COUNTIF(C12:V12,$X$8)) | Y12: =IF(C12="","",COUNTIF(C12:V12,$Y$8)) | Z12: =IF(W12="","",W12*2)
A13: ='5 Guj'!A13 -> 5 | B13: =IF(Student!B7="","",Student!B7) | W13: =IF(C13="","",COUNTIF(C13:V13,$W$8)) | X13: =IF(C13="","",COUNTIF(C13:V13,$X$8)) | Y13: =IF(C13="","",COUNTIF(C13:V13,$Y$8)) | Z13: =IF(W13="","",W13*2)
A14: ='5 Guj'!A14 -> 6 | B14: =IF(Student!B8="","",Student!B8) | W14: =IF(C14="","",COUNTIF(C14:V14,$W$8)) | X14: =IF(C14="","",COUNTIF(C14:V14,$X$8)) | Y14: =IF(C14="","",COUNTIF(C14:V14,$Y$8)) | Z14: =IF(W14="","",W14*2)
A15: ='5 Guj'!A15 -> 7 | B15: =IF(Student!B9="","",Student!B9) | W15: =IF(C15="","",COUNTIF(C15:V15,$W$8)) | X15: =IF(C15="","",COUNTIF(C15:V15,$X$8)) | Y15: =IF(C15="","",COUNTIF(C15:V15,$Y$8)) | Z15: =IF(W15="","",W15*2)
A16: ='5 Guj'!A16 -> 8 | B16: =IF(Student!B10="","",Student!B10) | W16: =IF(C16="","",COUNTIF(C16:V16,$W$8)) | X16: =IF(C16="","",COUNTIF(C16:V16,$X$8)) | Y16: =IF(C16="","",COUNTIF(C16:V16,$Y$8)) | Z16: =IF(W16="","",W16*2)
A17: ='5 Guj'!A17 -> 9 | B17: =IF(Student!B11="","",Student!B11) | W17: =IF(C17="","",COUNTIF(C17:V17,$W$8)) | X17: =IF(C17="","",COUNTIF(C17:V17,$X$8)) | Y17: =IF(C17="","",COUNTIF(C17:V17,$Y$8)) | Z17: =IF(W17="","",W17*2)
A18: ='5 Guj'!A18 -> 10 | B18: =IF(Student!B12="","",Student!B12) | W18: =IF(C18="","",COUNTIF(C18:V18,$W$8)) | X18: =IF(C18="","",COUNTIF(C18:V18,$X$8)) | Y18: =IF(C18="","",COUNTIF(C18:V18,$Y$8)) | Z18: =IF(W18="","",W18*2)
A19: ='5 Guj'!A19 -> 11 | B19: =IF(Student!B13="","",Student!B13) | W19: =IF(C19="","",COUNTIF(C19:V19,$W$8)) | X19: =IF(C19="","",COUNTIF(C19:V19,$X$8)) | Y19: =IF(C19="","",COUNTIF(C19:V19,$Y$8)) | Z19: =IF(W19="","",W19*2)
A20: ='5 Guj'!A20 -> 12 | B20: =IF(Student!B14="","",Student!B14) | W20: =IF(C20="","",COUNTIF(C20:V20,$W$8)) | X20: =IF(C20="","",COUNTIF(C20:V20,$X$8)) | Y20: =IF(C20="","",COUNTIF(C20:V20,$Y$8)) | Z20: =IF(W20="","",W20*2)
... A104: ='5 Guj'!A104 | B104: =IF(Student!B98="","",Student!B98) | W104: =IF(C104="","",COUNTIF(C104:V104,$W$8)) | X104: =IF(C104="","",COUNTIF(C104:V104,$X$8)) | Y104: =IF(C104="","",COUNTIF(C104:V104,$Y$8)) | Z104: =IF(W104="","",W104*2)
B108: વિષય શિક્ષકની સહી | R108: આચાર્યની સહી/સિક્કા

Sheet 5 EVS
A1: પરિશિષ્ટ - A
A2: રચનાત્મક મૂલ્યાંકન
B3: ધોરણ અને વર્ગ :- | C3: =School!B8 -> 5 | G3: વિષય :- | I3: પર્યાવરણ | N3: સત્ર :- | P3: પ્રથમ | T3: વર્ષ :- | V3: =School!B9 -> 2025-'26
C5: અભ્યાસક્રમ પ્રમાણે પ્રતિનિધિત્વરૂપ હેતુઓ (મહત્તમ :- ૨૦)
A6: ક્રમ | B6: વિદ્યાર્થીનું નામ | C6: મજાની ઇન્દ્રિયો | E6: સાપ અને મદારી | F6: સ્વાદથી પાચન સુધી | G6: કેરીઓ બારેમાસ | I6: બીજ બીજ બીજ | K6: જળ એ જીવન | M6: પાણી સાથેના પ્રયોગો | P6: મચ્છર અને રોગો | Q6: ચઢીએ ઊંચા ચઢાણ | S6: દીવાલોની કહાણી | U6: સુનીતા અવકાશમાં | W6: સત્રાંતે વિદ્યાર્થીઓએ મેળવેલ જે તે નિશાનીઓની સંખ્યા | Z6: 40 માંથી મેળવેલ ગુણ
C7: પ્રાણીઓની વિશિષ્ટ શક્તિઓ અને અસામાન્ય લક્ષણો તેમજ પ્રકાર, ધ્વનિ અને ખોરાક પ્રત્યેના પ્રતિચારોને વર્ણવે છે. | D7: સ્થાનિક પર્યાવરણમાં ઉપલબ્ધ બિન ઉપયોગી સામગ્રીનો ઉપયોગ કરીને પોસ્ટર ડિઝાઇન કે મોડેલ્સ બનાવી તેનો ઉપયોગ કરે છે. | E7: પ્રાણીઓ વનસ્પતિઓ અને મનુષ્યના પરસ્પર અવલંબન સંબંધો વર્ણવે છે. | F7: સ્વચ્છતા, સ્વાસ્થ્ય અને કચરાના વ્યવસ્થાન પણ વિશે જાણે છે અને આપત્તિ વ્યવસ્થાપન વિશે વર્ણવે છે. | G7: રોજિંદા જીવનની મૂળભૂત જરૂરિયાતો મેળવવાની પ્રક્રિયા અને તેમાં ટેકનોલોજીના ઉપયોગને સમજાવે છે. | H7: સાધનોને જાળવણી બચાવ માટેના ઉપાયો સૂચવે છે તથા વંચિતો પ્રત્યે સંવેદનશીલતા દર્શાવે છે. | I7: વનસ્પતિ અને મનુષ્યના પરસ્પર અવલંબન સંબંધોને વર્ણવે છે. | J7: આકાર સ્વાદ રંગ રચના ધ્વનિ વગેરે ગુણધર્મોને આધારે પદાર્થ કે સામગ્રીનું વર્ગીકરણ કરે છે. | K7: રોજિંદા જીવનમાં પાણીના મહત્વ વિશે અને તેના ઉપયોગ વિશે જાણકારી મેળવે છે. | L7: પાણીના વ્યયના ઉપાયો વિશે સમજે છે. | M7: રોજિંદા જીવનમાં વિવિધ સંસ્થાઓની ભૂમિકા અને કાર્યો સમજાવે છે. | N7: પ્રમાણભૂત એકમો દ્વારા પાણીનું માપન કરે છે અને તેને શુદ્ધતા ચકાસવા પ્રયોગ કરે છે. | O7: પાણીને પ્રદૂષિત કરનારા તથ્ય વિશે જાણકારી મેળવી તેના ઉપાયો સમજાવે છે. | P7: મચ્છરો થી થતા રોગોની જાણકારી મેળવી તેનાથી બચવાના ઉપાયો વિશે જાણકારી મેળવે છે. | Q7: ભૂમિ પ્રદેશો આબોહવા સંસાધનો અને સાંસ્કૃતિક જીવન વચ્ચે જોડાણ સાથે છે. | R7: આસપાસના કે મુલાકાત લીધેલ સ્થળોના નકશા બનાવે છે તે વિશે જોડકણા કવિતાઓ કે સૂત્રો લખે છે. | S7: સિક્કાઓ ચિત્રો સ્મારકો સંગ્રહાલયો વગેરેની મુલાકાત તેમજ વડીલો સાથેના સંવાદ દ્વારા પરંપરામાં આવેલ પરિવર્તન નું અનુમાન કરે છે. | T7: નકશામાં દર્શાવેલ ચિન્હ દિશાઓ વસ્તુઓની સ્થિતિ કે દર્શાવેલ સ્થળની મુલાકાત લીધેલ સ્થળને નકશામાં ઓળખે છે. | U7: અવકાશી જથ્થો અને સમય અંગે સાદા પ્રમાણભૂત એકમો દ્વારા અંદાજ કાઢે છે. | V7: અવલોકનો અનુભવ અને માહિતીની વ્યવસ્થિત નોંધ કરે છે અને તેના આધારે અનુમાન કરે છે.
C8: 1 | D8: 2 | E8: 3 | F8: 4 | G8: 5 | H8: 6 | I8: 7 | J8: 8 | K8: 9 | L8: 10 | M8: 11 | N8: 12 | O8: 13 | P8: 14 | Q8: 15 | R8: 16 | S8: 17 | T8: 18 | U8: 19 | V8: 20 | W8: √ | X8: ? | Y8: ×
A9: =Student!A3 -> 1 | B9: =IF(Student!B3="","",Student!B3) | W9: =IF(C9="","",COUNTIF(C9:V9,$W$8)) | X9: =IF(C9="","",COUNTIF(C9:V9,$X$8)) | Y9: =IF(C9="","",COUNTIF(C9:V9,$Y$8)) | Z9: =IF(W9="","",W9*2)
A10: =Student!A4 -> 2 | B10: =IF(Student!B4="","",Student!B4) | W10: =IF(C10="","",COUNTIF(C10:V10,$W$8)) | X10: =IF(C10="","",COUNTIF(C10:V10,$X$8)) | Y10: =IF(C10="","",COUNTIF(C10:V10,$Y$8)) | Z10: =IF(W10="","",W10*2)
A11: =Student!A5 -> 3 | B11: =IF(Student!B5="","",Student!B5) | W11: =IF(C11="","",COUNTIF(C11:V11,$W$8)) | X11: =IF(C11="","",COUNTIF(C11:V11,$X$8)) | Y11: =IF(C11="","",COUNTIF(C11:V11,$Y$8)) | Z11: =IF(W11="","",W11*2)
A12: =Student!A6 -> 4 | B12: =IF(Student!B6="","",Student!B6) | W12: =IF(C12="","",COUNTIF(C12:V12,$W$8)) | X12: =IF(C12="","",COUNTIF(C12:V12,$X$8)) | Y12: =IF(C12="","",COUNTIF(C12:V12,$Y$8)) | Z12: =IF(W12="","",W12*2)
A13: =Student!A7 -> 5 | B13: =IF(Student!B7="","",Student!B7) | W13: =IF(C13="","",COUNTIF(C13:V13,$W$8)) | X13: =IF(C13="","",COUNTIF(C13:V13,$X$8)) | Y13: =IF(C13="","",COUNTIF(C13:V13,$Y$8)) | Z13: =IF(W13="","",W13*2)
A14: =Student!A8 -> 6 | B14: =IF(Student!B8="","",Student!B8) | W14: =IF(C14="","",COUNTIF(C14:V14,$W$8)) | X14: =IF(C14="","",COUNTIF(C14:V14,$X$8)) | Y14: =IF(C14="","",COUNTIF(C14:V14,$Y$8)) | Z14: =IF(W14="","",W14*2)
A15: =Student!A9 -> 7 | B15: =IF(Student!B9="","",Student!B9) | W15: =IF(C15="","",COUNTIF(C15:V15,$W$8)) | X15: =IF(C15="","",COUNTIF(C15:V15,$X$8)) | Y15: =IF(C15="","",COUNTIF(C15:V15,$Y$8)) | Z15: =IF(W15="","",W15*2)
A16: =Student!A10 -> 8 | B16: =IF(Student!B10="","",Student!B10) | W16: =IF(C16="","",COUNTIF(C16:V16,$W$8)) | X16: =IF(C16="","",COUNTIF(C16:V16,$X$8)) | Y16: =IF(C16="","",COUNTIF(C16:V16,$Y$8)) | Z16: =IF(W16="","",W16*2)
A17: =Student!A11 -> 9 | B17: =IF(Student!B11="","",Student!B11) | W17: =IF(C17="","",COUNTIF(C17:V17,$W$8)) | X17: =IF(C17="","",COUNTIF(C17:V17,$X$8)) | Y17: =IF(C17="","",COUNTIF(C17:V17,$Y$8)) | Z17: =IF(W17="","",W17*2)
A18: =Student!A12 -> 10 | B18: =IF(Student!B12="","",Student!B12) | W18: =IF(C18="","",COUNTIF(C18:V18,$W$8)) | X18: =IF(C18="","",COUNTIF(C18:V18,$X$8)) | Y18: =IF(C18="","",COUNTIF(C18:V18,$Y$8)) | Z18: =IF(W18="","",W18*2)
A19: =Student!A13 -> 11 | B19: =IF(Student!B13="","",Student!B13) | W19: =IF(C19="","",COUNTIF(C19:V19,$W$8)) | X19: =IF(C19="","",COUNTIF(C19:V19,$X$8)) | Y19: =IF(C19="","",COUNTIF(C19:V19,$Y$8)) | Z19: =IF(W19="","",W19*2)
A20: =Student!A14 -> 12 | B20: =IF(Student!B14="","",Student!B14) | W20: =IF(C20="","",COUNTIF(C20:V20,$W$8)) | X20: =IF(C20="","",COUNTIF(C20:V20,$X$8)) | Y20: =IF(C20="","",COUNTIF(C20:V20,$Y$8)) | Z20: =IF(W20="","",W20*2)
... A104: =Student!A98 | B104: =IF(Student!B98="","",Student!B98) | W104: =IF(C104="","",COUNTIF(C104:V104,$W$8)) | X104: =IF(C104="","",COUNTIF(C104:V104,$X$8)) | Y104: =IF(C104="","",COUNTIF(C104:V104,$Y$8)) | Z104: =IF(W104="","",W104*2)
B108: વિષય શિક્ષકની સહી | R108: આચાર્યની સહી/સિક્કા

Sheet 5 Hindi
A1: પરિશિષ્ટ - A
A2: રચનાત્મક મૂલ્યાંકન
B3: ધોરણ અને વર્ગ :- | C3: =School!B8 -> 5 | G3: વિષય :- | I3: હિન્દી | N3: સત્ર :- | P3: પ્રથમ | T3: વર્ષ :- | V3: =School!B9 -> 2025-'26
C5: અભ્યાસક્રમ પ્રમાણે પ્રતિનિધિત્વરૂપ હેતુઓ (મહત્તમ :- ૨૦)
A6: ક્રમ | B6: વિદ્યાર્થીનું નામ | C6: १. यातायात | G6: २. गिनती | I6: ३. नन्हा मुन्ना रही हु.. | L6: ४. सोच अपनी अपनी | O6: ५. चिडयाघर की सैर | R6: ६. हंसी का पिटारा | U6: ७. खाना खजाना | W6: સત્રાંતે વિદ્યાર્થીઓએ મેળવેલ જે તે નિશાનીઓની સંખ્યા | Z6: 40 માંથી મેળવેલ ગુણ
C7: परिचित शब्दसरल वाक्य, बातचीत सुनकर एवं पढ़कर समझ सकेंगे। | D7: सरल प्रश्नों के लिखित उत्तर देते है। | E7: क्या', 'कौन', 'क्यों', 'कब' और 'कैसे' वाले प्रश्नं को सुनकर और पढ़कर समझते हैं। | F7: छपी हुई सामग्री पढ़ाकर समझते हैं । | G7: 21 से 50 तक की गिनती सुनकर और पढ़कर समझते हैं। | H7: शब्दों में और अंको में २१ से ५० तक की गिनती का उच्चारण एवं लेखन करते हैं। | I7: गीत, कविता सुनकर और पढ़कर समझते है। | J7: व्यक्तिगत और सामूहिक रूप से काव्यगान कर सकेंगे। | K7: समानार्थी एवं विरुद्धार्थी शब्दों का वाक्य में प्रगोग करते हैं। | L7: क्या', 'कौन', 'क्यों', 'कब' और 'कैसे' वाले प्रश्नं का लिखित उत्तर देते हैं। | M7: परिचित विषय पर साहजिक रूप से लिखते है। | N7: चित्र के आधार पर लिखते है। | O7: सरल वाक्य बातचीत, संवाद के आधार पर समझते है। | P7: शबदकोश के क्रम के बार में जानते है। | Q7: संयुक्ताक्षरयुक्त शब्दों का शुध्ध रूप से उच्चारण करते एवं लिखते है। | R7: गीत, सरल कविता, पहेलियाँ, चुटकुले सुनकर समझते है। | S7: परिचित विषय या चित्र के आधार पर पाछे गए प्रश्नों के मौखिक उत्तर देते है। | T7: समानार्थी एवं विरुद्धार्थी शब्दों का वाक्य में प्रगोग करते हैं। | U7: कहावतो का वाक्य में प्रयोग करते है। | V7: वचन को समझकर वक्यामे प्रयोग करते है।
C8: 1 | D8: 2 | E8: 3 | F8: 4 | G8: 5 | H8: 6 | I8: 7 | J8: 8 | K8: 9 | L8: 10 | M8: 11 | N8: 12 | O8: 13 | P8: 14 | Q8: 15 | R8: 16 | S8: 17 | T8: 18 | U8: 19 | V8: 20 | W8: √ | X8: ? | Y8: ×
A9: =Student!A3 -> 1 | B9: =IF(Student!B3="","",Student!B3) | W9: =IF(C9="","",COUNTIF(C9:V9,$W$8)) | X9: =IF(C9="","",COUNTIF(C9:V9,$X$8)) | Y9: =IF(C9="","",COUNTIF(C9:V9,$Y$8)) | Z9: =IF(W9="","",W9*2)
A10: =Student!A4 -> 2 | B10: =IF(Student!B4="","",Student!B4) | W10: =IF(C10="","",COUNTIF(C10:V10,$W$8)) | X10: =IF(C10="","",COUNTIF(C10:V10,$X$8)) | Y10: =IF(C10="","",COUNTIF(C10:V10,$Y$8)) | Z10: =IF(W10="","",W10*2)
A11: =Student!A5 -> 3 | B11: =IF(Student!B5="","",Student!B5) | W11: =IF(C11="","",COUNTIF(C11:V11,$W$8)) | X11: =IF(C11="","",COUNTIF(C11:V11,$X$8)) | Y11: =IF(C11="","",COUNTIF(C11:V11,$Y$8)) | Z11: =IF(W11="","",W11*2)
A12: =Student!A6 -> 4 | B12: =IF(Student!B6="","",Student!B6) | W12: =IF(C12="","",COUNTIF(C12:V12,$W$8)) | X12: =IF(C12="","",COUNTIF(C12:V12,$X$8)) | Y12: =IF(C12="","",COUNTIF(C12:V12,$Y$8)) | Z12: =IF(W12="","",W12*2)
A13: =Student!A7 -> 5 | B13: =IF(Student!B7="","",Student!B7) | W13: =IF(C13="","",COUNTIF(C13:V13,$W$8)) | X13: =IF(C13="","",COUNTIF(C13:V13,$X$8)) | Y13: =IF(C13="","",COUNTIF(C13:V13,$Y$8)) | Z13: =IF(W13="","",W13*2)
A14: =Student!A8 -> 6 | B14: =IF(Student!B8="","",Student!B8) | W14: =IF(C14="","",COUNTIF(C14:V14,$W$8)) | X14: =IF(C14="","",COUNTIF(C14:V14,$X$8)) | Y14: =IF(C14="","",COUNTIF(C14:V14,$Y$8)) | Z14: =IF(W14="","",W14*2)
A15: =Student!A9 -> 7 | B15: =IF(Student!B9="","",Student!B9) | W15: =IF(C15="","",COUNTIF(C15:V15,$W$8)) | X15: =IF(C15="","",COUNTIF(C15:V15,$X$8)) | Y15: =IF(C15="","",COUNTIF(C15:V15,$Y$8)) | Z15: =IF(W15="","",W15*2)
A16: =Student!A10 -> 8 | B16: =IF(Student!B10="","",Student!B10) | W16: =IF(C16="","",COUNTIF(C16:V16,$W$8)) | X16: =IF(C16="","",COUNTIF(C16:V16,$X$8)) | Y16: =IF(C16="","",COUNTIF(C16:V16,$Y$8)) | Z16: =IF(W16="","",W16*2)
A17: =Student!A11 -> 9 | B17: =IF(Student!B11="","",Student!B11) | W17: =IF(C17="","",COUNTIF(C17:V17,$W$8)) | X17: =IF(C17="","",COUNTIF(C17:V17,$X$8)) | Y17: =IF(C17="","",COUNTIF(C17:V17,$Y$8)) | Z17: =IF(W17="","",W17*2)
A18: =Student!A12 -> 10 | B18: =IF(Student!B12="","",Student!B12) | W18: =IF(C18="","",COUNTIF(C18:V18,$W$8)) | X18: =IF(C18="","",COUNTIF(C18:V18,$X$8)) | Y18: =IF(C18="","",COUNTIF(C18:V18,$Y$8)) | Z18: =IF(W18="","",W18*2)
A19: =Student!A13 -> 11 | B19: =IF(Student!B13="","",Student!B13) | W19: =IF(C19="","",COUNTIF(C19:V19,$W$8)) | X19: =IF(C19="","",COUNTIF(C19:V19,$X$8)) | Y19: =IF(C19="","",COUNTIF(C19:V19,$Y$8)) | Z19: =IF(W19="","",W19*2)
A20: =Student!A14 -> 12 | B20: =IF(Student!B14="","",Student!B14) | W20: =IF(C20="","",COUNTIF(C20:V20,$W$8)) | X20: =IF(C20="","",COUNTIF(C20:V20,$X$8)) | Y20: =IF(C20="","",COUNTIF(C20:V20,$Y$8)) | Z20: =IF(W20="","",W20*2)
... A104: =Student!A98 | B104: =IF(Student!B98="","",Student!B98) | W104: =IF(C104="","",COUNTIF(C104:V104,$W$8)) | X104: =IF(C104="","",COUNTIF(C104:V104,$X$8)) | Y104: =IF(C104="","",COUNTIF(C104:V104,$Y$8)) | Z104: =IF(W104="","",W104*2)
B107: વિષય શિક્ષકની સહી | R107: આચાર્યની સહી/સિક્કા

Sheet 5 Eng
A1: પરિશિષ્ટ - A
A2: રચનાત્મક મૂલ્યાંકન
B3: ધોરણ અને વર્ગ :- | C3: =School!B8 -> 5 | G3: વિષય :- | I3: અંગ્રેજી | N3: સત્ર :- | P3: પ્રથમ | T3: વર્ષ :- | V3: =School!B9 -> 2025-'26
C5: અભ્યાસક્રમ પ્રમાણે પ્રતિનિધિત્વરૂપ હેતુઓ (મહત્તમ :- ૨૦)
C6: 1. Smile Please | G6: 2. Helping Hands | K6: 3. Nature Gods Gift | M6: 2. Umbrellas are colourful | O6: 4. Animal The Living Wonders | S6: 5. A Beatiful Bond
A7: ક્રમ | B7: વિદ્યાર્થીનું નામ | C7: Rhymes, Action Songs, Poems, Prayers યોગ્ય હાવ ભાવ અને અભિનય સાથે ગાય છે. | D7: લોનવડ સહિત આશરે 500 જેટલા શબ્દો જાણે છે, ઓળખે છે અને લેખનમાં તેનો ઉપયોગ કરે છે. | E7: પ્રાસ વાળા શબ્દો વાંચીને ઓળખે છે તેની જોડી બનાવે છે. જેમ કે Bat, Cat, Rat, But, Cut વગેરે... | F7: before, after, behind, near, between વગેરે જેવા શબ્દોનો ઉપયોગ કરી વસ્તુઓનો નિર્દેશ કરે છે. | G7: વાર્તા, કવિતા, પરિચ્છેદ અને વિવિધ પ્રકારની સામગ્રી ચાર્ટ વગેરેનું વાંચન કરી અર્થગ્રહણ કરે છે. | H7: યોગ્ય વિકલ્પો વડે આપેલ સંવાદ પૂર્ણ કરે છે. | I7: વિરામચિનો નો ઉપયોગ કરી સાદા અંગ્રેજી વાક્યોનું અનુલેખન કરી શકે છે. | J7: શબ્દકોશ નો ઉપયોગ કરી શબ્દ વિશેની માહિતી મેળવે છે અને તેનો વાક્યમાં પ્રયોગ કરે છે. | K7: મુદ્દાને આધારે ચિત્રનું મૌખિક કે લેખિત વર્ણન કરે છે. | L7: ભવિષ્યની ક્રિયાઓનું વર્ણન કરે છે. દા.ત. Tomorrow will be holiday. | M7: પરિચિત પરિસ્થિતિ પ્રમાણે ટૂંકી અને સરળ સૂચનાઓ સાંભળે છે અને તેનો પ્રતિભાવ આપે છે. | N7: સાદા અંગ્રેજી વાક્યોનું શ્રુતલેખન કરી શકે છે. | O7: વાક્યને અનુરૂપ ચિત્ર સાથે જોડી શકે છે. | P7: વસ્તુના કદ આકાર રંગ સંખ્યા અને વજન વિશે ચાર પાંચ વાક્યમાં જણાવે છે. | Q7: Wh પ્રકારના પ્રશ્નો ના લેખિતમાં કે મૌખિક રીતે જવાબ આપી શકે છે. | R7: જુદા જુદા પ્રકારના સર્વનામો વિશે જાણકારી મેળવી તેનો ઉપયોગ કરે છે. | S7: અંગ્રેજી અંકોને વાંચે અને લખે છે તેમ જ વ્યવહારમાં તેનો ઉપયોગ કરે છે. | T7: પોતાના માતા પિતા, ભાઈ બહેન, મિત્રો, પ્રવાસ, અનુભવ વગેરે વિશે ચારથી પાંચ વાક્યોમાં મૌખિક અથવા લેખિતમાં જણાવે છે. | U7: સ્થાનિક પર્યાવરણમાં ઉપલબ્ધ લખાણ પોસ્ટર ચાર્ટ સૂચના વગેરે વાંચન કરી શકે છે. | V7: વાક્યમાંથી ક્રિયાપદ શોધી શકે છે. | W7: સત્રાંતે વિદ્યાર્થીઓએ મેળવેલ જે તે નિશાનીઓની સંખ્યા | Z7: 40 માંથી મેળવેલ ગુણ
C8: 1 | D8: 2 | E8: 3 | F8: 4 | G8: 5 | H8: 6 | I8: 7 | J8: 8 | K8: 9 | L8: 10 | M8: 11 | N8: 12 | O8: 13 | P8: 14 | Q8: 15 | R8: 16 | S8: 17 | T8: 18 | U8: 19 | V8: 20 | W8: √ | X8: ? | Y8: ×
A9: =Student!A3 -> 1 | B9: =IF(Student!B3="","",Student!B3) | W9: =IF(C9="","",COUNTIF(C9:V9,$W$8)) | X9: =IF(C9="","",COUNTIF(C9:V9,$X$8)) | Y9: =IF(C9="","",COUNTIF(C9:V9,$Y$8)) | Z9: =IF(W9="","",W9*2)
A10: =Student!A4 -> 2 | B10: =IF(Student!B4="","",Student!B4) | W10: =IF(C10="","",COUNTIF(C10:V10,$W$8)) | X10: =IF(C10="","",COUNTIF(C10:V10,$X$8)) | Y10: =IF(C10="","",COUNTIF(C10:V10,$Y$8)) | Z10: =IF(W10="","",W10*2)
A11: =Student!A5 -> 3 | B11: =IF(Student!B5="","",Student!B5) | W11: =IF(C11="","",COUNTIF(C11:V11,$W$8)) | X11: =IF(C11="","",COUNTIF(C11:V11,$X$8)) | Y11: =IF(C11="","",COUNTIF(C11:V11,$Y$8)) | Z11: =IF(W11="","",W11*2)
A12: =Student!A6 -> 4 | B12: =IF(Student!B6="","",Student!B6) | W12: =IF(C12="","",COUNTIF(C12:V12,$W$8)) | X12: =IF(C12="","",COUNTIF(C12:V12,$X$8)) | Y12: =IF(C12="","",COUNTIF(C12:V12,$Y$8)) | Z12: =IF(W12="","",W12*2)
A13: =Student!A7 -> 5 | B13: =IF(Student!B7="","",Student!B7) | W13: =IF(C13="","",COUNTIF(C13:V13,$W$8)) | X13: =IF(C13="","",COUNTIF(C13:V13,$X$8)) | Y13: =IF(C13="","",COUNTIF(C13:V13,$Y$8)) | Z13: =IF(W13="","",W13*2)
A14: =Student!A8 -> 6 | B14: =IF(Student!B8="","",Student!B8) | W14: =IF(C14="","",COUNTIF(C14:V14,$W$8)) | X14: =IF(C14="","",COUNTIF(C14:V14,$X$8)) | Y14: =IF(C14="","",COUNTIF(C14:V14,$Y$8)) | Z14: =IF(W14="","",W14*2)
A15: =Student!A9 -> 7 | B15: =IF(Student!B9="","",Student!B9) | W15: =IF(C15="","",COUNTIF(C15:V15,$W$8)) | X15: =IF(C15="","",COUNTIF(C15:V15,$X$8)) | Y15: =IF(C15="","",COUNTIF(C15:V15,$Y$8)) | Z15: =IF(W15="","",W15*2)
A16: =Student!A10 -> 8 | B16: =IF(Student!B10="","",Student!B10) | W16: =IF(C16="","",COUNTIF(C16:V16,$W$8)) | X16: =IF(C16="","",COUNTIF(C16:V16,$X$8)) | Y16: =IF(C16="","",COUNTIF(C16:V16,$Y$8)) | Z16: =IF(W16="","",W16*2)
A17: =Student!A11 -> 9 | B17: =IF(Student!B11="","",Student!B11) | W17: =IF(C17="","",COUNTIF(C17:V17,$W$8)) | X17: =IF(C17="","",COUNTIF(C17:V17,$X$8)) | Y17: =IF(C17="","",COUNTIF(C17:V17,$Y$8)) | Z17: =IF(W17="","",W17*2)
A18: =Student!A12 -> 10 | B18: =IF(Student!B12="","",Student!B12) | W18: =IF(C18="","",COUNTIF(C18:V18,$W$8)) | X18: =IF(C18="","",COUNTIF(C18:V18,$X$8)) | Y18: =IF(C18="","",COUNTIF(C18:V18,$Y$8)) | Z18: =IF(W18="","",W18*2)
A19: =Student!A13 -> 11 | B19: =IF(Student!B13="","",Student!B13) | W19: =IF(C19="","",COUNTIF(C19:V19,$W$8)) | X19: =IF(C19="","",COUNTIF(C19:V19,$X$8)) | Y19: =IF(C19="","",COUNTIF(C19:V19,$Y$8)) | Z19: =IF(W19="","",W19*2)
A20: =Student!A14 -> 12 | B20: =IF(Student!B14="","",Student!B14) | W20: =IF(C20="","",COUNTIF(C20:V20,$W$8)) | X20: =IF(C20="","",COUNTIF(C20:V20,$X$8)) | Y20: =IF(C20="","",COUNTIF(C20:V20,$Y$8)) | Z20: =IF(W20="","",W20*2)
... A104: =Student!A98 | B104: =IF(Student!B98="","",Student!B98) | W104: =IF(C104="","",COUNTIF(C104:V104,$W$8)) | X104: =IF(C104="","",COUNTIF(C104:V104,$X$8)) | Y104: =IF(C104="","",COUNTIF(C104:V104,$Y$8)) | Z104: =IF(W104="","",W104*2)
B108: વિષય શિક્ષકની સહી | R108: આચાર્યની સહી/સિક્કા

Sheet 5 Guj (2)
A1: પરિશિષ્ટ - A
A2: રચનાત્મક મૂલ્યાંકન
B3: ધોરણ અને વર્ગ :- | C3: =School!B8 -> 5 | G3: વિષય :- | I3: ગુજરાતી | N3: સત્ર :- | P3: દ્વિતીય | T3: વર્ષ :- | V3: =School!B9 -> 2025-'26
C5: અભ્યાસક્રમ પ્રમાણે પ્રતિનિધિત્વરૂપ હેતુઓ (મહત્તમ :- ૨૦)
C6: અખિયોં કે ડિબિયા મે ચાંદો, સુરજ, પહાડ | G6: ઢેબરાંનો ન્યાય | K6: લીલાછમ ખેતરનો રખેવાળ | O6: મારે પણ આવો ભાઈ હોય! | S6: ડુંગરો ભેરુ
A7: ક્રમ | B7: વિદ્યાર્થીનું નામ | C7: ગદ્ય અને પદ્ય સામગ્રીમાંથી વિગતો શોધે છે. | D7: વાર્તા, કાવ્ય, ગીત સાંભળી /વાંચી તેના અંશોનું લેખન કરે છે. | E7: સામગ્રીને લગતી રજૂઆત કરવા માટે સ્થાનિક ભાષાનો ઉપયોગ કરે છે. | F7: ક્રિયા વિશેષણ ને ઓળખે છે અને ઉપયોગ કરે છે. | G7: વાર્તા પરથી પૂછાયેલા મૌખિક પ્રશ્નોના જવાબ આપે અને પાત્રો ભજવી શકે છે. | H7: આપેલા શબ્દોનો ઉપયોગ કરી અર્થપૂર્ણ વાક્યની રચના કરે છે. | I7: સંયોજકોનો યોગ્ય અયોગ્ય ઉપયોગ ઓળખાવે અને વાક્યમાં પ્રયોજે. | J7: ઘટના/ પ્રસંગ/ વાર્તા કે સંવાદની પછીની ઘટના/ પ્રસંગ/ વાર્તા કે સંવાદનું અનુમાન કરી શકે છે. | K7: આપેલા શબ્દો કે શબ્દ સમૂહને આધારે સંવાદ કે પરિચ્છેદની રચના કરી શકે છે. | L7: આપેલ વાક્યો માંથી ભાષાકીય ક્ષતિઓ શોધી સુધારો કરી શકે છે. | M7: પારિભાષિક શબ્દોના અર્થ સંદર્ભના આધારે ઓળખે છે અને તારવે છે. | N7: ભાવાત્મક અભિવ્યક્તિ માટે યોગ્ય શબ્દ અને વિવિધ વાક્ય રચનાઓ પ્રયોજે છે. | O7: આપેલ ગદ્ય અને પદ્ય સામગ્રીમાંથી વિગતો તારવી પ્રશ્નોના જવાબ આપી શકે છે. | P7: આરોહ અવરોહ અને લયતાલ સાથે કાવ્યનું વ્યક્તિગત કે સામૂહિક ગાન કરી શકે છે. | Q7: પોતાના અનુભવો સાથે ભાવાત્મક ઘટનાનો પાત્રોનું અનુસંધાન કરે છે. | R7: શારીરિક કેળવણીની વ્યક્તિગત અને સામૂહિક રમતો રમે છે. | S7: આપેલ ફકરા કે કાવ્ય પંક્તિઓને આધારે પ્રશ્નોના લેખિત જવાબ આપી શકે છે. | T7: ચિત્ર નું વર્ણન 7-8 વાક્યોમાં લખી શકે છે. | U7: શબ્દ પરિવર્તન કરી વાક્ય રચના કરી શકે છે. | V7: ભાષામાં ઉપયોગી એવા ભાવત્મક સંકેતો ઓળખે છે. | W7: સત્રાંતે વિદ્યાર્થીઓએ મેળવેલ જે તે નિશાનીઓની સંખ્યા | Z7: 40 માંથી મેળવેલ ગુણ
C8: 1 | D8: 2 | E8: 3 | F8: 4 | G8: 5 | H8: 6 | I8: 7 | J8: 8 | K8: 9 | L8: 10 | M8: 11 | N8: 12 | O8: 13 | P8: 14 | Q8: 15 | R8: 16 | S8: 17 | T8: 18 | U8: 19 | V8: 20 | W8: √ | X8: ? | Y8: ×
A9: =Student!A3 -> 1 | B9: =IF(Student!B3="","",Student!B3) | W9: =IF(C9="","",COUNTIF(C9:V9,$W$8)) | X9: =IF(C9="","",COUNTIF(C9:V9,$X$8)) | Y9: =IF(C9="","",COUNTIF(C9:V9,$Y$8)) | Z9: =IF(W9="","",W9*2)
A10: =Student!A4 -> 2 | B10: =IF(Student!B4="","",Student!B4) | W10: =IF(C10="","",COUNTIF(C10:V10,$W$8)) | X10: =IF(C10="","",COUNTIF(C10:V10,$X$8)) | Y10: =IF(C10="","",COUNTIF(C10:V10,$Y$8)) | Z10: =IF(W10="","",W10*2)
A11: =Student!A5 -> 3 | B11: =IF(Student!B5="","",Student!B5) | W11: =IF(C11="","",COUNTIF(C11:V11,$W$8)) | X11: =IF(C11="","",COUNTIF(C11:V11,$X$8)) | Y11: =IF(C11="","",COUNTIF(C11:V11,$Y$8)) | Z11: =IF(W11="","",W11*2)
A12: =Student!A6 -> 4 | B12: =IF(Student!B6="","",Student!B6) | W12: =IF(C12="","",COUNTIF(C12:V12,$W$8)) | X12: =IF(C12="","",COUNTIF(C12:V12,$X$8)) | Y12: =IF(C12="","",COUNTIF(C12:V12,$Y$8)) | Z12: =IF(W12="","",W12*2)
A13: =Student!A7 -> 5 | B13: =IF(Student!B7="","",Student!B7) | W13: =IF(C13="","",COUNTIF(C13:V13,$W$8)) | X13: =IF(C13="","",COUNTIF(C13:V13,$X$8)) | Y13: =IF(C13="","",COUNTIF(C13:V13,$Y$8)) | Z13: =IF(W13="","",W13*2)
A14: =Student!A8 -> 6 | B14: =IF(Student!B8="","",Student!B8) | W14: =IF(C14="","",COUNTIF(C14:V14,$W$8)) | X14: =IF(C14="","",COUNTIF(C14:V14,$X$8)) | Y14: =IF(C14="","",COUNTIF(C14:V14,$Y$8)) | Z14: =IF(W14="","",W14*2)
A15: =Student!A9 -> 7 | B15: =IF(Student!B9="","",Student!B9) | W15: =IF(C15="","",COUNTIF(C15:V15,$W$8)) | X15: =IF(C15="","",COUNTIF(C15:V15,$X$8)) | Y15: =IF(C15="","",COUNTIF(C15:V15,$Y$8)) | Z15: =IF(W15="","",W15*2)
A16: =Student!A10 -> 8 | B16: =IF(Student!B10="","",Student!B10) | W16: =IF(C16="","",COUNTIF(C16:V16,$W$8)) | X16: =IF(C16="","",COUNTIF(C16:V16,$X$8)) | Y16: =IF(C16="","",COUNTIF(C16:V16,$Y$8)) | Z16: =IF(W16="","",W16*2)
A17: =Student!A11 -> 9 | B17: =IF(Student!B11="","",Student!B11) | W17: =IF(C17="","",COUNTIF(C17:V17,$W$8)) | X17: =IF(C17="","",COUNTIF(C17:V17,$X$8)) | Y17: =IF(C17="","",COUNTIF(C17:V17,$Y$8)) | Z17: =IF(W17="","",W17*2)
A18: =Student!A12 -> 10 | B18: =IF(Student!B12="","",Student!B12) | W18: =IF(C18="","",COUNTIF(C18:V18,$W$8)) | X18: =IF(C18="","",COUNTIF(C18:V18,$X$8)) | Y18: =IF(C18="","",COUNTIF(C18:V18,$Y$8)) | Z18: =IF(W18="","",W18*2)
A19: =Student!A13 -> 11 | B19: =IF(Student!B13="","",Student!B13) | W19: =IF(C19="","",COUNTIF(C19:V19,$W$8)) | X19: =IF(C19="","",COUNTIF(C19:V19,$X$8)) | Y19: =IF(C19="","",COUNTIF(C19:V19,$Y$8)) | Z19: =IF(W19="","",W19*2)
A20: =Student!A14 -> 12 | B20: =IF(Student!B14="","",Student!B14) | W20: =IF(C20="","",COUNTIF(C20:V20,$W$8)) | X20: =IF(C20="","",COUNTIF(C20:V20,$X$8)) | Y20: =IF(C20="","",COUNTIF(C20:V20,$Y$8)) | Z20: =IF(W20="","",W20*2)
... A104: =Student!A98 | B104: =IF(Student!B98="","",Student!B98) | W104: =IF(C104="","",COUNTIF(C104:V104,$W$8)) | X104: =IF(C104="","",COUNTIF(C104:V104,$X$8)) | Y104: =IF(C104="","",COUNTIF(C104:V104,$Y$8)) | Z104: =IF(W104="","",W104*2)
B107: વિષય શિક્ષકની સહી | R107: આચાર્યની સહી/સિક્કા

Sheet 5 Maths (2)
A1: પરિશિષ્ટ - A
A2: રચનાત્મક મૂલ્યાંકન
B3: ધોરણ અને વર્ગ :- | C3: =School!B8 -> 5 | G3: વિષય :- | I3: ગણિત | N3: સત્ર :- | P3: દ્વિતીય | T3: વર્ષ :- | V3: =School!B9 -> 2025-'26
C5: અભ્યાસક્રમ પ્રમાણે પ્રતિનિધિત્વરૂપ હેતુઓ (મહત્તમ :- ૨૦)
C6: નકશા આલેખન | E6: ખોખા અને રેખા ચિત્ર | H6: દસમા અને સોમો ભાગ | K6: ક્ષેત્રફળ અને પરિમિતિ | N6: સ્માર્ટ chats | Q6: ગુણાકાર અને ભાગાકાર ની રીતો | T6: કેટલું મોટું કેટલું ભારે
A7: ક્રમ | B7: વિદ્યાર્થીનું નામ | C7: વિવિધ નકશાઓ જોઈ અને તેના સ્થળો સમજી શકે છે | D7: સ્થળોનું નકશા ઉપર આલેખન કરી શકે તેમજ પ્રમાણમાપ નક્કી કરી શકે | E7: ખોખા અને તેની ખુલ્લી જાળીઓ વિશે જાણે છે | F7: વસ્તુઓના વાસ્તવિક ચિત્રો સમજે | G7: સમઘન ની ગોઠવણી ને આધારે વિવિધ આકારો બનાવે છે | H7: લંબાઈ વજન અને કદ ના નાના મોટા એકમો જાણે અને રૂપાંતર કરે | I7: લંબાઈ વજન કદના અને સમયના વ્યવહારુ કોયડા ઉકેલી શકે છે | J7: વિવિધ રાજ્ય શહેરના સમય આધારિત તાપમાનમાં થતા ફેરફાર જાણે | K7: પરિમિતિ આધારિત દાખલાની ગણતરી કરી શકે છે | L7: શેત્રફળ આધારિત વિવિધ કોયડા ઉકેલી શકે છે | M7: અનિયમિત આકારના ક્ષેત્રફળ શોધી શકે છે | N7: રોજિંદા જીવનની વિવિધ માહિતી નું વિશ્લેષણ કરી શકે છે | O7: માહિતીને આધારે વિતરણ કોષ્ટક બનાવી શકે છે અને અર્થઘટન કરે છે | P7: આપેલ માહિતી પરથી નિર્માણ કરી આ લેખ દોરી શકે છે | Q7: 2,3 અને 4 અંકી સંખ્યાઓના ગુણાકાર કરી શકે છે | R7: 2 3 અને 4 અંકની સંખ્યાઓના ભાગાકાર કરી શકે છે | S7: ગુણાકાર અને ભાગાકાર આધારિત વ્યવહારુ કોયડા ઉકેલ | T7: વિવિધ વસ્તુઓની કદની સરખામણી કરે છે | U7: વ્યવહારુ જીવનમાં વપરાતા વજન આધારિત સરખામણી ના કોયડા ગણી શકે | V7: ઘન પદાર્થોના ઘનફળ વિશે અનુમાન કરે અને ચકાસી શકશે | W7: સત્રાંતે વિદ્યાર્થીઓએ મેળવેલ જે તે નિશાનીઓની સંખ્યા | Z7: 40 માંથી મેળવેલ ગુણ
C8: 1 | D8: 2 | E8: 3 | F8: 4 | G8: 5 | H8: 6 | I8: 7 | J8: 8 | K8: 9 | L8: 10 | M8: 11 | N8: 12 | O8: 13 | P8: 14 | Q8: 15 | R8: 16 | S8: 17 | T8: 18 | U8: 19 | V8: 20 | W8: √ | X8: ? | Y8: ×
A9: =Student!A3 -> 1 | B9: =IF(Student!B3="","",Student!B3) | W9: =IF(C9="","",COUNTIF(C9:V9,$W$8)) | X9: =IF(C9="","",COUNTIF(C9:V9,$X$8)) | Y9: =IF(C9="","",COUNTIF(C9:V9,$Y$8)) | Z9: =IF(W9="","",W9*2)
A10: =Student!A4 -> 2 | B10: =IF(Student!B4="","",Student!B4) | W10: =IF(C10="","",COUNTIF(C10:V10,$W$8)) | X10: =IF(C10="","",COUNTIF(C10:V10,$X$8)) | Y10: =IF(C10="","",COUNTIF(C10:V10,$Y$8)) | Z10: =IF(W10="","",W10*2)
A11: =Student!A5 -> 3 | B11: =IF(Student!B5="","",Student!B5) | W11: =IF(C11="","",COUNTIF(C11:V11,$W$8)) | X11: =IF(C11="","",COUNTIF(C11:V11,$X$8)) | Y11: =IF(C11="","",COUNTIF(C11:V11,$Y$8)) | Z11: =IF(W11="","",W11*2)
A12: =Student!A6 -> 4 | B12: =IF(Student!B6="","",Student!B6) | W12: =IF(C12="","",COUNTIF(C12:V12,$W$8)) | X12: =IF(C12="","",COUNTIF(C12:V12,$X$8)) | Y12: =IF(C12="","",COUNTIF(C12:V12,$Y$8)) | Z12: =IF(W12="","",W12*2)
A13: =Student!A7 -> 5 | B13: =IF(Student!B7="","",Student!B7) | W13: =IF(C13="","",COUNTIF(C13:V13,$W$8)) | X13: =IF(C13="","",COUNTIF(C13:V13,$X$8)) | Y13: =IF(C13="","",COUNTIF(C13:V13,$Y$8)) | Z13: =IF(W13="","",W13*2)
A14: =Student!A8 -> 6 | B14: =IF(Student!B8="","",Student!B8) | W14: =IF(C14="","",COUNTIF(C14:V14,$W$8)) | X14: =IF(C14="","",COUNTIF(C14:V14,$X$8)) | Y14: =IF(C14="","",COUNTIF(C14:V14,$Y$8)) | Z14: =IF(W14="","",W14*2)
A15: =Student!A9 -> 7 | B15: =IF(Student!B9="","",Student!B9) | W15: =IF(C15="","",COUNTIF(C15:V15,$W$8)) | X15: =IF(C15="","",COUNTIF(C15:V15,$X$8)) | Y15: =IF(C15="","",COUNTIF(C15:V15,$Y$8)) | Z15: =IF(W15="","",W15*2)
A16: =Student!A10 -> 8 | B16: =IF(Student!B10="","",Student!B10) | W16: =IF(C16="","",COUNTIF(C16:V16,$W$8)) | X16: =IF(C16="","",COUNTIF(C16:V16,$X$8)) | Y16: =IF(C16="","",COUNTIF(C16:V16,$Y$8)) | Z16: =IF(W16="","",W16*2)
A17: =Student!A11 -> 9 | B17: =IF(Student!B11="","",Student!B11) | W17: =IF(C17="","",COUNTIF(C17:V17,$W$8)) | X17: =IF(C17="","",COUNTIF(C17:V17,$X$8)) | Y17: =IF(C17="","",COUNTIF(C17:V17,$Y$8)) | Z17: =IF(W17="","",W17*2)
A18: =Student!A12 -> 10 | B18: =IF(Student!B12="","",Student!B12) | W18: =IF(C18="","",COUNTIF(C18:V18,$W$8)) | X18: =IF(C18="","",COUNTIF(C18:V18,$X$8)) | Y18: =IF(C18="","",COUNTIF(C18:V18,$Y$8)) | Z18: =IF(W18="","",W18*2)
A19: =Student!A13 -> 11 | B19: =IF(Student!B13="","",Student!B13) | W19: =IF(C19="","",COUNTIF(C19:V19,$W$8)) | X19: =IF(C19="","",COUNTIF(C19:V19,$X$8)) | Y19: =IF(C19="","",COUNTIF(C19:V19,$Y$8)) | Z19: =IF(W19="","",W19*2)
A20: =Student!A14 -> 12 | B20: =IF(Student!B14="","",Student!B14) | W20: =IF(C20="","",COUNTIF(C20:V20,$W$8)) | X20: =IF(C20="","",COUNTIF(C20:V20,$X$8)) | Y20: =IF(C20="","",COUNTIF(C20:V20,$Y$8)) | Z20: =IF(W20="","",W20*2)
... A104: =Student!A98 | B104: =IF(Student!B98="","",Student!B98) | W104: =IF(C104="","",COUNTIF(C104:V104,$W$8)) | X104: =IF(C104="","",COUNTIF(C104:V104,$X$8)) | Y104: =IF(C104="","",COUNTIF(C104:V104,$Y$8)) | Z104: =IF(W104="","",W104*2)
B108: વિષય શિક્ષકની સહી | R108: આચાર્યની સહી/સિક્કા

Sheet  5 EVS (2)
A1: પરિશિષ્ટ - A
A2: રચનાત્મક મૂલ્યાંકન
B3: ધોરણ અને વર્ગ :- | C3: =School!B8 -> 5 | G3: વિષય :- | I3: પર્યાવરણ | N3: સત્ર :- | P3: દ્વિતીય | T3: વર્ષ :- | V3: =School!B9 -> 2025-'26
C5: અભ્યાસક્રમ પ્રમાણે પ્રતિનિધિત્વરૂપ હેતુઓ (મહત્તમ :- ૨૦)
A6: ક્રમ | B6: વિદ્યાર્થીનું નામ | C6: પહાડી રહેઠાણ | G6: જયારે ધરતી ધ્રુજી ઉઠી! | I6: ઠંડું કે ગરમ | J6: સ્વચ્છતા આપણું કામ | L6: દીવાલ ઓળંગી લીધી | M6: હવે અમે ક્યાં જઈએ ? | O6: બીજ કહે છે ખેડૂતની વાર્તા | Q6: જંગલો કોનાં ? | S6: જેવા પિતા તેવી દીકરી | T6: ફરી ઉપડ્યા | U6: અમે ગુજરાતી | W6: સત્રાંતે વિદ્યાર્થીઓએ મેળવેલ જે તે નિશાનીઓની સંખ્યા | Z6: 40 માંથી મેળવેલ ગુણ
C7: સ્વચ્છતા, સ્વાસ્થ્ય, કચરાનું વ્યવસ્થાપન, જમીન, ઇંધણ, જંગલો ની જાળવણી માટેના ઉપાયો સૂચવે છે. | D7: ભૂમિ પ્રદેશો, આબોહવા, સંસાધનો અને જીવન વચ્ચે જોડાણ સાધે છે. | E7: પ્રાણીઓ, વનસ્પતિઓ અને મનુષ્યના પરસ્પરાવલંબન સંબંધો વર્ણવે છે. | F7: ભૂમિપ્રદેશો, આબોહવા, સંસાધનો ( ખોરાક, પાણી, રહેઠાણ) અને સાંસ્કૃતિક જીવન વચ્ચે જોડાણ સાધે છે. | G7: કોઈ ઘટના અંગેની પરિસ્થિતિઓ, ગુણધર્મો અંગે અનુમાન કરે છે. | H7: સ્વચ્છતા, સ્વાસ્થ્ય, કચરાનું વ્યવસ્થાપન, જમીન, ઇંધણ, જંગલો ની જાળવણી માટેના ઉપાયો સૂચવે છે. | I7: ભૂમિપ્રદેશો, આબોહવા, સંસાધનો ( ખોરાક, પાણી, રહેઠાણ) અને સાંસ્કૃતિક જીવન વચ્ચે જોડાણ સાધે છે. | J7: સિક્કાઓ, ચિત્રો, સ્મારકો, સંગ્રહાલયો વગેરેની મુલાકાત તેમજ વડીલો સાથે સંવાદ પરિવર્તનનું અનુમાન કરે છે. | K7: સ્વચ્છતા, સ્વાસ્થ્ય, કચરાનું વ્યવસ્થાપન, જમીન, ઇંધણ, જંગલો ની જાળવણી માટેના ઉપાયો સૂચવે છે. | L7: સમાજની મહત્વની સમસ્યાઓમાં અવલોકન કે અનુભવોને આધારે પ્રવૃત્તિઓ વિશે અભિપ્રાય આપે છે. | M7: ભૂમિપ્રદેશો, આબોહવા, સંસાધનો ( ખોરાક, પાણી, રહેઠાણ) અને સાંસ્કૃતિક જીવન વચ્ચે જોડાણ સાધે છે. | N7: સ્વચ્છતા, સ્વાસ્થ્ય, કચરાનું વ્યવસ્થાપન, જમીન, ઇંધણ, જંગલો ની જાળવણી માટેના ઉપાયો સૂચવે છે. | O7: રોજિંદા જીવનની મૂળભૂત જરૂરિયાતો (ખોરાક, પાણી) મેળવવાની પ્રક્રિયા ટૅકનોલૉજીના ઉપયોગો સમજાવે છે. | P7: સિક્કાઓ, ચિત્રો, સ્મારકો, સંગ્રહાલયો વગેરેની મુલાકાત તેમજ વડીલો સાથે સંવાદ પરિવર્તનનું અનુમાન કરે છે. | Q7: સમાજની મહત્વની સમસ્યાઓમાં અવલોકન કે અનુભવોને આધારે પ્રવૃત્તિઓ વિશે અભિપ્રાય આપે છે. | R7: સ્વચ્છતા, સ્વાસ્થ્ય, કચરાનું વ્યવસ્થાપન, જમીન, ઇંધણ, જંગલો ની જાળવણી માટેના ઉપાયો સૂચવે છે. | S7: સ્મારકો, સંગ્રહાલય મુલાકાત, વડીલોસાથે સંવાદદ્વારા રીત-રિવાજોમાં આવેલ પરિવર્તનનું અનુમાન કરે છે | T7: ભૂમિપ્રદેશો, આબોહવા, સંસાધનો ( ખોરાક, પાણી, રહેઠાણ) અને સાંસ્કૃતિક જીવન વચ્ચે જોડાણ સાધે છે. | U7: નકશામાં દર્શાવેલ ચિહ્નો, દિશાઓ, વસ્તુની સ્થિતિ કે દર્શાવેલ સ્થળ સ્થળોને નકશામાં ઓળખે છે | V7: નકશામાં રાજ્યની વિગતો શોધી શકે છે અને તેની નોંધ કરે છે.( સ્થળો, નદીઓ, ખેતી, ડુંગરો, લોકજીવન)
C8: 1 | D8: 2 | E8: 3 | F8: 4 | G8: 5 | H8: 6 | I8: 7 | J8: 8 | K8: 9 | L8: 10 | M8: 11 | N8: 12 | O8: 13 | P8: 14 | Q8: 15 | R8: 16 | S8: 17 | T8: 18 | U8: 19 | V8: 20 | W8: √ | X8: ? | Y8: ×
A9: =Student!A3 -> 1 | B9: =IF(Student!B3="","",Student!B3) | W9: =IF(C9="","",COUNTIF(C9:V9,$W$8)) | X9: =IF(C9="","",COUNTIF(C9:V9,$X$8)) | Y9: =IF(C9="","",COUNTIF(C9:V9,$Y$8)) | Z9: =IF(W9="","",W9*2)
A10: =Student!A4 -> 2 | B10: =IF(Student!B4="","",Student!B4) | W10: =IF(C10="","",COUNTIF(C10:V10,$W$8)) | X10: =IF(C10="","",COUNTIF(C10:V10,$X$8)) | Y10: =IF(C10="","",COUNTIF(C10:V10,$Y$8)) | Z10: =IF(W10="","",W10*2)
A11: =Student!A5 -> 3 | B11: =IF(Student!B5="","",Student!B5) | W11: =IF(C11="","",COUNTIF(C11:V11,$W$8)) | X11: =IF(C11="","",COUNTIF(C11:V11,$X$8)) | Y11: =IF(C11="","",COUNTIF(C11:V11,$Y$8)) | Z11: =IF(W11="","",W11*2)
A12: =Student!A6 -> 4 | B12: =IF(Student!B6="","",Student!B6) | W12: =IF(C12="","",COUNTIF(C12:V12,$W$8)) | X12: =IF(C12="","",COUNTIF(C12:V12,$X$8)) | Y12: =IF(C12="","",COUNTIF(C12:V12,$Y$8)) | Z12: =IF(W12="","",W12*2)
A13: =Student!A7 -> 5 | B13: =IF(Student!B7="","",Student!B7) | W13: =IF(C13="","",COUNTIF(C13:V13,$W$8)) | X13: =IF(C13="","",COUNTIF(C13:V13,$X$8)) | Y13: =IF(C13="","",COUNTIF(C13:V13,$Y$8)) | Z13: =IF(W13="","",W13*2)
A14: =Student!A8 -> 6 | B14: =IF(Student!B8="","",Student!B8) | W14: =IF(C14="","",COUNTIF(C14:V14,$W$8)) | X14: =IF(C14="","",COUNTIF(C14:V14,$X$8)) | Y14: =IF(C14="","",COUNTIF(C14:V14,$Y$8)) | Z14: =IF(W14="","",W14*2)
A15: =Student!A9 -> 7 | B15: =IF(Student!B9="","",Student!B9) | W15: =IF(C15="","",COUNTIF(C15:V15,$W$8)) | X15: =IF(C15="","",COUNTIF(C15:V15,$X$8)) | Y15: =IF(C15="","",COUNTIF(C15:V15,$Y$8)) | Z15: =IF(W15="","",W15*2)
A16: =Student!A10 -> 8 | B16: =IF(Student!B10="","",Student!B10) | W16: =IF(C16="","",COUNTIF(C16:V16,$W$8)) | X16: =IF(C16="","",COUNTIF(C16:V16,$X$8)) | Y16: =IF(C16="","",COUNTIF(C16:V16,$Y$8)) | Z16: =IF(W16="","",W16*2)
A17: =Student!A11 -> 9 | B17: =IF(Student!B11="","",Student!B11) | W17: =IF(C17="","",COUNTIF(C17:V17,$W$8)) | X17: =IF(C17="","",COUNTIF(C17:V17,$X$8)) | Y17: =IF(C17="","",COUNTIF(C17:V17,$Y$8)) | Z17: =IF(W17="","",W17*2)
A18: =Student!A12 -> 10 | B18: =IF(Student!B12="","",Student!B12) | W18: =IF(C18="","",COUNTIF(C18:V18,$W$8)) | X18: =IF(C18="","",COUNTIF(C18:V18,$X$8)) | Y18: =IF(C18="","",COUNTIF(C18:V18,$Y$8)) | Z18: =IF(W18="","",W18*2)
A19: =Student!A13 -> 11 | B19: =IF(Student!B13="","",Student!B13) | W19: =IF(C19="","",COUNTIF(C19:V19,$W$8)) | X19: =IF(C19="","",COUNTIF(C19:V19,$X$8)) | Y19: =IF(C19="","",COUNTIF(C19:V19,$Y$8)) | Z19: =IF(W19="","",W19*2)
A20: =Student!A14 -> 12 | B20: =IF(Student!B14="","",Student!B14) | W20: =IF(C20="","",COUNTIF(C20:V20,$W$8)) | X20: =IF(C20="","",COUNTIF(C20:V20,$X$8)) | Y20: =IF(C20="","",COUNTIF(C20:V20,$Y$8)) | Z20: =IF(W20="","",W20*2)
... A104: =Student!A98 | B104: =IF(Student!B98="","",Student!B98) | W104: =IF(C104="","",COUNTIF(C104:V104,$W$8)) | X104: =IF(C104="","",COUNTIF(C104:V104,$X$8)) | Y104: =IF(C104="","",COUNTIF(C104:V104,$Y$8)) | Z104: =IF(W104="","",W104*2)
B108: વિષય શિક્ષકની સહી | R108: આચાર્યની સહી/સિક્કા

Sheet 5 Hindi (2)
A1: પરિશિષ્ટ - A
A2: રચનાત્મક મૂલ્યાંકન
B3: ધોરણ અને વર્ગ :- | C3: =School!B8 -> 5 | G3: વિષય :- | I3: હિન્દી | N3: સત્ર :- | P3: દ્વિતીય | T3: વર્ષ :- | V3: =School!B9 -> 2025-'26
C5: અભ્યાસક્રમ પ્રમાણે પ્રતિનિધિત્વરૂપ હેતુઓ (મહત્તમ :- ૨૦)
C6: कैसा शोर? | G6: सीखो | I6: सच्चा बालक | K6: दुमदुमा गाँव के बच्चे | N6: स्वच्छता | P6: हम भारत की शान है। | R6: खरगोश और हाथी | U6: पहेलियाँ
A7: ક્રમ | B7: વિદ્યાર્થીનું નામ | C7: परिचित विषय पर साहजिक रूप से लिखते हैं। | D7: चित्र के आधार पर लेखन करते हैं। | E7: मुहावरों का अर्थ समझकर वाक्य में प्रयोग कर सकते हैं। | F7: चित्र के आधार पर कहानी का कथन करते हैं। | G7: संज्ञा विशेषण और क्रिया को पहचानते हैं। | H7: एक वाक्य को अलग-अलग तरिको से अभिव्यक्त करते हैं। | I7: परिचित विषय के बारे में साहजिक रूप से बोलते हैं। | J7: सरल शब्दों एवं समानार्थी विरुद्धार्थी शब्दों का वाक्य में प्रयोग करते हैं। | K7: सरल प्रश्नों के मौखिक और लिखित उत्तर देते हैं। | L7: संकट में कही हुई बात को समझ कर विवरण देते हैं। | M7: परिचित परिस्थितियों में सामान्य सूचनाओं को सुनकर और पढ़कर समझते हैं। | N7: दृश्य या घटना को देखकर वर्णन करते हैं। | O7: दी गई स्थिति के बारे में सोचकर अपनी राय देते हैं। | P7: एक वाक्य को अलग-अलग तरीकों से अभिव्यक्त करते हैं। | Q7: सरल प्रश्नों के मौखिक एवं लिखित उत्तर देते हैं। | R7: चित्र का अवलोकन करके भेद ढूंढते हैं। | S7: छात्र में निर्णय शक्ति स्व जागृति जैसे जीवन कौशल लिया विकसित करते हैं। | T7: गीत,सरल कविता, पहेलियां,बाल कहानी और चुटकुले सुनकर और पढ़कर समझते हैं। | U7: शब्दों का वचन परिवर्तन करते हैं। | V7: सरल शब्दों का वक्यामे प्रयोग करते है। | W7: સત્રાંતે વિદ્યાર્થીઓએ મેળવેલ જે તે નિશાનીઓની સંખ્યા | Z7: 40 માંથી મેળવેલ ગુણ
C8: 1 | D8: 2 | E8: 3 | F8: 4 | G8: 5 | H8: 6 | I8: 7 | J8: 8 | K8: 9 | L8: 10 | M8: 11 | N8: 12 | O8: 13 | P8: 14 | Q8: 15 | R8: 16 | S8: 17 | T8: 18 | U8: 19 | V8: 20 | W8: √ | X8: ? | Y8: ×
A9: =Student!A3 -> 1 | B9: =IF(Student!B3="","",Student!B3) | W9: =IF(C9="","",COUNTIF(C9:V9,$W$8)) | X9: =IF(C9="","",COUNTIF(C9:V9,$X$8)) | Y9: =IF(C9="","",COUNTIF(C9:V9,$Y$8)) | Z9: =IF(W9="","",W9*2)
A10: =Student!A4 -> 2 | B10: =IF(Student!B4="","",Student!B4) | W10: =IF(C10="","",COUNTIF(C10:V10,$W$8)) | X10: =IF(C10="","",COUNTIF(C10:V10,$X$8)) | Y10: =IF(C10="","",COUNTIF(C10:V10,$Y$8)) | Z10: =IF(W10="","",W10*2)
A11: =Student!A5 -> 3 | B11: =IF(Student!B5="","",Student!B5) | W11: =IF(C11="","",COUNTIF(C11:V11,$W$8)) | X11: =IF(C11="","",COUNTIF(C11:V11,$X$8)) | Y11: =IF(C11="","",COUNTIF(C11:V11,$Y$8)) | Z11: =IF(W11="","",W11*2)
A12: =Student!A6 -> 4 | B12: =IF(Student!B6="","",Student!B6) | W12: =IF(C12="","",COUNTIF(C12:V12,$W$8)) | X12: =IF(C12="","",COUNTIF(C12:V12,$X$8)) | Y12: =IF(C12="","",COUNTIF(C12:V12,$Y$8)) | Z12: =IF(W12="","",W12*2)
A13: =Student!A7 -> 5 | B13: =IF(Student!B7="","",Student!B7) | W13: =IF(C13="","",COUNTIF(C13:V13,$W$8)) | X13: =IF(C13="","",COUNTIF(C13:V13,$X$8)) | Y13: =IF(C13="","",COUNTIF(C13:V13,$Y$8)) | Z13: =IF(W13="","",W13*2)
A14: =Student!A8 -> 6 | B14: =IF(Student!B8="","",Student!B8) | W14: =IF(C14="","",COUNTIF(C14:V14,$W$8)) | X14: =IF(C14="","",COUNTIF(C14:V14,$X$8)) | Y14: =IF(C14="","",COUNTIF(C14:V14,$Y$8)) | Z14: =IF(W14="","",W14*2)
A15: =Student!A9 -> 7 | B15: =IF(Student!B9="","",Student!B9) | W15: =IF(C15="","",COUNTIF(C15:V15,$W$8)) | X15: =IF(C15="","",COUNTIF(C15:V15,$X$8)) | Y15: =IF(C15="","",COUNTIF(C15:V15,$Y$8)) | Z15: =IF(W15="","",W15*2)
A16: =Student!A10 -> 8 | B16: =IF(Student!B10="","",Student!B10) | W16: =IF(C16="","",COUNTIF(C16:V16,$W$8)) | X16: =IF(C16="","",COUNTIF(C16:V16,$X$8)) | Y16: =IF(C16="","",COUNTIF(C16:V16,$Y$8)) | Z16: =IF(W16="","",W16*2)
A17: =Student!A11 -> 9 | B17: =IF(Student!B11="","",Student!B11) | W17: =IF(C17="","",COUNTIF(C17:V17,$W$8)) | X17: =IF(C17="","",COUNTIF(C17:V17,$X$8)) | Y17: =IF(C17="","",COUNTIF(C17:V17,$Y$8)) | Z17: =IF(W17="","",W17*2)
A18: =Student!A12 -> 10 | B18: =IF(Student!B12="","",Student!B12) | W18: =IF(C18="","",COUNTIF(C18:V18,$W$8)) | X18: =IF(C18="","",COUNTIF(C18:V18,$X$8)) | Y18: =IF(C18="","",COUNTIF(C18:V18,$Y$8)) | Z18: =IF(W18="","",W18*2)
A19: =Student!A13 -> 11 | B19: =IF(Student!B13="","",Student!B13) | W19: =IF(C19="","",COUNTIF(C19:V19,$W$8)) | X19: =IF(C19="","",COUNTIF(C19:V19,$X$8)) | Y19: =IF(C19="","",COUNTIF(C19:V19,$Y$8)) | Z19: =IF(W19="","",W19*2)
A20: =Student!A14 -> 12 | B20: =IF(Student!B14="","",Student!B14) | W20: =IF(C20="","",COUNTIF(C20:V20,$W$8)) | X20: =IF(C20="","",COUNTIF(C20:V20,$X$8)) | Y20: =IF(C20="","",COUNTIF(C20:V20,$Y$8)) | Z20: =IF(W20="","",W20*2)
... A104: =Student!A98 | B104: =IF(Student!B98="","",Student!B98) | W104: =IF(C104="","",COUNTIF(C104:V104,$W$8)) | X104: =IF(C104="","",COUNTIF(C104:V104,$X$8)) | Y104: =IF(C104="","",COUNTIF(C104:V104,$Y$8)) | Z104: =IF(W104="","",W104*2)
B107: વિષય શિક્ષકની સહી | R107: આચાર્યની સહી/સિક્કા

Sheet 5 Eng (2)
A1: પરિશિષ્ટ - A
A2: રચનાત્મક મૂલ્યાંકન
B3: ધોરણ અને વર્ગ :- | C3: =School!B8 -> 5 | G3: વિષય :- | I3: અંગ્રેજી | N3: સત્ર :- | P3: દ્વિતીય | T3: વર્ષ :- | V3: =School!B9 -> 2025-'26
C5: અભ્યાસક્રમ પ્રમાણે પ્રતિનિધિત્વરૂપ હેતુઓ (મહત્તમ :- ૨૦)
C6: Cleanliness Habits | H6: Think Differently | M6: Sharing is Caring | R6: Friendship | T6: Life Skills
A7: ક્રમ | B7: વિદ્યાર્થીનું નામ | C7: Rhymes, Action Songs, Poems, Prayers યોગ્ય હાભાવ અને અભિનય સાથે ગાય છે અને તેને આગળ વધારે છે. | D7: ઉલટ પ્રશ્નો તેમજ WH Questions ના મૌખિક અને લેખિતમાં ચારથી પાંચ વાક્યમાં જવાબ આપે છે. | E7: પરિસ્થિતિ મુજબ ટૂંકી અને સરળ સૂચનાઓ સાંભળી પ્રતિભાવ આપે છે. | F7: લોનવર્ડ્સ સહિત આશરે 500 જેટલા શબ્દો જાણે અને ઉપયોગ કરે છે. | G7: સ્થાનિક પર્યાવરણમાં ઉપલબ્ધ લખાણ વાંચી શકે છે. | H7: પ્રાસ વાળા શબ્દો (Rhyming words) વાંચી ઓળખે છે અને તેની જોડ બનાવે છે. | I7: ભવિષ્યની ક્રિયાઓનું વર્ણન કરે છે. Ex. Tomorrow will be holyday. | J7: ટૂંકી પરિચિત વાર્તા, પ્રસંગ કે ઘટના સાંભળી પૂછેલી વિગતોના પ્રશ્નોના જવાબ આપે છે. | K7: શબ્દોના વાંચન અને ઉચ્ચાર વચ્ચેનો સંબંધ અને ભેદ પારખે છે. | L7: પોતાના કે માતા પિતા કે ભાઈ બહેન વિશે ચારથી પાંચ વાક્યમાં મૌખિક વર્ણન કરી શકે છે. | M7: I, me, my, myself, we, us, our જેવા સર્વનામોનો ઉપયોગ કરે છે. | N7: ચિત્રને આધારે આપેલા શબ્દોનો ઉપયોગ કરી વર્ણન કરી શકે છે. | O7: Before, After, Behind, Near, Between વગેરે જેવા શબ્દોનો ઉપયોગ કરી વસ્તુઓનો નિર્દેશ કરે છે. | P7: વસ્તુ, વ્યક્તિ, સ્થાન, વ્યવસાયકાર, પશુ પક્ષી વગેરે વિશે ચાર થી પાંચ વાક્યમાં જણાવી શકે છે. | Q7: વાક્યમાં રહેલ ક્રિયાપદ ઓળખાવી શકે છે. | R7: શબ્દ /શબ્દ સમૂહ કે વાક્યોનો અનુલેખન કરી શકે છે. | S7: ટેબલ, ગ્રાફ, બિલ, નકશા વગેરે આધારે પ્રશ્નોના જવાબ આપી શકે છે. | T7: યોગ્ય શબ્દ વડે આપેલ સંવાદ પૂર્ણ કરે છે. | U7: આપેલ શબ્દોને શબ્દકોશના ક્રમ અનુસાર ગોઠવી શકે છે. | V7: 10,000 થી વધુ અને એક કરોડથી નાના અંગ્રેજી અંકને શબ્દોમાં લખી શકે છે. | W7: સત્રાંતે વિદ્યાર્થીઓએ મેળવેલ જે તે નિશાનીઓની સંખ્યા | Z7: 40 માંથી મેળવેલ ગુણ
C8: 1 | D8: 2 | E8: 3 | F8: 4 | G8: 5 | H8: 6 | I8: 7 | J8: 8 | K8: 9 | L8: 10 | M8: 11 | N8: 12 | O8: 13 | P8: 14 | Q8: 15 | R8: 16 | S8: 17 | T8: 18 | U8: 19 | V8: 20 | W8: √ | X8: ? | Y8: ×
A9: =Student!A3 -> 1 | B9: =IF(Student!B3="","",Student!B3) | W9: =IF(C9="","",COUNTIF(C9:V9,$W$8)) | X9: =IF(C9="","",COUNTIF(C9:V9,$X$8)) | Y9: =IF(C9="","",COUNTIF(C9:V9,$Y$8)) | Z9: =IF(W9="","",W9*2)
A10: =Student!A4 -> 2 | B10: =IF(Student!B4="","",Student!B4) | W10: =IF(C10="","",COUNTIF(C10:V10,$W$8)) | X10: =IF(C10="","",COUNTIF(C10:V10,$X$8)) | Y10: =IF(C10="","",COUNTIF(C10:V10,$Y$8)) | Z10: =IF(W10="","",W10*2)
A11: =Student!A5 -> 3 | B11: =IF(Student!B5="","",Student!B5) | W11: =IF(C11="","",COUNTIF(C11:V11,$W$8)) | X11: =IF(C11="","",COUNTIF(C11:V11,$X$8)) | Y11: =IF(C11="","",COUNTIF(C11:V11,$Y$8)) | Z11: =IF(W11="","",W11*2)
A12: =Student!A6 -> 4 | B12: =IF(Student!B6="","",Student!B6) | W12: =IF(C12="","",COUNTIF(C12:V12,$W$8)) | X12: =IF(C12="","",COUNTIF(C12:V12,$X$8)) | Y12: =IF(C12="","",COUNTIF(C12:V12,$Y$8)) | Z12: =IF(W12="","",W12*2)
A13: =Student!A7 -> 5 | B13: =IF(Student!B7="","",Student!B7) | W13: =IF(C13="","",COUNTIF(C13:V13,$W$8)) | X13: =IF(C13="","",COUNTIF(C13:V13,$X$8)) | Y13: =IF(C13="","",COUNTIF(C13:V13,$Y$8)) | Z13: =IF(W13="","",W13*2)
A14: =Student!A8 -> 6 | B14: =IF(Student!B8="","",Student!B8) | W14: =IF(C14="","",COUNTIF(C14:V14,$W$8)) | X14: =IF(C14="","",COUNTIF(C14:V14,$X$8)) | Y14: =IF(C14="","",COUNTIF(C14:V14,$Y$8)) | Z14: =IF(W14="","",W14*2)
A15: =Student!A9 -> 7 | B15: =IF(Student!B9="","",Student!B9) | W15: =IF(C15="","",COUNTIF(C15:V15,$W$8)) | X15: =IF(C15="","",COUNTIF(C15:V15,$X$8)) | Y15: =IF(C15="","",COUNTIF(C15:V15,$Y$8)) | Z15: =IF(W15="","",W15*2)
A16: =Student!A10 -> 8 | B16: =IF(Student!B10="","",Student!B10) | W16: =IF(C16="","",COUNTIF(C16:V16,$W$8)) | X16: =IF(C16="","",COUNTIF(C16:V16,$X$8)) | Y16: =IF(C16="","",COUNTIF(C16:V16,$Y$8)) | Z16: =IF(W16="","",W16*2)
A17: =Student!A11 -> 9 | B17: =IF(Student!B11="","",Student!B11) | W17: =IF(C17="","",COUNTIF(C17:V17,$W$8)) | X17: =IF(C17="","",COUNTIF(C17:V17,$X$8)) | Y17: =IF(C17="","",COUNTIF(C17:V17,$Y$8)) | Z17: =IF(W17="","",W17*2)
A18: =Student!A12 -> 10 | B18: =IF(Student!B12="","",Student!B12) | W18: =IF(C18="","",COUNTIF(C18:V18,$W$8)) | X18: =IF(C18="","",COUNTIF(C18:V18,$X$8)) | Y18: =IF(C18="","",COUNTIF(C18:V18,$Y$8)) | Z18: =IF(W18="","",W18*2)
A19: =Student!A13 -> 11 | B19: =IF(Student!B13="","",Student!B13) | W19: =IF(C19="","",COUNTIF(C19:V19,$W$8)) | X19: =IF(C19="","",COUNTIF(C19:V19,$X$8)) | Y19: =IF(C19="","",COUNTIF(C19:V19,$Y$8)) | Z19: =IF(W19="","",W19*2)
A20: =Student!A14 -> 12 | B20: =IF(Student!B14="","",Student!B14) | W20: =IF(C20="","",COUNTIF(C20:V20,$W$8)) | X20: =IF(C20="","",COUNTIF(C20:V20,$X$8)) | Y20: =IF(C20="","",COUNTIF(C20:V20,$Y$8)) | Z20: =IF(W20="","",W20*2)
... A104: =Student!A98 | B104: =IF(Student!B98="","",Student!B98) | W104: =IF(C104="","",COUNTIF(C104:V104,$W$8)) | X104: =IF(C104="","",COUNTIF(C104:V104,$X$8)) | Y104: =IF(C104="","",COUNTIF(C104:V104,$Y$8)) | Z104: =IF(W104="","",W104*2)
B108: વિષય શિક્ષકની સહી | R108: આચાર્યની સહી/સિક્કા
